BEGIN:VCALENDAR
VERSION:2.0
PRODID:-//De Jungle - ECPv6.15.20//NONSGML v1.0//EN
CALSCALE:GREGORIAN
METHOD:PUBLISH
X-WR-CALNAME:De Jungle
X-ORIGINAL-URL:https://dejungle.events
X-WR-CALDESC:Evenementen voor De Jungle
REFRESH-INTERVAL;VALUE=DURATION:PT1H
X-Robots-Tag:noindex
X-PUBLISHED-TTL:PT1H
BEGIN:VTIMEZONE
TZID:Europe/Amsterdam
BEGIN:DAYLIGHT
TZOFFSETFROM:+0100
TZOFFSETTO:+0200
TZNAME:CEST
DTSTART:20190331T010000
END:DAYLIGHT
BEGIN:STANDARD
TZOFFSETFROM:+0200
TZOFFSETTO:+0100
TZNAME:CET
DTSTART:20191027T010000
END:STANDARD
BEGIN:DAYLIGHT
TZOFFSETFROM:+0100
TZOFFSETTO:+0200
TZNAME:CEST
DTSTART:20200329T010000
END:DAYLIGHT
BEGIN:STANDARD
TZOFFSETFROM:+0200
TZOFFSETTO:+0100
TZNAME:CET
DTSTART:20201025T010000
END:STANDARD
BEGIN:DAYLIGHT
TZOFFSETFROM:+0100
TZOFFSETTO:+0200
TZNAME:CEST
DTSTART:20210328T010000
END:DAYLIGHT
BEGIN:STANDARD
TZOFFSETFROM:+0200
TZOFFSETTO:+0100
TZNAME:CET
DTSTART:20211031T010000
END:STANDARD
END:VTIMEZONE
BEGIN:VEVENT
DTSTART;TZID=Europe/Amsterdam:20200801T150000
DTEND;TZID=Europe/Amsterdam:20200802T010000
DTSTAMP:20260423T044112
CREATED:20200714T142141Z
LAST-MODIFIED:20200714T143804Z
UID:907-1596294000-1596330000@dejungle.events
SUMMARY:Jungle Fever Tropical Party & BBQ
DESCRIPTION:Zaterdag 1 Augustus bestaan JammFM Radio & MasterMixers@Work 2 jaar en dat gaan we vieren!\nVan 15:00 tot in de late uurtjes brengen we de Summer Vibes naar Nederland. Dance Avenue & MasterMixers@Work live vanaf de De Jungle in Wormerveer. Kom gezellig langs. \n*** Entree is gratis*** \nSpeciaal voor deze gelegenheid wordt er een BBQ georganiseerd a € 22\,50 p.p.\nIndien u dit wilt kunt u hiervoor apart reserveren : info@paintballjungle.nl\nTel : 020-6131129 \nLine Up: *** Lounge Garden ***\nDJ Laudd | VanTonLos | DJ Eut | P.H.S.| DJ Marrekie | DJ JeanN \nLine Up: *** Jungle Fever Room ***\nDJ Laudd & Miss Believe (B2B)\nRDM & Jeronic (B2B)\nSean Hendrix & SweaterXL (B2B)\nFrenz Cook & Barry Deejay (B2B)\nMiss Believe \nKijk voor meer informatie over de lineup op JammFmRadio \nNeem je vrienden mee en kom genieten op dit spectaculaire terrein !\n*** Reserveer snel je plaats via de button in het Facebook evenement *** free entry ** vol =vol ! \nDe Jungle Fever Room heeft ruimte voor 120 personen\nDe Lounge Garden heeft ruimte voor 350 personen \n* Vanzelfsprekend voldoen wij aan de\nbenodigde hygiëne vereisten en worden de richtlijnen van het RVIM in acht genomen *
URL:https://dejungle.events/event/jungle-fever-tropical-party-bbq/
LOCATION:de Jungle\, Wandelweg 12\, Wormerveer\, Noord-Holland\, 1521 HK\, Nederland
ATTACH;FMTTYPE=image/jpeg:https://dejungle.events/wp-content/uploads/2020/07/POSTER-ONTWERP-copy.jpg
ORGANIZER;CN="Rob van Zweeden":MAILTO:info@dejungle.events
END:VEVENT
END:VCALENDAR