BEGIN:VCALENDAR
VERSION:2.0
PRODID:-//De Jungle - ECPv6.15.20//NONSGML v1.0//EN
CALSCALE:GREGORIAN
METHOD:PUBLISH
X-WR-CALNAME:De Jungle
X-ORIGINAL-URL:https://dejungle.events
X-WR-CALDESC:Evenementen voor De Jungle
REFRESH-INTERVAL;VALUE=DURATION:PT1H
X-Robots-Tag:noindex
X-PUBLISHED-TTL:PT1H
BEGIN:VTIMEZONE
TZID:Europe/Amsterdam
BEGIN:DAYLIGHT
TZOFFSETFROM:+0100
TZOFFSETTO:+0200
TZNAME:CEST
DTSTART:20190331T010000
END:DAYLIGHT
BEGIN:STANDARD
TZOFFSETFROM:+0200
TZOFFSETTO:+0100
TZNAME:CET
DTSTART:20191027T010000
END:STANDARD
BEGIN:DAYLIGHT
TZOFFSETFROM:+0100
TZOFFSETTO:+0200
TZNAME:CEST
DTSTART:20200329T010000
END:DAYLIGHT
BEGIN:STANDARD
TZOFFSETFROM:+0200
TZOFFSETTO:+0100
TZNAME:CET
DTSTART:20201025T010000
END:STANDARD
BEGIN:DAYLIGHT
TZOFFSETFROM:+0100
TZOFFSETTO:+0200
TZNAME:CEST
DTSTART:20210328T010000
END:DAYLIGHT
BEGIN:STANDARD
TZOFFSETFROM:+0200
TZOFFSETTO:+0100
TZNAME:CET
DTSTART:20211031T010000
END:STANDARD
END:VTIMEZONE
BEGIN:VEVENT
DTSTART;TZID=Europe/Amsterdam:20200807T183000
DTEND;TZID=Europe/Amsterdam:20200807T213000
DTSTAMP:20260423T061801
CREATED:20200717T090220Z
LAST-MODIFIED:20200717T093346Z
UID:933-1596825000-1596835800@dejungle.events
SUMMARY:"Freaky Jungle Circus" Dinnershow
DESCRIPTION:Hey tijger!! Zin in heerlijk eten\, te gek entertainment en feest?\nKom dan naar de Dinnershow “Freaky Jungle Circus”\, want we nemen je mee op avontuur in onze indoor Jungle\, waar je kunt genieten van een viergangen diner mèt BBQ!  \nTijdens deze reis zul je je niet vervelen\, want je wordt kostelijk vermaakt met muziek\, zang\, dans en bijzondere acts.\nHet ene moment waan je je in Hawaii\, daarna in Mexico of toch in het midden Oosten? Voor ieder wat wils en natuurlijk ook geschikt voor vegans. \nReserveren is verplicht en alleen per twee mogelijk ivm placeren en de RIVM regels! We hebben maar een beperkte beschikbaarheid! \n*Arrangement*\nTickets €44\,95\nWelkomst drankje\n4 gangen diner\nVolop entertainment \n*Info* \nDe Jungle Tuin Wormerveer\nInloop 18.30 – 19.00\nStart show 19.00\nEinde programma 21.30 \nAfter party: dansjes en drankjes in de prachtige Jungle tuin \nCoronamaatregelen van zijn van kracht! \nDresscode: kleurrijk zomers
URL:https://dejungle.events/event/freaky-jungle-circus-dinnershow/
LOCATION:de Jungle\, Wandelweg 12\, Wormerveer\, Noord-Holland\, 1521 HK\, Nederland
ATTACH;FMTTYPE=image/jpeg:https://dejungle.events/wp-content/uploads/2020/07/jungleCircus.jpg
ORGANIZER;CN="Rob van Zweeden":MAILTO:info@dejungle.events
END:VEVENT
END:VCALENDAR