BEGIN:VCALENDAR
VERSION:2.0
PRODID:-//De Jungle - ECPv6.15.20//NONSGML v1.0//EN
CALSCALE:GREGORIAN
METHOD:PUBLISH
X-WR-CALNAME:De Jungle
X-ORIGINAL-URL:https://dejungle.events
X-WR-CALDESC:Evenementen voor De Jungle
REFRESH-INTERVAL;VALUE=DURATION:PT1H
X-Robots-Tag:noindex
X-PUBLISHED-TTL:PT1H
BEGIN:VTIMEZONE
TZID:Europe/Amsterdam
BEGIN:DAYLIGHT
TZOFFSETFROM:+0100
TZOFFSETTO:+0200
TZNAME:CEST
DTSTART:20190331T010000
END:DAYLIGHT
BEGIN:STANDARD
TZOFFSETFROM:+0200
TZOFFSETTO:+0100
TZNAME:CET
DTSTART:20191027T010000
END:STANDARD
BEGIN:DAYLIGHT
TZOFFSETFROM:+0100
TZOFFSETTO:+0200
TZNAME:CEST
DTSTART:20200329T010000
END:DAYLIGHT
BEGIN:STANDARD
TZOFFSETFROM:+0200
TZOFFSETTO:+0100
TZNAME:CET
DTSTART:20201025T010000
END:STANDARD
BEGIN:DAYLIGHT
TZOFFSETFROM:+0100
TZOFFSETTO:+0200
TZNAME:CEST
DTSTART:20210328T010000
END:DAYLIGHT
BEGIN:STANDARD
TZOFFSETFROM:+0200
TZOFFSETTO:+0100
TZNAME:CET
DTSTART:20211031T010000
END:STANDARD
END:VTIMEZONE
BEGIN:VEVENT
DTSTART;TZID=Europe/Amsterdam:20200828T170000
DTEND;TZID=Europe/Amsterdam:20200828T224500
DTSTAMP:20260423T061759
CREATED:20200818T115120Z
LAST-MODIFIED:20200828T122843Z
UID:1158-1598634000-1598654700@dejungle.events
SUMMARY:Bios in De Jungle: Film onder de sterren! | Jumanji
DESCRIPTION:BIOS IN DE JUNGLE\nWaarom zou je nu binnen een film gaan kijken als dit ook bij ons in de tuin kan?\nVrijdag 28 augustus gaan wij een echte buitenbioscoop opzetten met een extra Jungle twist. Van tevoren kunnen jullie namelijk genieten van BBQ bij je eigen tafel.\nMocht je alleen voor de film willen komen is dat natuurlijk ook geen probleem. \n(Met slecht weer\, gaan we binnen door met een beperkt aantal mensen: 50 pers.) \nDE FILM\nVoor deze eerste editie in De Jungle is er natuurlijk maar 1 film echt geschikt\, en dat is Jumanji. Welcome to the Jungle !\nCheck de trailer:\n \nPROGRAMMA\n\n\nInloop: 17.00\nStart BBQ: 17.30\nStart film: 21.30\nPauze: 22.45\nEinde: 00.00\n\n\n  \nTICKETS\n\n\nBios: €10\,00 (exclusief servicekosten)\nCombi Bios + BBQ: €25\,00 (exclusief servicekosten)\n\n\n  \nBEREIKBAARHEID\nDe Jungle in Wormerveer is het beste te bereiken per trein. Eenmaal aangekomen is het 1 minuut lopen vanaf station Wormerveer. Ben je met de auto\, dan kun je die gratis parkeren bij de parking naast het station.\nAdres:\nWandelweg 12\n1521 AG Wormerveer\n  \nCOVID-19 MAATREGELEN\nWij houden ons ten alle tijden aan de huidige RIVM maatregelen. Bij binnenkomst vindt er een screening plaats.\n 
URL:https://dejungle.events/event/bios-in-de-jungle-film-onder-de-sterren-jumanji/
LOCATION:de Jungle\, Wandelweg 12\, Wormerveer\, Noord-Holland\, 1521 HK\, Nederland
ATTACH;FMTTYPE=image/jpeg:https://dejungle.events/wp-content/uploads/2020/08/Jungle-banner.jpeg
ORGANIZER;CN="Rob van Zweeden":MAILTO:info@dejungle.events
END:VEVENT
END:VCALENDAR