BEGIN:VCALENDAR
VERSION:2.0
PRODID:-//De Jungle - ECPv6.15.20//NONSGML v1.0//EN
CALSCALE:GREGORIAN
METHOD:PUBLISH
X-ORIGINAL-URL:https://dejungle.events
X-WR-CALDESC:Evenementen voor De Jungle
REFRESH-INTERVAL;VALUE=DURATION:PT1H
X-Robots-Tag:noindex
X-PUBLISHED-TTL:PT1H
BEGIN:VTIMEZONE
TZID:Europe/Amsterdam
BEGIN:DAYLIGHT
TZOFFSETFROM:+0100
TZOFFSETTO:+0200
TZNAME:CEST
DTSTART:20190331T010000
END:DAYLIGHT
BEGIN:STANDARD
TZOFFSETFROM:+0200
TZOFFSETTO:+0100
TZNAME:CET
DTSTART:20191027T010000
END:STANDARD
BEGIN:DAYLIGHT
TZOFFSETFROM:+0100
TZOFFSETTO:+0200
TZNAME:CEST
DTSTART:20200329T010000
END:DAYLIGHT
BEGIN:STANDARD
TZOFFSETFROM:+0200
TZOFFSETTO:+0100
TZNAME:CET
DTSTART:20201025T010000
END:STANDARD
BEGIN:DAYLIGHT
TZOFFSETFROM:+0100
TZOFFSETTO:+0200
TZNAME:CEST
DTSTART:20210328T010000
END:DAYLIGHT
BEGIN:STANDARD
TZOFFSETFROM:+0200
TZOFFSETTO:+0100
TZNAME:CET
DTSTART:20211031T010000
END:STANDARD
END:VTIMEZONE
BEGIN:VEVENT
DTSTART;TZID=Europe/Amsterdam:20200905T140000
DTEND;TZID=Europe/Amsterdam:20200905T210000
DTSTAMP:20260423T010612
CREATED:20200818T115958Z
LAST-MODIFIED:20200818T120032Z
UID:1161-1599314400-1599339600@dejungle.events
SUMMARY:Zomer Hitjes | de Jungle Wormerveer
DESCRIPTION:Whoops de heerlijkste zomer \nHitjes\nvan toen & nu komen naar \nDe Jungle\n\, oftewel hét mega terras in Wormerveer!  \n\nHet recept is simpel: een avond vol met de lekkerste\, blijste\, vuigste\, hipste\, heetste\, vergeetste\, foutste\, oudste of oude hitjes in nieuwe jasjes en vooral zomer hitjes!\nDus kom je laatste zomermaand gezellig samen met ons in de prachtige tuin vieren.. Enne\, het is gratis entree\, dus neem gezellig iemand mee! \n▬▬ Hitjes Line-Up ▬▬\n Binnenkort online\n▬▬ Specials ▬▬\n–  Do It Yourself BBQ (Reserveren)\n–  Laat jezelf verdwalen in onze tuin\n–  Gooi een bal met jeu de boules of pak een ander spel mee\n– & nog véél meer!\n▬▬ info: ▬▬\n► Hitjes x De Jungle Tuin\n► Datum: 5 september 2020\n► Tijd: 14:00 – 21:00 (Nog onder voorbehoud)\n► Wandelweg 12A\, Wormerveer\n► GRATIS entree\, dus neem gezellig iemand mee\n► 3 Minuutjes vanaf het treinstation Wormerveer!\n 90’s  00’s  r&b  disco  house  funk  hiphop  guilty pleasures  classics  dancehall  pop  top40  vanalleswat  inthemix \nLET OP:\nVanzelfsprekend voldoen wij aan de benodigde hygiëne vereisten en worden de richtlijnen van het RVIM in acht genomen.
URL:https://dejungle.events/event/1161/
LOCATION:de Jungle\, Wandelweg 12\, Wormerveer\, Noord-Holland\, 1521 HK\, Nederland
ATTACH;FMTTYPE=image/jpeg:https://dejungle.events/wp-content/uploads/2020/08/ZomerHitjes5sep.jpg
ORGANIZER;CN="Rob van Zweeden":MAILTO:info@dejungle.events
END:VEVENT
END:VCALENDAR