BEGIN:VCALENDAR
VERSION:2.0
PRODID:-//De Jungle - ECPv6.15.20//NONSGML v1.0//EN
CALSCALE:GREGORIAN
METHOD:PUBLISH
X-ORIGINAL-URL:https://dejungle.events
X-WR-CALDESC:Evenementen voor De Jungle
REFRESH-INTERVAL;VALUE=DURATION:PT1H
X-Robots-Tag:noindex
X-PUBLISHED-TTL:PT1H
BEGIN:VTIMEZONE
TZID:Europe/Amsterdam
BEGIN:DAYLIGHT
TZOFFSETFROM:+0100
TZOFFSETTO:+0200
TZNAME:CEST
DTSTART:20190331T010000
END:DAYLIGHT
BEGIN:STANDARD
TZOFFSETFROM:+0200
TZOFFSETTO:+0100
TZNAME:CET
DTSTART:20191027T010000
END:STANDARD
BEGIN:DAYLIGHT
TZOFFSETFROM:+0100
TZOFFSETTO:+0200
TZNAME:CEST
DTSTART:20200329T010000
END:DAYLIGHT
BEGIN:STANDARD
TZOFFSETFROM:+0200
TZOFFSETTO:+0100
TZNAME:CET
DTSTART:20201025T010000
END:STANDARD
BEGIN:DAYLIGHT
TZOFFSETFROM:+0100
TZOFFSETTO:+0200
TZNAME:CEST
DTSTART:20210328T010000
END:DAYLIGHT
BEGIN:STANDARD
TZOFFSETFROM:+0200
TZOFFSETTO:+0100
TZNAME:CET
DTSTART:20211031T010000
END:STANDARD
END:VTIMEZONE
BEGIN:VEVENT
DTSTART;TZID=Europe/Amsterdam:20200906T140000
DTEND;TZID=Europe/Amsterdam:20200906T230000
DTSTAMP:20260423T010614
CREATED:20200819T135320Z
LAST-MODIFIED:20200822T112229Z
UID:1175-1599400800-1599433200@dejungle.events
SUMMARY:Beats & Bites
DESCRIPTION:Come to the COOKOUT!\n  \nWe’re throwing an old school BLOCK JAM in NL’s biggest BACKYARD. Old school VIBES\, BEATS & BITES! \nDe ultieme zomerse throwback verzorgen we tijdens Beats & Bites. Met de nostalgische sounds van Biggie tot Aaliyah en van Wu-Tang tot Ms. Lauryn Hill. Kom genieten van deze classics. Laid back\, sippin’ on some GIN & JUICE. \nWe garanderen je de skills van de old days\, toen de DJ nog geen USB-stick maar collectie vinyl platen mee de DJ-booth in nam. Turntablism\, scratches en MC’s. We brengen de Bronx naar de randstad\, een tribute naar waar het allemaal begon! \nDe BBQ gaat aan! Terwijl de DJ platen draait\, draai jij je eigen burger om op het vuur. Je kiest voor een vlees\, vis en/of vegan menu samengesteld door onze chef. \n  \nIt’s like a Jungle sometimes!\n  \nGenoeg ruimte voor jou en je huishouden op het grootste terras van Nederland: de Jungle in Wormerveer. Aan de rand van de Zaanstreek\, nog geen half uurtje van Amsterdam. Je hebt hier alle vrijheid om je (corona-proof) uit te leven met activiteiten als voetbal\, volleybal en super soakers. \n  \nBBQ MENU \nT.b.a. but definitely the good stuff ! \n  \nTAFEL RESERVEREN \nReserveren doe je voor je hele gezelschap van 2\, 4\, 6\, 8 of 10 personen. \nTickets: €11 p.p. (incl. € 1.00 administration fee) \nBBQ Menu €26 p.p. inclusief toegang (incl. € 1.00 administration fee). \nReserveer op tijd! \n  \nHUISREGELS \nBezoekers dienen zoveel mogelijk te blijven zitten. Helaas mag er niet worden gedanst of teveel worden gelopen. Vanwege de vele controles zullen wij hier streng op moeten zijn. \nBij binnenkomst doen we een korte gezondheidscheck bestaande uit een aantal vragen. Blijk je toch niet optimaal gezond\, dan vragen we je naar huis te gaan. \n\nBen je verkouden of heb je koorts? Blijf thuis.\nHoud 1\,5 meter afstand tot andere gasten en onze medewerkers.\nVanaf 3 personen zit je 1\,5 m uit elkaar (huishoudens uitgezonderd).\nLopen is niet toegestaan (toiletbezoek uitgezonderd).\nHoud rekening met elkaar en respecteer anderen.\nWas je handen goed en regelmatig\, desinfecteren aanbevolen.
URL:https://dejungle.events/event/beats-bites/
LOCATION:de Jungle\, Wandelweg 12\, Wormerveer\, Noord-Holland\, 1521 HK\, Nederland
ATTACH;FMTTYPE=image/jpeg:https://dejungle.events/wp-content/uploads/2020/08/INSTA_GRID_2.jpg
ORGANIZER;CN="Rob van Zweeden":MAILTO:info@dejungle.events
END:VEVENT
END:VCALENDAR