BEGIN:VCALENDAR
VERSION:2.0
PRODID:-//De Jungle - ECPv6.15.20//NONSGML v1.0//EN
CALSCALE:GREGORIAN
METHOD:PUBLISH
X-WR-CALNAME:De Jungle
X-ORIGINAL-URL:https://dejungle.events
X-WR-CALDESC:Evenementen voor De Jungle
REFRESH-INTERVAL;VALUE=DURATION:PT1H
X-Robots-Tag:noindex
X-PUBLISHED-TTL:PT1H
BEGIN:VTIMEZONE
TZID:Europe/Amsterdam
BEGIN:DAYLIGHT
TZOFFSETFROM:+0100
TZOFFSETTO:+0200
TZNAME:CEST
DTSTART:20190331T010000
END:DAYLIGHT
BEGIN:STANDARD
TZOFFSETFROM:+0200
TZOFFSETTO:+0100
TZNAME:CET
DTSTART:20191027T010000
END:STANDARD
BEGIN:DAYLIGHT
TZOFFSETFROM:+0100
TZOFFSETTO:+0200
TZNAME:CEST
DTSTART:20200329T010000
END:DAYLIGHT
BEGIN:STANDARD
TZOFFSETFROM:+0200
TZOFFSETTO:+0100
TZNAME:CET
DTSTART:20201025T010000
END:STANDARD
BEGIN:DAYLIGHT
TZOFFSETFROM:+0100
TZOFFSETTO:+0200
TZNAME:CEST
DTSTART:20210328T010000
END:DAYLIGHT
BEGIN:STANDARD
TZOFFSETFROM:+0200
TZOFFSETTO:+0100
TZNAME:CET
DTSTART:20211031T010000
END:STANDARD
END:VTIMEZONE
BEGIN:VEVENT
DTSTART;TZID=Europe/Amsterdam:20200920T120000
DTEND;TZID=Europe/Amsterdam:20200921T020000
DTSTAMP:20260423T010609
CREATED:20200915T113851Z
LAST-MODIFIED:20200915T123656Z
UID:1446-1600603200-1600653600@dejungle.events
SUMMARY:Classics party and Music Bingo
DESCRIPTION:Zaterdag & Zondag 18 & 19 september is er weer gezellig entertainment in de Jungle\nLekker chillen & loungen op je favoriete verborgen plekjes in de Jungle tuin de bamboe tuin\, het BBQ terras bij de sisha lounge of in het Grand Cafe of in de nieuwe theater club. Binnen & Buiten genoeg te zien en te beleven. Onze DJ’s draaien alle oude hits uit de jaren 80 & 90 en aan elk tafeltje binnen of buiten zijn de heerlijke Hamburger Specials te bestellen met de QR code.\nAlleen dit weekend een leuke en gezellige music bingo in de avond aanvang om 20.00 uur in de club ruimte.\nDeelname is slechts 5 euro.\nGezelligheid en leuke prijzen te winnen zoals een speciaal bier pakket en een escape room bezoek voor 4 personen.\nde Jungle :\nGrandcafe\, Club Ruimte\, BBQ Terras\, Jungle Tuin\, Bamboe Tuin.\nLekker eten en drinken & chillen en ruimte voor elk feestje.\nLive DJ’s en heel veel activiteiten.\nAltijd iets te beleven in de Jungle\nGood Vibes\, Good Music\, Good Food \nWe beginnen het feestelijke gebeuren om 20.00 uur. Reserveer via Facebook. \n 
URL:https://dejungle.events/event/classics-party-and-music-bingo/
LOCATION:de Jungle\, Wandelweg 12\, Wormerveer\, Noord-Holland\, 1521 HK\, Nederland
ATTACH;FMTTYPE=image/jpeg:https://dejungle.events/wp-content/uploads/2020/09/back-to-the-nineties-EVENT-copy.jpg
ORGANIZER;CN="Rob van Zweeden":MAILTO:info@dejungle.events
END:VEVENT
END:VCALENDAR