BEGIN:VCALENDAR
VERSION:2.0
PRODID:-//De Jungle - ECPv6.15.20//NONSGML v1.0//EN
CALSCALE:GREGORIAN
METHOD:PUBLISH
X-WR-CALNAME:De Jungle
X-ORIGINAL-URL:https://dejungle.events
X-WR-CALDESC:Evenementen voor De Jungle
REFRESH-INTERVAL;VALUE=DURATION:PT1H
X-Robots-Tag:noindex
X-PUBLISHED-TTL:PT1H
BEGIN:VTIMEZONE
TZID:Europe/Amsterdam
BEGIN:DAYLIGHT
TZOFFSETFROM:+0100
TZOFFSETTO:+0200
TZNAME:CEST
DTSTART:20190331T010000
END:DAYLIGHT
BEGIN:STANDARD
TZOFFSETFROM:+0200
TZOFFSETTO:+0100
TZNAME:CET
DTSTART:20191027T010000
END:STANDARD
BEGIN:DAYLIGHT
TZOFFSETFROM:+0100
TZOFFSETTO:+0200
TZNAME:CEST
DTSTART:20200329T010000
END:DAYLIGHT
BEGIN:STANDARD
TZOFFSETFROM:+0200
TZOFFSETTO:+0100
TZNAME:CET
DTSTART:20201025T010000
END:STANDARD
BEGIN:DAYLIGHT
TZOFFSETFROM:+0100
TZOFFSETTO:+0200
TZNAME:CEST
DTSTART:20210328T010000
END:DAYLIGHT
BEGIN:STANDARD
TZOFFSETFROM:+0200
TZOFFSETTO:+0100
TZNAME:CET
DTSTART:20211031T010000
END:STANDARD
END:VTIMEZONE
BEGIN:VEVENT
DTSTART;TZID=Europe/Amsterdam:20201010T140000
DTEND;TZID=Europe/Amsterdam:20201010T235900
DTSTAMP:20260422T212608
CREATED:20200915T122710Z
LAST-MODIFIED:20200915T122711Z
UID:1451-1602338400-1602374340@dejungle.events
SUMMARY:de Jungle live weekend
DESCRIPTION:Elke vrijdag\, zaterdag en zondag is er iets leuks te beleven. Er is geen reden meer om je in het weekend te vervelen of thuis te zitten.\nEr is elk weekend live entertainment en/of dj’s om even lekker in beweging te komen met je voeten.\nElk weekend kun je je met vrienden en/of familie vermaken met games.\nNeem een lurk van onze Shisha waterpijp en/of kies van ons uitgebreide en unieke lijst van (speciaal-)bieren.\nCombineer het met onze mexicaanse specialiteiten of onze heerlijke burgers.\nGa lekker naar buiten om op elkaar of targets te schieten\, als je dat wilt. \nElke vrijdag\, zaterdag en zondag is er iets leuks te beleven. Er is geen reden meer om je in het weekend te vervelen of thuis te zitten.\nKom ook naar deJungle.
URL:https://dejungle.events/event/de-jungle-live-weekend/
LOCATION:de Jungle\, Wandelweg 12\, Wormerveer\, Noord-Holland\, 1521 HK\, Nederland
ATTACH;FMTTYPE=image/jpeg:https://dejungle.events/wp-content/uploads/2020/09/voorkantFlyer2020.jpg
ORGANIZER;CN="Rob van Zweeden":MAILTO:info@dejungle.events
END:VEVENT
END:VCALENDAR