BEGIN:VCALENDAR
VERSION:2.0
PRODID:-//De Jungle - ECPv6.15.20//NONSGML v1.0//EN
CALSCALE:GREGORIAN
METHOD:PUBLISH
X-WR-CALNAME:De Jungle
X-ORIGINAL-URL:https://dejungle.events
X-WR-CALDESC:Evenementen voor De Jungle
REFRESH-INTERVAL;VALUE=DURATION:PT1H
X-Robots-Tag:noindex
X-PUBLISHED-TTL:PT1H
BEGIN:VTIMEZONE
TZID:Europe/Amsterdam
BEGIN:DAYLIGHT
TZOFFSETFROM:+0100
TZOFFSETTO:+0200
TZNAME:CEST
DTSTART:20200329T010000
END:DAYLIGHT
BEGIN:STANDARD
TZOFFSETFROM:+0200
TZOFFSETTO:+0100
TZNAME:CET
DTSTART:20201025T010000
END:STANDARD
BEGIN:DAYLIGHT
TZOFFSETFROM:+0100
TZOFFSETTO:+0200
TZNAME:CEST
DTSTART:20210328T010000
END:DAYLIGHT
BEGIN:STANDARD
TZOFFSETFROM:+0200
TZOFFSETTO:+0100
TZNAME:CET
DTSTART:20211031T010000
END:STANDARD
BEGIN:DAYLIGHT
TZOFFSETFROM:+0100
TZOFFSETTO:+0200
TZNAME:CEST
DTSTART:20220327T010000
END:DAYLIGHT
BEGIN:STANDARD
TZOFFSETFROM:+0200
TZOFFSETTO:+0100
TZNAME:CET
DTSTART:20221030T010000
END:STANDARD
END:VTIMEZONE
BEGIN:VEVENT
DTSTART;TZID=Europe/Amsterdam:20210618T120000
DTEND;TZID=Europe/Amsterdam:20210620T180000
DTSTAMP:20260422T062430
CREATED:20210608T134133Z
LAST-MODIFIED:20210608T134150Z
UID:1614-1624017600-1624212000@dejungle.events
SUMMARY:De Jungle Leipe Kunst Party 18\, 19 en 20 juni
DESCRIPTION:Breng je verfspuitbussen\, kwasten en stiften mee en kom bij De Jungle kunst maken. Gezellig samen mooie dingen maken op onze basis schildermuur\, tafel of pallet-stoel. Haal de kunstenaar in je naar boven. Maak van De Jungle een omgeving waar je je meer thuis voelt dan ooit tevoren! \nDit weekend organiseren we onze eigen originele De Jungle Leipe Kunst Party !!\nKom ook gezellig langs. Je bent het hele weekend welkom! Geen entree! Doe mee of geniet gewoon in ons mega grote terras! We zetten een lekker muziekje op. We hebben de lekkerste drankjes en hapjes in de aanbieding en op dit soort feestjes ontmoet je de leukste mensen. Neem je vrienden en vriendinnen mee en ga er lekker op uit. Kom ook naar De Jungle Leipe Kunst Party. \n\n			\n		\n				\n					\n				\n					\n					Bring your spraycans\n					\n				\n					\n				\n					\n					Bring your brushes\n					\n				\n					\n				\n					\n					Be creative\n					\n				\n					\n				\n					\n					Make art\n					\n				\n					\n				\n					\n					And relax\n					\n				\n					\n				\n					\n					Day and night
URL:https://dejungle.events/event/de-jungle-leipe-kunst-party-18-19-en-20-juni/
LOCATION:de Jungle\, Wandelweg 12\, Wormerveer\, Noord-Holland\, 1521 HK\, Nederland
ORGANIZER;CN="Rob van Zweeden":MAILTO:info@dejungle.events
END:VEVENT
BEGIN:VEVENT
DTSTART;TZID=Europe/Amsterdam:20210619T100000
DTEND;TZID=Europe/Amsterdam:20210619T104500
DTSTAMP:20260422T062430
CREATED:20210608T132450Z
LAST-MODIFIED:20210608T132450Z
UID:1597-1624096800-1624099500@dejungle.events
SUMMARY:Sportclinics in de Jungle Tuin: Zumba in de Bamboe Tuin op 19 juni
DESCRIPTION:We organiseren in samenwerking met de Persoonlijke trainers van “MJack” van 10:00 tot 10:45 een fantastische Zumba clinic. Zumba is een fitness programma dat Latin en internationale muziek combineert met dance moves. Zumba routines gebruikt interval training — wisselend tussen snelle en langzame rithmes — om cardiovasculaire fitheid te verbeteren. Goed voor hart en bloedvaten dus. Voel je jong en gezond. Doe mee en meld je aan voor De Jungle Zumba Workout!\nAfhankelijk van de Corona maatregelen en aanmeldingen zijn er mogelijkheden voor kleine groepjes om op onze sportweide en tussen het bamboe in de Bamboe tuin voor Yoga een Zumba clinic\, of een  Kickboxtraining.\nKom deze Zaterdag gezellig meedoen met de Zumba les van Minerva midden in de Bamboe tuin ! \nDe kosten voor deze training is slechts €10\,- p.p. (incl. Koffie\, Thee of een sapje na afloop !)\nOm je aan te melden bel je met 020 – 613 11 29 of vul het formulier in: \n\n\n                \n                        \n                            Sport clinics\n                            Meld je aan voor de sport clinics van De Jungle \n                        \n                        Kies je sport clinic*Kies je sport clinic.\nGeorganiseerd door De Jungle i.s.m. MJack.Kies je sport clinicdo 25 november Zumba workout ( € 10\,- )zo 28 november Zumba workout ( € 10\,- )do 2 december Zumba workout ( € 10\,- )zo 5 december Zumba workout ( € 10\,- )do 9 december Zumba workout ( € 10\,- )zo 12 december Zumba workout ( € 10\,- )Naam*\n                            \n                            \n                                                    Voornaam\n                                                    \n                                                \n                            \n                            \n                                                            Achternaam\n                                                            \n                                                        \n                            \n                        Adres    \n                    \n                         \n                                        Straat + huisnummer\n                                        \n                                   \n                                    Plaats\n                                    \n                                 \n                                    Postcode\n                                    \n                                \n                    \n                E-mailadres*\n                            \n                        TelefoonCAPTCHA
URL:https://dejungle.events/event/sportclinics-in-de-jungle-tuin-zumba-in-de-bamboe-tuin-op-19-juni/
LOCATION:de Jungle\, Wandelweg 12\, Wormerveer\, Noord-Holland\, 1521 HK\, Nederland
ORGANIZER;CN="Rob van Zweeden":MAILTO:info@dejungle.events
END:VEVENT
END:VCALENDAR