BEGIN:VCALENDAR
VERSION:2.0
PRODID:-//De Jungle - ECPv6.15.20//NONSGML v1.0//EN
CALSCALE:GREGORIAN
METHOD:PUBLISH
X-WR-CALNAME:De Jungle
X-ORIGINAL-URL:https://dejungle.events
X-WR-CALDESC:Evenementen voor De Jungle
REFRESH-INTERVAL;VALUE=DURATION:PT1H
X-Robots-Tag:noindex
X-PUBLISHED-TTL:PT1H
BEGIN:VTIMEZONE
TZID:Europe/Amsterdam
BEGIN:DAYLIGHT
TZOFFSETFROM:+0100
TZOFFSETTO:+0200
TZNAME:CEST
DTSTART:20200329T010000
END:DAYLIGHT
BEGIN:STANDARD
TZOFFSETFROM:+0200
TZOFFSETTO:+0100
TZNAME:CET
DTSTART:20201025T010000
END:STANDARD
BEGIN:DAYLIGHT
TZOFFSETFROM:+0100
TZOFFSETTO:+0200
TZNAME:CEST
DTSTART:20210328T010000
END:DAYLIGHT
BEGIN:STANDARD
TZOFFSETFROM:+0200
TZOFFSETTO:+0100
TZNAME:CET
DTSTART:20211031T010000
END:STANDARD
BEGIN:DAYLIGHT
TZOFFSETFROM:+0100
TZOFFSETTO:+0200
TZNAME:CEST
DTSTART:20220327T010000
END:DAYLIGHT
BEGIN:STANDARD
TZOFFSETFROM:+0200
TZOFFSETTO:+0100
TZNAME:CET
DTSTART:20221030T010000
END:STANDARD
END:VTIMEZONE
BEGIN:VEVENT
DTSTART;TZID=Europe/Amsterdam:20210914T180000
DTEND;TZID=Europe/Amsterdam:20210914T230000
DTSTAMP:20260422T011408
CREATED:20210914T133337Z
LAST-MODIFIED:20210914T134707Z
UID:1769-1631642400-1631660400@dejungle.events
SUMMARY:Salsa tuesday 14 september
DESCRIPTION:Nieuw bij De Salsa Jungle in Wormerveer! \nTijdens een lopende cursus kost een proefles €3\,-. Je doet dan op proef mee met een van de reguliere lessen. Echter bieden wij voor het begin van elke cursus een gratis proefles aan. Dan kan je kosteloos en vrijblijvend kennis maken met ons\, de locatie\, je potentiele mede cursisten en niet te vergeten de dansstijl en het niveau. \nElke dinsdag voor\, tijdens en na de salsa les vrij dansen in de tweede zaal met de lekkerste salsa en bachaata muziek om al je nieuwe en oude combinaties op te oefenen. \nDaarnaast kun je genieten van onze overheerlijke Mexicaanse keuken en lekker exotische drankjes\, smoothies en cocktails. \nParkeren (bij het station) is gratis. Daar vandaan loop je 3 minuten naar de Salsa Jungle (Gratis entree op de dinsdag). \nGraag tot dans in De Salsa Jungle!
URL:https://dejungle.events/event/salsa-tuesday-14-september/
LOCATION:de Jungle\, Wandelweg 12\, Wormerveer\, Noord-Holland\, 1521 HK\, Nederland
END:VEVENT
END:VCALENDAR