BEGIN:VCALENDAR
VERSION:2.0
PRODID:-//De Jungle - ECPv6.15.20//NONSGML v1.0//EN
CALSCALE:GREGORIAN
METHOD:PUBLISH
X-WR-CALNAME:De Jungle
X-ORIGINAL-URL:https://dejungle.events
X-WR-CALDESC:Evenementen voor De Jungle
REFRESH-INTERVAL;VALUE=DURATION:PT1H
X-Robots-Tag:noindex
X-PUBLISHED-TTL:PT1H
BEGIN:VTIMEZONE
TZID:Europe/Amsterdam
BEGIN:DAYLIGHT
TZOFFSETFROM:+0100
TZOFFSETTO:+0200
TZNAME:CEST
DTSTART:20200329T010000
END:DAYLIGHT
BEGIN:STANDARD
TZOFFSETFROM:+0200
TZOFFSETTO:+0100
TZNAME:CET
DTSTART:20201025T010000
END:STANDARD
BEGIN:DAYLIGHT
TZOFFSETFROM:+0100
TZOFFSETTO:+0200
TZNAME:CEST
DTSTART:20210328T010000
END:DAYLIGHT
BEGIN:STANDARD
TZOFFSETFROM:+0200
TZOFFSETTO:+0100
TZNAME:CET
DTSTART:20211031T010000
END:STANDARD
BEGIN:DAYLIGHT
TZOFFSETFROM:+0100
TZOFFSETTO:+0200
TZNAME:CEST
DTSTART:20220327T010000
END:DAYLIGHT
BEGIN:STANDARD
TZOFFSETFROM:+0200
TZOFFSETTO:+0100
TZNAME:CET
DTSTART:20221030T010000
END:STANDARD
END:VTIMEZONE
BEGIN:VEVENT
DTSTART;TZID=Europe/Amsterdam:20211005T180000
DTEND;TZID=Europe/Amsterdam:20211005T230000
DTSTAMP:20260421T201129
CREATED:20210928T120657Z
LAST-MODIFIED:20210928T122326Z
UID:1801-1633456800-1633474800@dejungle.events
SUMMARY:Salsa Tuesday
DESCRIPTION:Nieuw bij De Salsa Jungle in Wormerveer! \nElke dinsdag voor\, tijdens en na de salsa les vrij dansen in de tweede zaal. DJ El Che zorgt voor de lekkerste salsa en bachata muziek om al je nieuwe en oude combinaties op te oefenen. \nDaarnaast kun je genieten van onze overheerlijke Mexicaanse keuken en lekker exotische drankjes\, smoothies en cocktails. \nParkeren (bij het station) is gratis. Daar vandaan loop je 3 minuten naar de Salsa Jungle (Gratis entree op de dinsdag). \nGraag tot dans in De Salsa Jungle!
URL:https://dejungle.events/event/salsa-tuesday/
LOCATION:de Jungle\, Wandelweg 12\, Wormerveer\, Noord-Holland\, 1521 HK\, Nederland
END:VEVENT
BEGIN:VEVENT
DTSTART;TZID=Europe/Amsterdam:20211005T190000
DTEND;TZID=Europe/Amsterdam:20211005T200000
DTSTAMP:20260421T201129
CREATED:20210928T121005Z
LAST-MODIFIED:20210928T121005Z
UID:1803-1633460400-1633464000@dejungle.events
SUMMARY:Salsa Beginners 1
DESCRIPTION:Hier leer je de fundamentals om op elk feest salsa te kunnen dansen. Blijf na de les gezellig hangen voor onze wekelijkse practice night.
URL:https://dejungle.events/event/salsa-beginners-1/
LOCATION:de Jungle\, Wandelweg 12\, Wormerveer\, Noord-Holland\, 1521 HK\, Nederland
END:VEVENT
BEGIN:VEVENT
DTSTART;TZID=Europe/Amsterdam:20211005T200000
DTEND;TZID=Europe/Amsterdam:20211005T210000
DTSTAMP:20260421T201129
CREATED:20210928T121427Z
LAST-MODIFIED:20210928T121427Z
UID:1805-1633464000-1633467600@dejungle.events
SUMMARY:Rueda Open level
DESCRIPTION:Ramiro & Femke\nBij rueda dans je met meerdere koppels in een cirkel. Op commando van de groepsleider doe je tegelijk de zelfde figuren en wissel je continu door van partner.
URL:https://dejungle.events/event/rueda-open-level/
LOCATION:de Jungle\, Wandelweg 12\, Wormerveer\, Noord-Holland\, 1521 HK\, Nederland
END:VEVENT
END:VCALENDAR