BEGIN:VCALENDAR
VERSION:2.0
PRODID:-//De Jungle - ECPv6.15.20//NONSGML v1.0//EN
CALSCALE:GREGORIAN
METHOD:PUBLISH
X-WR-CALNAME:De Jungle
X-ORIGINAL-URL:https://dejungle.events
X-WR-CALDESC:Evenementen voor De Jungle
REFRESH-INTERVAL;VALUE=DURATION:PT1H
X-Robots-Tag:noindex
X-PUBLISHED-TTL:PT1H
BEGIN:VTIMEZONE
TZID:Europe/Amsterdam
BEGIN:DAYLIGHT
TZOFFSETFROM:+0100
TZOFFSETTO:+0200
TZNAME:CEST
DTSTART:20200329T010000
END:DAYLIGHT
BEGIN:STANDARD
TZOFFSETFROM:+0200
TZOFFSETTO:+0100
TZNAME:CET
DTSTART:20201025T010000
END:STANDARD
BEGIN:DAYLIGHT
TZOFFSETFROM:+0100
TZOFFSETTO:+0200
TZNAME:CEST
DTSTART:20210328T010000
END:DAYLIGHT
BEGIN:STANDARD
TZOFFSETFROM:+0200
TZOFFSETTO:+0100
TZNAME:CET
DTSTART:20211031T010000
END:STANDARD
BEGIN:DAYLIGHT
TZOFFSETFROM:+0100
TZOFFSETTO:+0200
TZNAME:CEST
DTSTART:20220327T010000
END:DAYLIGHT
BEGIN:STANDARD
TZOFFSETFROM:+0200
TZOFFSETTO:+0100
TZNAME:CET
DTSTART:20221030T010000
END:STANDARD
END:VTIMEZONE
BEGIN:VEVENT
DTSTART;TZID=Europe/Amsterdam:20211031T160000
DTEND;TZID=Europe/Amsterdam:20211031T233000
DTSTAMP:20260421T201131
CREATED:20211012T142627Z
LAST-MODIFIED:20211012T142750Z
UID:1883-1635696000-1635723000@dejungle.events
SUMMARY:Latin Sunday Halloween Edition
DESCRIPTION:Durf jij het aan om op deze griezelig gezellige practice night je beste moves en je engste outfit mee te nemen?\nKoop dan snel je kaartje voor slechts €10\,- in de voorverkoop. Aan de deur en vanaf 30 oktober kosten de kaartjes € 12\,50. \nDe persoon met het beste costume staat een spannende prijs te wachten. \nRestaurant\, Terras & buiten (afhankelijk van het weer)\n16:00 DJ Tommy Tequila Latin Mix\n17:00 DJ Tommy Tequila 80% Salsa & 20% Mix\n18:00 DJ Antonito 80% Salsa & 20% Mix\n19:30 DJ Antonito 80% Bachata & 20% Kizomba\n20:30 DJ Sigi 50% Bachata & 50% Kizomba\n23:00 Einde \nGrote zaal\n19:30 DJ Sigi 100% Salsa\n20:30 DJ El Che 100% Salsa\n23:00 Einde
URL:https://dejungle.events/event/latin-sunday-halloween-edition/
LOCATION:de Jungle\, Wandelweg 12\, Wormerveer\, Noord-Holland\, 1521 HK\, Nederland
ATTACH;FMTTYPE=image/jpeg:https://dejungle.events/wp-content/uploads/2021/10/latinSunday311021.jpg
ORGANIZER;CN="Rob van Zweeden":MAILTO:info@dejungle.events
END:VEVENT
BEGIN:VEVENT
DTSTART;TZID=Europe/Amsterdam:20211031T163000
DTEND;TZID=Europe/Amsterdam:20211031T173000
DTSTAMP:20260421T201131
CREATED:20211019T111927Z
LAST-MODIFIED:20211019T111927Z
UID:1909-1635697800-1635701400@dejungle.events
SUMMARY:Bachata Beginners 2
DESCRIPTION:Bachata komt uit de Dominicaanse Republiek. Met de tijd zijn er verschillende stromingen ontstaan. Wij focussen ons op bachata moderna. Een vermenging van technieken uit verschillende dansen met en traditionele bachata. Nieuwsgierig? Meld je aan! \nRamiro & Carla
URL:https://dejungle.events/event/bachata-beginners-2-2/
LOCATION:de Jungle\, Wandelweg 12\, Wormerveer\, Noord-Holland\, 1521 HK\, Nederland
END:VEVENT
BEGIN:VEVENT
DTSTART;TZID=Europe/Amsterdam:20211031T180000
DTEND;TZID=Europe/Amsterdam:20211031T190000
DTSTAMP:20260421T201131
CREATED:20211019T112230Z
LAST-MODIFIED:20211019T112230Z
UID:1911-1635703200-1635706800@dejungle.events
SUMMARY:Bachata Beginners 3
DESCRIPTION:Voor deze les is ervaring vereist! Je mag deelnemen indien je salsa beginners 2 hebt afgerond. \nDe Salsa Jungle – Grote zaal (Room 1) – Wormerveer \nRamiro & Carla
URL:https://dejungle.events/event/bachata-beginners-3/
LOCATION:de Jungle\, Wandelweg 12\, Wormerveer\, Noord-Holland\, 1521 HK\, Nederland
END:VEVENT
END:VCALENDAR