BEGIN:VCALENDAR
VERSION:2.0
PRODID:-//De Jungle - ECPv6.15.20//NONSGML v1.0//EN
CALSCALE:GREGORIAN
METHOD:PUBLISH
X-WR-CALNAME:De Jungle
X-ORIGINAL-URL:https://dejungle.events
X-WR-CALDESC:Evenementen voor De Jungle
REFRESH-INTERVAL;VALUE=DURATION:PT1H
X-Robots-Tag:noindex
X-PUBLISHED-TTL:PT1H
BEGIN:VTIMEZONE
TZID:Europe/Amsterdam
BEGIN:DAYLIGHT
TZOFFSETFROM:+0100
TZOFFSETTO:+0200
TZNAME:CEST
DTSTART:20200329T010000
END:DAYLIGHT
BEGIN:STANDARD
TZOFFSETFROM:+0200
TZOFFSETTO:+0100
TZNAME:CET
DTSTART:20201025T010000
END:STANDARD
BEGIN:DAYLIGHT
TZOFFSETFROM:+0100
TZOFFSETTO:+0200
TZNAME:CEST
DTSTART:20210328T010000
END:DAYLIGHT
BEGIN:STANDARD
TZOFFSETFROM:+0200
TZOFFSETTO:+0100
TZNAME:CET
DTSTART:20211031T010000
END:STANDARD
BEGIN:DAYLIGHT
TZOFFSETFROM:+0100
TZOFFSETTO:+0200
TZNAME:CEST
DTSTART:20220327T010000
END:DAYLIGHT
BEGIN:STANDARD
TZOFFSETFROM:+0200
TZOFFSETTO:+0100
TZNAME:CET
DTSTART:20221030T010000
END:STANDARD
END:VTIMEZONE
BEGIN:VEVENT
DTSTART;TZID=Europe/Amsterdam:20211106T180000
DTEND;TZID=Europe/Amsterdam:20211106T234500
DTSTAMP:20260421T215038
CREATED:20211022T150114Z
LAST-MODIFIED:20211109T133037Z
UID:1924-1636221600-1636242300@dejungle.events
SUMMARY:Dias De Los Muertos
DESCRIPTION:Bedankt voor een top weekend!\n \n\n\nDia de Los Muertos – Dag van de Doden\nDe Dag van de Doden is van oorsprong een Mexicaanse feest en herdenkingsdag. Deze traditie gaat nu ook plaatsvinden in de Jungle van af 2 November a.s.\nVanaf 2 November is er een mogelijkheid om een korte tocht door de Jungle te volgen tussen 18.00uur en 20.00uur en een bezoek te brengen aan een echt Mexicaans Altaar om naar wens een offer te brengen aan de doden. \nZoals in Mexico gebruikelijk is kan er op een traditioneel versierd 3 traps altaar voedsel\, drank en gebruiksvoorwerpen worden geofferd en er is plaats voor foto’s en kaarsen. \n6 NOVEMBER: Inauguration Altar 18.00uur\nOp 6 November kan de wandeltocht en een bezoek aan het Altaar worden gebracht tot 23.45uur. Om 19.00uur zal er een origineel Mexicaanse Ceremonie worden gehouden door de Mexicaanse dansgroep : Grupo de Danza Xochiquetzal\nmet aansluitend een interpretatie van “LA LLORONA” door Mariana Castellanos. \n6 NOVEMBER: A CELEBRATION OF LIFE 19.00uur\nNa de Altaar Ceremonie volgt een korte route naar de Celebration of Life met optredens van Mexicaanse Mariachi “LOS TARASCOS” en de band “GRUPO LOS MOSQUITOS”. Ondertussen in de grote zaal Live DJ’s uit binnen en buitenland om de beste dance-hits te laten horen voor de doden en de levenden.\nOp het terras en in het restaurant heerlijke Mexicaanse gerechtjes en dranken. \nDe wandeltocht en bezoek aan het kerkhof en Altaar is GRATIS en kan op 2\, 3\, 4 & 5 November tussen 18.00 – 20.00 \nDe Ceremonie en het Feest is op 6 November tussen 18.00 – 23.45 Tickets 15\,00 gratis! (vul hieronder het formulier in) \nHERKOMST & TRADITIE\nDe dag van de doden vindt zijn oorsprong in de tradities van de Meso Amerikaanse Indianenvolkeren zoals de Azteken\, de Maya en de Purépecha. Het was gebruikelijk de voorouders te vereren dmv. rituelen & symbolen. Door o.a schedels en voorwerpen ten toon te stellen werden dood en wedergeboorte gesymboliseerd.\nDe festiviteiten waren gewijd aan de godin Mictecacihuatl (de dame van de doden) en vonden de gehele maand Augustus plaats.\nNa de komst van de Spanjaarden werd de viering van de Dag van de Doden verplaatst naar Allerheiligen en Allerzielen ( 1 & 2 November) en geassimileerd door het Christendom. \n \n\n\n                \n                        \n                            Dias De Los Muertos\n                            Vul dit formulier in voor de Dias De Los Muertos Ceremonie en Feest op 6 november. \n                        \n                        Naam*\n                            \n                            \n                                                    \n                                                    Voornaam\n                                                \n                            \n                            \n                                                    \n                                                    Achternaam\n                                                \n                            \n                        E-mailadres*\n                            \n                        Dias De Los Muertos Ceremonie en feest\n					\n					\n						Prijs:\n						\n					\n					\n				CAPTCHA
URL:https://dejungle.events/event/dias-de-los-muertos/
LOCATION:de Jungle\, Wandelweg 12\, Wormerveer\, Noord-Holland\, 1521 HK\, Nederland
ATTACH;FMTTYPE=image/jpeg:https://dejungle.events/wp-content/uploads/2021/10/diasdelosmuertos2.jpg
ORGANIZER;CN="Rob van Zweeden":MAILTO:info@dejungle.events
END:VEVENT
END:VCALENDAR