BEGIN:VCALENDAR
VERSION:2.0
PRODID:-//De Jungle - ECPv6.15.20//NONSGML v1.0//EN
CALSCALE:GREGORIAN
METHOD:PUBLISH
X-WR-CALNAME:De Jungle
X-ORIGINAL-URL:https://dejungle.events
X-WR-CALDESC:Evenementen voor De Jungle
REFRESH-INTERVAL;VALUE=DURATION:PT1H
X-Robots-Tag:noindex
X-PUBLISHED-TTL:PT1H
BEGIN:VTIMEZONE
TZID:Europe/Amsterdam
BEGIN:DAYLIGHT
TZOFFSETFROM:+0100
TZOFFSETTO:+0200
TZNAME:CEST
DTSTART:20200329T010000
END:DAYLIGHT
BEGIN:STANDARD
TZOFFSETFROM:+0200
TZOFFSETTO:+0100
TZNAME:CET
DTSTART:20201025T010000
END:STANDARD
BEGIN:DAYLIGHT
TZOFFSETFROM:+0100
TZOFFSETTO:+0200
TZNAME:CEST
DTSTART:20210328T010000
END:DAYLIGHT
BEGIN:STANDARD
TZOFFSETFROM:+0200
TZOFFSETTO:+0100
TZNAME:CET
DTSTART:20211031T010000
END:STANDARD
BEGIN:DAYLIGHT
TZOFFSETFROM:+0100
TZOFFSETTO:+0200
TZNAME:CEST
DTSTART:20220327T010000
END:DAYLIGHT
BEGIN:STANDARD
TZOFFSETFROM:+0200
TZOFFSETTO:+0100
TZNAME:CET
DTSTART:20221030T010000
END:STANDARD
END:VTIMEZONE
BEGIN:VEVENT
DTSTART;TZID=Europe/Amsterdam:20211114T103000
DTEND;TZID=Europe/Amsterdam:20211114T111500
DTSTAMP:20260421T215153
CREATED:20211102T120041Z
LAST-MODIFIED:20211102T120140Z
UID:1944-1636885800-1636888500@dejungle.events
SUMMARY:Sportclinics bij De Jungle: Zumba op 14 november
DESCRIPTION:We organiseren in samenwerking met de Persoonlijke trainers van “MJack” van 10:30 tot 11:15 een fantastische Zumba clinic. Zumba is een fitness programma dat Latin en internationale muziek combineert met dance moves. Zumba routines gebruikt interval training — wisselend tussen snelle en langzame ritmes — om cardiovasculaire fitheid te verbeteren. Goed voor hart en bloedvaten dus. Voel je jong en gezond. Doe mee en meld je aan voor De Jungle Zumba Workout!\nEr zijn mogelijkheden voor kleine groepjes om op onze sportweide en tussen het bamboe in de Bamboe tuin voor een Zumba clinic.\nKom deze zondag gezellig meedoen met de Zumba les van Minerva midden in de Bamboe tuin ! \nDe kosten voor deze training is slechts €10\,- p.p.\nWil je extra korting? Er is een 10-rittenkaart verkrijgbaar. Vraag Minerva de details. \nOm je aan te melden bel je met 020 – 613 11 29 of vul het formulier in: \n\n\n                \n                        \n                            Sport clinics\n                            Meld je aan voor de sport clinics van De Jungle \n                        \n                        Kies je sport clinic*Kies je sport clinic.\nGeorganiseerd door De Jungle i.s.m. MJack.Kies je sport clinicdo 25 november Zumba workout ( € 10\,- )zo 28 november Zumba workout ( € 10\,- )do 2 december Zumba workout ( € 10\,- )zo 5 december Zumba workout ( € 10\,- )do 9 december Zumba workout ( € 10\,- )zo 12 december Zumba workout ( € 10\,- )Naam*\n                            \n                            \n                                                    Voornaam\n                                                    \n                                                \n                            \n                            \n                                                            Achternaam\n                                                            \n                                                        \n                            \n                        Adres    \n                    \n                         \n                                        Straat + huisnummer\n                                        \n                                   \n                                    Plaats\n                                    \n                                 \n                                    Postcode\n                                    \n                                \n                    \n                E-mailadres*\n                            \n                        TelefoonCAPTCHA
URL:https://dejungle.events/event/sportclinics-bij-de-jungle-zumba-op-14-november/
LOCATION:de Jungle\, Wandelweg 12\, Wormerveer\, Noord-Holland\, 1521 HK\, Nederland
END:VEVENT
BEGIN:VEVENT
DTSTART;TZID=Europe/Amsterdam:20211114T160000
DTEND;TZID=Europe/Amsterdam:20211114T233000
DTSTAMP:20260421T215154
CREATED:20211102T125723Z
LAST-MODIFIED:20211102T125723Z
UID:1973-1636905600-1636932600@dejungle.events
SUMMARY:Latin Sunday
DESCRIPTION:Lieve dansers\,\nOok deze week weer gezelligheid in De Salsa Jungle. Onze DJ’s El Che\, Sigi\, Antonito en Tommy Tequila zullen je verwennen met het beste van salsa\, bachata en kizomba. We beginnen om 16:00 en gaan dansen tot 23:00.\nKoop nu je kaartje voor €5\,- in de voorverkoop. Vanaf zondag en aan de deur kosten ze €7\,50. \nTimetable:\nRestaurant\, Terras & buiten (afhankelijk van het weer)
URL:https://dejungle.events/event/latin-sunday-5/
LOCATION:de Jungle\, Wandelweg 12\, Wormerveer\, Noord-Holland\, 1521 HK\, Nederland
ATTACH;FMTTYPE=image/png:https://dejungle.events/wp-content/uploads/2021/09/Zondag-Algemeen-1024x536-1.png
ORGANIZER;CN="Rob van Zweeden":MAILTO:info@dejungle.events
END:VEVENT
BEGIN:VEVENT
DTSTART;TZID=Europe/Amsterdam:20211114T163000
DTEND;TZID=Europe/Amsterdam:20211114T173000
DTSTAMP:20260421T215154
CREATED:20211102T132306Z
LAST-MODIFIED:20211102T132306Z
UID:1977-1636907400-1636911000@dejungle.events
SUMMARY:Bachata Beginners 2
DESCRIPTION:Bachata komt uit de Dominicaanse Republiek. Met de tijd zijn er verschillende stromingen ontstaan. Wij focussen ons op bachata moderna. Een vermenging van technieken uit verschillende dansen met en traditionele bachata. Nieuwsgierig? Meld je aan!
URL:https://dejungle.events/event/bachata-beginners-2-4/
LOCATION:de Jungle\, Wandelweg 12\, Wormerveer\, Noord-Holland\, 1521 HK\, Nederland
END:VEVENT
BEGIN:VEVENT
DTSTART;TZID=Europe/Amsterdam:20211114T180000
DTEND;TZID=Europe/Amsterdam:20211114T190000
DTSTAMP:20260421T215154
CREATED:20211102T132708Z
LAST-MODIFIED:20211102T132708Z
UID:1979-1636912800-1636916400@dejungle.events
SUMMARY:Salsa Beginners 3
DESCRIPTION:Voor deze les is ervaring vereist! Je mag deelnemen indien je salsa beginners 2 hebt afgerond. \nDe Salsa Jungle – Grote zaal (Room 1) – Wormerveer \nRamiro & Carla
URL:https://dejungle.events/event/salsa-beginners-3-2/
LOCATION:de Jungle\, Wandelweg 12\, Wormerveer\, Noord-Holland\, 1521 HK\, Nederland
END:VEVENT
END:VCALENDAR