BEGIN:VCALENDAR
VERSION:2.0
PRODID:-//De Jungle - ECPv6.15.20//NONSGML v1.0//EN
CALSCALE:GREGORIAN
METHOD:PUBLISH
X-WR-CALNAME:De Jungle
X-ORIGINAL-URL:https://dejungle.events
X-WR-CALDESC:Evenementen voor De Jungle
REFRESH-INTERVAL;VALUE=DURATION:PT1H
X-Robots-Tag:noindex
X-PUBLISHED-TTL:PT1H
BEGIN:VTIMEZONE
TZID:Europe/Amsterdam
BEGIN:DAYLIGHT
TZOFFSETFROM:+0100
TZOFFSETTO:+0200
TZNAME:CEST
DTSTART:20200329T010000
END:DAYLIGHT
BEGIN:STANDARD
TZOFFSETFROM:+0200
TZOFFSETTO:+0100
TZNAME:CET
DTSTART:20201025T010000
END:STANDARD
BEGIN:DAYLIGHT
TZOFFSETFROM:+0100
TZOFFSETTO:+0200
TZNAME:CEST
DTSTART:20210328T010000
END:DAYLIGHT
BEGIN:STANDARD
TZOFFSETFROM:+0200
TZOFFSETTO:+0100
TZNAME:CET
DTSTART:20211031T010000
END:STANDARD
BEGIN:DAYLIGHT
TZOFFSETFROM:+0100
TZOFFSETTO:+0200
TZNAME:CEST
DTSTART:20220327T010000
END:DAYLIGHT
BEGIN:STANDARD
TZOFFSETFROM:+0200
TZOFFSETTO:+0100
TZNAME:CET
DTSTART:20221030T010000
END:STANDARD
END:VTIMEZONE
BEGIN:VEVENT
DTSTART;TZID=Europe/Amsterdam:20211212T120000
DTEND;TZID=Europe/Amsterdam:20211212T130000
DTSTAMP:20260421T143947
CREATED:20211130T120520Z
LAST-MODIFIED:20211130T120607Z
UID:2077-1639310400-1639314000@dejungle.events
SUMMARY:Bachata Beginners 3
DESCRIPTION:Bachata Beginners 3 \nVoor deze les is ervaring vereist! Je mag deelnemen indien je salsa beginners 2 hebt afgerond. \nDe Salsa Jungle – Grote zaal (Room 1) – Wormerveer \nRamiro & Carla
URL:https://dejungle.events/event/bachata-beginners-3-3/
LOCATION:de Jungle\, Wandelweg 12\, Wormerveer\, Noord-Holland\, 1521 HK\, Nederland
END:VEVENT
BEGIN:VEVENT
DTSTART;TZID=Europe/Amsterdam:20211212T120000
DTEND;TZID=Europe/Amsterdam:20211212T170000
DTSTAMP:20260421T143947
CREATED:20211123T124618Z
LAST-MODIFIED:20211130T120148Z
UID:2058-1639310400-1639328400@dejungle.events
SUMMARY:Latin Sunday
DESCRIPTION:Lieve dansers\,\nOok deze week weer gezelligheid in De Salsa Jungle. Onze DJ’s El Che\, Sigi\, Antonito en Tommy Tequila zullen je verwennen met het beste van salsa\, bachata en kizomba. We beginnen om 12:00 \nTimetable:\nRestaurant\, Terras & buiten (afhankelijk van het weer)
URL:https://dejungle.events/event/latin-sunday-9/
LOCATION:de Jungle\, Wandelweg 12\, Wormerveer\, Noord-Holland\, 1521 HK\, Nederland
ATTACH;FMTTYPE=image/png:https://dejungle.events/wp-content/uploads/2021/09/Zondag-Algemeen-1024x536-1.png
ORGANIZER;CN="Rob van Zweeden":MAILTO:info@dejungle.events
END:VEVENT
BEGIN:VEVENT
DTSTART;TZID=Europe/Amsterdam:20211212T130000
DTEND;TZID=Europe/Amsterdam:20211212T140000
DTSTAMP:20260421T143947
CREATED:20211130T120905Z
LAST-MODIFIED:20211130T120905Z
UID:2079-1639314000-1639317600@dejungle.events
SUMMARY:Salsa Intermediate 1
DESCRIPTION:Ramiro & Carla
URL:https://dejungle.events/event/salsa-intermediate-1/
LOCATION:de Jungle\, Wandelweg 12\, Wormerveer\, Noord-Holland\, 1521 HK\, Nederland
END:VEVENT
END:VCALENDAR