BEGIN:VCALENDAR
VERSION:2.0
PRODID:-//De Jungle - ECPv6.15.20//NONSGML v1.0//EN
CALSCALE:GREGORIAN
METHOD:PUBLISH
X-WR-CALNAME:De Jungle
X-ORIGINAL-URL:https://dejungle.events
X-WR-CALDESC:Evenementen voor De Jungle
REFRESH-INTERVAL;VALUE=DURATION:PT1H
X-Robots-Tag:noindex
X-PUBLISHED-TTL:PT1H
BEGIN:VTIMEZONE
TZID:Europe/Amsterdam
BEGIN:DAYLIGHT
TZOFFSETFROM:+0100
TZOFFSETTO:+0200
TZNAME:CEST
DTSTART:20200329T010000
END:DAYLIGHT
BEGIN:STANDARD
TZOFFSETFROM:+0200
TZOFFSETTO:+0100
TZNAME:CET
DTSTART:20201025T010000
END:STANDARD
BEGIN:DAYLIGHT
TZOFFSETFROM:+0100
TZOFFSETTO:+0200
TZNAME:CEST
DTSTART:20210328T010000
END:DAYLIGHT
BEGIN:STANDARD
TZOFFSETFROM:+0200
TZOFFSETTO:+0100
TZNAME:CET
DTSTART:20211031T010000
END:STANDARD
BEGIN:DAYLIGHT
TZOFFSETFROM:+0100
TZOFFSETTO:+0200
TZNAME:CEST
DTSTART:20220327T010000
END:DAYLIGHT
BEGIN:STANDARD
TZOFFSETFROM:+0200
TZOFFSETTO:+0100
TZNAME:CET
DTSTART:20221030T010000
END:STANDARD
END:VTIMEZONE
BEGIN:VEVENT
DTSTART;TZID=Europe/Amsterdam:20211218T120000
DTEND;TZID=Europe/Amsterdam:20211218T130000
DTSTAMP:20260421T143828
CREATED:20211130T121632Z
LAST-MODIFIED:20211130T121632Z
UID:2082-1639828800-1639832400@dejungle.events
SUMMARY:Salsa Beginners 1
DESCRIPTION:Voor deelname aan deze cursus is geen ervaring nodig. We leren je stap voor stap de basis van het alleen en samen salsa dansen. \nBlijf na de les gezellig hangen voor onze wekelijkse practice. \nRamiro & Femke
URL:https://dejungle.events/event/salsa-beginners-1-11/
LOCATION:de Jungle\, Wandelweg 12\, Wormerveer\, Noord-Holland\, 1521 HK\, Nederland
END:VEVENT
BEGIN:VEVENT
DTSTART;TZID=Europe/Amsterdam:20211218T120000
DTEND;TZID=Europe/Amsterdam:20211218T170000
DTSTAMP:20260421T143828
CREATED:20211214T120214Z
LAST-MODIFIED:20211214T120729Z
UID:2130-1639828800-1639846800@dejungle.events
SUMMARY:Muziek Bingo\, Quiz & Karaoke Fun middag
DESCRIPTION:December is *Winterwonderland* in de Jungle! \nOnze nieuwe “Winter Programma” gaat op Zaterdag 18 December van start.\nWe bieden een heerlijke brunch\, lunch\, of borrel.\nDit in combinatie met een 90’s Muziek Bingo\, een Pub Quiz.\nAansluitend kan er naar hartenlust losgegaan worden op onze nieuwe KARAOKE podium. \nNaast onze heerlijke bekende gerechten introduceren we wat nieuwe gerechtjes speciaal voor deze middag.\nUiteraard is er warme Chocolademelk\, of Glühwein\, en hebben we Marshmallows voor bij het kampvuur. \nIn de grote zaal is een te gekke Kerst Photo Booth om uw eigen kerst shoot te maken. We hebben wat passende kleding e.d.\nMary van Glitterplanet komt iedereen mooi maken\, en in kerstsfeer schminken indien gewenst. \nReserveer nu een tafel met het hele gezin\, vrienden\, of uw bedrijf.\nDe Bingo kaarten kosten 5\,00 p/st\nEr zijn te gekke prijzen te winnen. \nElk programma is apart te reserveren.\nMet\, of zonder lunch\, of een compleet eigen groep (v.a. 20 pers.)\nOp elke gewenste dag in December\, maar we zullen dit ook de komende winter regelmatig herhalen.\nGezelligheid in de Jungle deze winter!\nReserveren: 020 6131129
URL:https://dejungle.events/event/muziek-bingo-quiz-karaoke-fun-middag/
LOCATION:de Jungle\, Wandelweg 12\, Wormerveer\, Noord-Holland\, 1521 HK\, Nederland
ATTACH;FMTTYPE=image/jpeg:https://dejungle.events/wp-content/uploads/2021/12/muziekbingo.jpg
END:VEVENT
BEGIN:VEVENT
DTSTART;TZID=Europe/Amsterdam:20211218T130000
DTEND;TZID=Europe/Amsterdam:20211218T140000
DTSTAMP:20260421T143828
CREATED:20211130T122827Z
LAST-MODIFIED:20211130T122827Z
UID:2085-1639832400-1639836000@dejungle.events
SUMMARY:Salsa Beginners 2
DESCRIPTION:Om deel te kunnen nemen aan deze cursus moet je minimaal een cursus salsa beginners 1 hebben afgerond bij ons of een andere dansschool. Je leert nieuwe moves waarbij een soliede basispas vereist is. \nRamiro & Femke
URL:https://dejungle.events/event/salsa-beginners-2-10/
LOCATION:de Jungle\, Wandelweg 12\, Wormerveer\, Noord-Holland\, 1521 HK\, Nederland
END:VEVENT
BEGIN:VEVENT
DTSTART;TZID=Europe/Amsterdam:20211218T140000
DTEND;TZID=Europe/Amsterdam:20211218T150000
DTSTAMP:20260421T143828
CREATED:20211130T123444Z
LAST-MODIFIED:20211130T123444Z
UID:2087-1639836000-1639839600@dejungle.events
SUMMARY:Salsa Beginners 3
DESCRIPTION:Voor deze les is ervaring vereist! Je mag deelnemen indien je salsa beginners 2 hebt afgerond. \nDe Salsa Jungle – Grote zaal (Room 1) – Wormerveer \nRamiro & Carla
URL:https://dejungle.events/event/salsa-beginners-3-5/
LOCATION:de Jungle\, Wandelweg 12\, Wormerveer\, Noord-Holland\, 1521 HK\, Nederland
END:VEVENT
END:VCALENDAR