BEGIN:VCALENDAR
VERSION:2.0
PRODID:-//De Jungle - ECPv6.15.20//NONSGML v1.0//EN
CALSCALE:GREGORIAN
METHOD:PUBLISH
X-WR-CALNAME:De Jungle
X-ORIGINAL-URL:https://dejungle.events
X-WR-CALDESC:Evenementen voor De Jungle
REFRESH-INTERVAL;VALUE=DURATION:PT1H
X-Robots-Tag:noindex
X-PUBLISHED-TTL:PT1H
BEGIN:VTIMEZONE
TZID:Europe/Amsterdam
BEGIN:DAYLIGHT
TZOFFSETFROM:+0100
TZOFFSETTO:+0200
TZNAME:CEST
DTSTART:20210328T010000
END:DAYLIGHT
BEGIN:STANDARD
TZOFFSETFROM:+0200
TZOFFSETTO:+0100
TZNAME:CET
DTSTART:20211031T010000
END:STANDARD
BEGIN:DAYLIGHT
TZOFFSETFROM:+0100
TZOFFSETTO:+0200
TZNAME:CEST
DTSTART:20220327T010000
END:DAYLIGHT
BEGIN:STANDARD
TZOFFSETFROM:+0200
TZOFFSETTO:+0100
TZNAME:CET
DTSTART:20221030T010000
END:STANDARD
BEGIN:DAYLIGHT
TZOFFSETFROM:+0100
TZOFFSETTO:+0200
TZNAME:CEST
DTSTART:20230326T010000
END:DAYLIGHT
BEGIN:STANDARD
TZOFFSETFROM:+0200
TZOFFSETTO:+0100
TZNAME:CET
DTSTART:20231029T010000
END:STANDARD
END:VTIMEZONE
BEGIN:VEVENT
DTSTART;TZID=Europe/Amsterdam:20220101T120000
DTEND;TZID=Europe/Amsterdam:20220101T130000
DTSTAMP:20260421T125713
CREATED:20211130T131719Z
LAST-MODIFIED:20211130T131719Z
UID:2111-1641038400-1641042000@dejungle.events
SUMMARY:Salsa Beginners 1
DESCRIPTION:Voor deelname aan deze cursus is geen ervaring nodig. We leren je stap voor stap de basis van het alleen en samen salsa dansen. \nBlijf na de les gezellig hangen voor onze wekelijkse practice. \nRamiro & Femke
URL:https://dejungle.events/event/salsa-beginners-1-13/
LOCATION:de Jungle\, Wandelweg 12\, Wormerveer\, Noord-Holland\, 1521 HK\, Nederland
END:VEVENT
BEGIN:VEVENT
DTSTART;TZID=Europe/Amsterdam:20220101T130000
DTEND;TZID=Europe/Amsterdam:20220101T140000
DTSTAMP:20260421T125713
CREATED:20211130T132057Z
LAST-MODIFIED:20211130T132057Z
UID:2114-1641042000-1641045600@dejungle.events
SUMMARY:Salsa Beginners 2
DESCRIPTION:Om deel te kunnen nemen aan deze cursus moet je minimaal een cursus salsa beginners 1 hebben afgerond bij ons of een andere dansschool. Je leert nieuwe moves waarbij een soliede basispas vereist is. \nRamiro & Femke
URL:https://dejungle.events/event/salsa-beginners-2-12/
LOCATION:de Jungle\, Wandelweg 12\, Wormerveer\, Noord-Holland\, 1521 HK\, Nederland
END:VEVENT
BEGIN:VEVENT
DTSTART;TZID=Europe/Amsterdam:20220101T140000
DTEND;TZID=Europe/Amsterdam:20220101T150000
DTSTAMP:20260421T125713
CREATED:20211130T132421Z
LAST-MODIFIED:20211130T132421Z
UID:2118-1641045600-1641049200@dejungle.events
SUMMARY:Salsa Beginners 3
DESCRIPTION:Voor deze les is ervaring vereist! Je mag deelnemen indien je salsa beginners 2 hebt afgerond. \nDe Salsa Jungle – Grote zaal (Room 1) – Wormerveer \nRamiro & Carla
URL:https://dejungle.events/event/salsa-beginners-3-7/
LOCATION:de Jungle\, Wandelweg 12\, Wormerveer\, Noord-Holland\, 1521 HK\, Nederland
END:VEVENT
END:VCALENDAR