BEGIN:VCALENDAR
VERSION:2.0
PRODID:-//De Jungle - ECPv6.15.20//NONSGML v1.0//EN
CALSCALE:GREGORIAN
METHOD:PUBLISH
X-ORIGINAL-URL:https://dejungle.events
X-WR-CALDESC:Evenementen voor De Jungle
REFRESH-INTERVAL;VALUE=DURATION:PT1H
X-Robots-Tag:noindex
X-PUBLISHED-TTL:PT1H
BEGIN:VTIMEZONE
TZID:Europe/Amsterdam
BEGIN:DAYLIGHT
TZOFFSETFROM:+0100
TZOFFSETTO:+0200
TZNAME:CEST
DTSTART:20210328T010000
END:DAYLIGHT
BEGIN:STANDARD
TZOFFSETFROM:+0200
TZOFFSETTO:+0100
TZNAME:CET
DTSTART:20211031T010000
END:STANDARD
BEGIN:DAYLIGHT
TZOFFSETFROM:+0100
TZOFFSETTO:+0200
TZNAME:CEST
DTSTART:20220327T010000
END:DAYLIGHT
BEGIN:STANDARD
TZOFFSETFROM:+0200
TZOFFSETTO:+0100
TZNAME:CET
DTSTART:20221030T010000
END:STANDARD
BEGIN:DAYLIGHT
TZOFFSETFROM:+0100
TZOFFSETTO:+0200
TZNAME:CEST
DTSTART:20230326T010000
END:DAYLIGHT
BEGIN:STANDARD
TZOFFSETFROM:+0200
TZOFFSETTO:+0100
TZNAME:CET
DTSTART:20231029T010000
END:STANDARD
END:VTIMEZONE
BEGIN:VEVENT
DTSTART;TZID=Europe/Amsterdam:20220317T183000
DTEND;TZID=Europe/Amsterdam:20220317T193000
DTSTAMP:20260421T090013
CREATED:20220308T115250Z
LAST-MODIFIED:20220308T115250Z
UID:2334-1647541800-1647545400@dejungle.events
SUMMARY:Salsa Beginners 1
DESCRIPTION:Ramiro Cairo \nMeld je nu aan!
URL:https://dejungle.events/event/salsa-beginners-1-15/
LOCATION:de Jungle\, Wandelweg 12\, Wormerveer\, Noord-Holland\, 1521 HK\, Nederland
END:VEVENT
BEGIN:VEVENT
DTSTART;TZID=Europe/Amsterdam:20220317T193000
DTEND;TZID=Europe/Amsterdam:20220317T203000
DTSTAMP:20260421T090013
CREATED:20220308T115518Z
LAST-MODIFIED:20220308T115518Z
UID:2336-1647545400-1647549000@dejungle.events
SUMMARY:Salsa Beginners 2
DESCRIPTION:Ramiro & Femke \nMeld je nu aan!
URL:https://dejungle.events/event/salsa-beginners-2-14/
LOCATION:de Jungle\, Wandelweg 12\, Wormerveer\, Noord-Holland\, 1521 HK\, Nederland
END:VEVENT
BEGIN:VEVENT
DTSTART;TZID=Europe/Amsterdam:20220317T203000
DTEND;TZID=Europe/Amsterdam:20220317T213000
DTSTAMP:20260421T090013
CREATED:20220308T115749Z
LAST-MODIFIED:20220308T115749Z
UID:2338-1647549000-1647552600@dejungle.events
SUMMARY:Salsa Beginners 3
DESCRIPTION:Ramiro & Femke \nMeld je nu aan!
URL:https://dejungle.events/event/salsa-beginners-3-9/
LOCATION:de Jungle\, Wandelweg 12\, Wormerveer\, Noord-Holland\, 1521 HK\, Nederland
END:VEVENT
END:VCALENDAR