BEGIN:VCALENDAR
VERSION:2.0
PRODID:-//De Jungle - ECPv6.15.20//NONSGML v1.0//EN
CALSCALE:GREGORIAN
METHOD:PUBLISH
X-ORIGINAL-URL:https://dejungle.events
X-WR-CALDESC:Evenementen voor De Jungle
REFRESH-INTERVAL;VALUE=DURATION:PT1H
X-Robots-Tag:noindex
X-PUBLISHED-TTL:PT1H
BEGIN:VTIMEZONE
TZID:Europe/Amsterdam
BEGIN:DAYLIGHT
TZOFFSETFROM:+0100
TZOFFSETTO:+0200
TZNAME:CEST
DTSTART:20210328T010000
END:DAYLIGHT
BEGIN:STANDARD
TZOFFSETFROM:+0200
TZOFFSETTO:+0100
TZNAME:CET
DTSTART:20211031T010000
END:STANDARD
BEGIN:DAYLIGHT
TZOFFSETFROM:+0100
TZOFFSETTO:+0200
TZNAME:CEST
DTSTART:20220327T010000
END:DAYLIGHT
BEGIN:STANDARD
TZOFFSETFROM:+0200
TZOFFSETTO:+0100
TZNAME:CET
DTSTART:20221030T010000
END:STANDARD
BEGIN:DAYLIGHT
TZOFFSETFROM:+0100
TZOFFSETTO:+0200
TZNAME:CEST
DTSTART:20230326T010000
END:DAYLIGHT
BEGIN:STANDARD
TZOFFSETFROM:+0200
TZOFFSETTO:+0100
TZNAME:CET
DTSTART:20231029T010000
END:STANDARD
END:VTIMEZONE
BEGIN:VEVENT
DTSTART;TZID=Europe/Amsterdam:20220319T160000
DTEND;TZID=Europe/Amsterdam:20220319T235900
DTSTAMP:20260421T090155
CREATED:20220219T142807Z
LAST-MODIFIED:20220302T182222Z
UID:2226-1647705600-1647734340@dejungle.events
SUMMARY:Techno2B
DESCRIPTION:Zet 19 maart maar snel in je agenda!!!\nHet gezelligste maandelijkse TECHNO feestje waar alle leeftijden heerlijk door elkaar staan te dansen en te feesten.  \nGenre: Tech house/Techno/Progressive \nLine-up:\nRonald Pronk\, Fab Epix\, DJ Buddy Suwijn\, IVON & Djélica  \nEr zijn 350 kaartjes en OP=OP\nWees er snel bij want onze feestjes zijn populair!!  \nKoop je kaartje nu snel en veilig via deze link!\nTickets: https://www.techno2b.nl/atde-jungle \nPrijs:\n€20\,- p.p. + €1\,- servicekosten\nop=op \nIn het restaurant zijn heerlijke hamburgers en andere hapjes te koop voor de hongerigen onder ons!
URL:https://dejungle.events/event/techno2b/
LOCATION:de Jungle\, Wandelweg 12\, Wormerveer\, Noord-Holland\, 1521 HK\, Nederland
ATTACH;FMTTYPE=image/jpeg:https://dejungle.events/wp-content/uploads/2022/02/techno2b-19mrt.jpg
END:VEVENT
END:VCALENDAR