BEGIN:VCALENDAR
VERSION:2.0
PRODID:-//De Jungle - ECPv6.15.20//NONSGML v1.0//EN
CALSCALE:GREGORIAN
METHOD:PUBLISH
X-ORIGINAL-URL:https://dejungle.events
X-WR-CALDESC:Evenementen voor De Jungle
REFRESH-INTERVAL;VALUE=DURATION:PT1H
X-Robots-Tag:noindex
X-PUBLISHED-TTL:PT1H
BEGIN:VTIMEZONE
TZID:Europe/Amsterdam
BEGIN:DAYLIGHT
TZOFFSETFROM:+0100
TZOFFSETTO:+0200
TZNAME:CEST
DTSTART:20210328T010000
END:DAYLIGHT
BEGIN:STANDARD
TZOFFSETFROM:+0200
TZOFFSETTO:+0100
TZNAME:CET
DTSTART:20211031T010000
END:STANDARD
BEGIN:DAYLIGHT
TZOFFSETFROM:+0100
TZOFFSETTO:+0200
TZNAME:CEST
DTSTART:20220327T010000
END:DAYLIGHT
BEGIN:STANDARD
TZOFFSETFROM:+0200
TZOFFSETTO:+0100
TZNAME:CET
DTSTART:20221030T010000
END:STANDARD
BEGIN:DAYLIGHT
TZOFFSETFROM:+0100
TZOFFSETTO:+0200
TZNAME:CEST
DTSTART:20230326T010000
END:DAYLIGHT
BEGIN:STANDARD
TZOFFSETFROM:+0200
TZOFFSETTO:+0100
TZNAME:CET
DTSTART:20231029T010000
END:STANDARD
END:VTIMEZONE
BEGIN:VEVENT
DTSTART;TZID=Europe/Amsterdam:20220324T180000
DTEND;TZID=Europe/Amsterdam:20220324T190000
DTSTAMP:20260421T090300
CREATED:20220308T122812Z
LAST-MODIFIED:20220308T122812Z
UID:2350-1648144800-1648148400@dejungle.events
SUMMARY:Salsa Beginners 1 Tryout!
DESCRIPTION:Ramiro & Claudia \nMeld je nu aan!
URL:https://dejungle.events/event/salsa-beginners-1-tryout/
LOCATION:de Jungle\, Wandelweg 12\, Wormerveer\, Noord-Holland\, 1521 HK\, Nederland
END:VEVENT
BEGIN:VEVENT
DTSTART;TZID=Europe/Amsterdam:20220324T190000
DTEND;TZID=Europe/Amsterdam:20220324T200000
DTSTAMP:20260421T090300
CREATED:20220308T130433Z
LAST-MODIFIED:20220308T130811Z
UID:2352-1648148400-1648152000@dejungle.events
SUMMARY:Salsa Beginners 2 Tryout
DESCRIPTION:Ramiro & Femke \nMeld je nu aan!
URL:https://dejungle.events/event/salsa-beginners-2-15/
LOCATION:de Jungle\, Wandelweg 12\, Wormerveer\, Noord-Holland\, 1521 HK\, Nederland
END:VEVENT
BEGIN:VEVENT
DTSTART;TZID=Europe/Amsterdam:20220324T200000
DTEND;TZID=Europe/Amsterdam:20220324T210000
DTSTAMP:20260421T090300
CREATED:20220308T130720Z
LAST-MODIFIED:20220308T130855Z
UID:2355-1648152000-1648155600@dejungle.events
SUMMARY:Salsa Beginners 3 Tryout
DESCRIPTION:Ramiro & Femke \nMeld je nu aan!
URL:https://dejungle.events/event/salsa-beginners-3-10/
LOCATION:de Jungle\, Wandelweg 12\, Wormerveer\, Noord-Holland\, 1521 HK\, Nederland
END:VEVENT
BEGIN:VEVENT
DTSTART;TZID=Europe/Amsterdam:20220324T210000
DTEND;TZID=Europe/Amsterdam:20220324T220000
DTSTAMP:20260421T090300
CREATED:20220308T131115Z
LAST-MODIFIED:20220308T131115Z
UID:2359-1648155600-1648159200@dejungle.events
SUMMARY:Salsa Intermediate 1
DESCRIPTION:Ramiro & Britt \nMeld je nu aan!
URL:https://dejungle.events/event/salsa-intermediate-1-7/
LOCATION:de Jungle\, Wandelweg 12\, Wormerveer\, Noord-Holland\, 1521 HK\, Nederland
END:VEVENT
END:VCALENDAR