BEGIN:VCALENDAR
VERSION:2.0
PRODID:-//De Jungle - ECPv6.15.20//NONSGML v1.0//EN
CALSCALE:GREGORIAN
METHOD:PUBLISH
X-WR-CALNAME:De Jungle
X-ORIGINAL-URL:https://dejungle.events
X-WR-CALDESC:Evenementen voor De Jungle
REFRESH-INTERVAL;VALUE=DURATION:PT1H
X-Robots-Tag:noindex
X-PUBLISHED-TTL:PT1H
BEGIN:VTIMEZONE
TZID:Europe/Amsterdam
BEGIN:DAYLIGHT
TZOFFSETFROM:+0100
TZOFFSETTO:+0200
TZNAME:CEST
DTSTART:20210328T010000
END:DAYLIGHT
BEGIN:STANDARD
TZOFFSETFROM:+0200
TZOFFSETTO:+0100
TZNAME:CET
DTSTART:20211031T010000
END:STANDARD
BEGIN:DAYLIGHT
TZOFFSETFROM:+0100
TZOFFSETTO:+0200
TZNAME:CEST
DTSTART:20220327T010000
END:DAYLIGHT
BEGIN:STANDARD
TZOFFSETFROM:+0200
TZOFFSETTO:+0100
TZNAME:CET
DTSTART:20221030T010000
END:STANDARD
BEGIN:DAYLIGHT
TZOFFSETFROM:+0100
TZOFFSETTO:+0200
TZNAME:CEST
DTSTART:20230326T010000
END:DAYLIGHT
BEGIN:STANDARD
TZOFFSETFROM:+0200
TZOFFSETTO:+0100
TZNAME:CET
DTSTART:20231029T010000
END:STANDARD
END:VTIMEZONE
BEGIN:VEVENT
DTSTART;TZID=Europe/Amsterdam:20220408T180000
DTEND;TZID=Europe/Amsterdam:20220408T235900
DTSTAMP:20260421T070914
CREATED:20220405T121338Z
LAST-MODIFIED:20220405T121522Z
UID:2411-1649440800-1649462340@dejungle.events
SUMMARY:WeeKeND
DESCRIPTION:Gezellig met vrienden een hapje\, drankje en dansje doen.\nHet weekend kan beginnen.\nDeacon Cross  & Miss Dominguez  & T-Gray  nemen je B2B mee in een 6 uur durende reis. En deze wil je niet missen. Reserveer snel je tafeltje en eet en dans met ons mee.\nGenre: deep\, melodieuze en progressief\nTijd : 18:00 tot 00:00\nDe Jungle is geopend vanaf 17:00\nEntree : Gratis\nTafelreservering: 06 21174228
URL:https://dejungle.events/event/weekend/
LOCATION:de Jungle\, Wandelweg 12\, Wormerveer\, Noord-Holland\, 1521 HK\, Nederland
END:VEVENT
END:VCALENDAR