BEGIN:VCALENDAR
VERSION:2.0
PRODID:-//De Jungle - ECPv6.15.20//NONSGML v1.0//EN
CALSCALE:GREGORIAN
METHOD:PUBLISH
X-ORIGINAL-URL:https://dejungle.events
X-WR-CALDESC:Evenementen voor De Jungle
REFRESH-INTERVAL;VALUE=DURATION:PT1H
X-Robots-Tag:noindex
X-PUBLISHED-TTL:PT1H
BEGIN:VTIMEZONE
TZID:Europe/Amsterdam
BEGIN:DAYLIGHT
TZOFFSETFROM:+0100
TZOFFSETTO:+0200
TZNAME:CEST
DTSTART:20210328T010000
END:DAYLIGHT
BEGIN:STANDARD
TZOFFSETFROM:+0200
TZOFFSETTO:+0100
TZNAME:CET
DTSTART:20211031T010000
END:STANDARD
BEGIN:DAYLIGHT
TZOFFSETFROM:+0100
TZOFFSETTO:+0200
TZNAME:CEST
DTSTART:20220327T010000
END:DAYLIGHT
BEGIN:STANDARD
TZOFFSETFROM:+0200
TZOFFSETTO:+0100
TZNAME:CET
DTSTART:20221030T010000
END:STANDARD
BEGIN:DAYLIGHT
TZOFFSETFROM:+0100
TZOFFSETTO:+0200
TZNAME:CEST
DTSTART:20230326T010000
END:DAYLIGHT
BEGIN:STANDARD
TZOFFSETFROM:+0200
TZOFFSETTO:+0100
TZNAME:CET
DTSTART:20231029T010000
END:STANDARD
END:VTIMEZONE
BEGIN:VEVENT
DTSTART;TZID=Europe/Amsterdam:20220415T170000
DTEND;TZID=Europe/Amsterdam:20220415T235900
DTSTAMP:20260421T071156
CREATED:20220219T125027Z
LAST-MODIFIED:20220407T190123Z
UID:2180-1650042000-1650067140@dejungle.events
SUMMARY:Jungle Vibes - Good food\, good music\, good vibes.
DESCRIPTION:Good food\, good music\, good vibes. \nOpen vanaf 12:00\nLive DJ’s vanaf 17:00 \nKom lekker dansen in de Jungle
URL:https://dejungle.events/event/good-food-good-music-good-vibes/
LOCATION:de Jungle\, Wandelweg 12\, Wormerveer\, Noord-Holland\, 1521 HK\, Nederland
END:VEVENT
END:VCALENDAR