BEGIN:VCALENDAR
VERSION:2.0
PRODID:-//De Jungle - ECPv6.15.20//NONSGML v1.0//EN
CALSCALE:GREGORIAN
METHOD:PUBLISH
X-WR-CALNAME:De Jungle
X-ORIGINAL-URL:https://dejungle.events
X-WR-CALDESC:Evenementen voor De Jungle
REFRESH-INTERVAL;VALUE=DURATION:PT1H
X-Robots-Tag:noindex
X-PUBLISHED-TTL:PT1H
BEGIN:VTIMEZONE
TZID:Europe/Amsterdam
BEGIN:DAYLIGHT
TZOFFSETFROM:+0100
TZOFFSETTO:+0200
TZNAME:CEST
DTSTART:20210328T010000
END:DAYLIGHT
BEGIN:STANDARD
TZOFFSETFROM:+0200
TZOFFSETTO:+0100
TZNAME:CET
DTSTART:20211031T010000
END:STANDARD
BEGIN:DAYLIGHT
TZOFFSETFROM:+0100
TZOFFSETTO:+0200
TZNAME:CEST
DTSTART:20220327T010000
END:DAYLIGHT
BEGIN:STANDARD
TZOFFSETFROM:+0200
TZOFFSETTO:+0100
TZNAME:CET
DTSTART:20221030T010000
END:STANDARD
BEGIN:DAYLIGHT
TZOFFSETFROM:+0100
TZOFFSETTO:+0200
TZNAME:CEST
DTSTART:20230326T010000
END:DAYLIGHT
BEGIN:STANDARD
TZOFFSETFROM:+0200
TZOFFSETTO:+0100
TZNAME:CET
DTSTART:20231029T010000
END:STANDARD
END:VTIMEZONE
BEGIN:VEVENT
DTSTART;TZID=Europe/Amsterdam:20220514T200000
DTEND;TZID=Europe/Amsterdam:20220514T235900
DTSTAMP:20260421T052847
CREATED:20220512T140506Z
LAST-MODIFIED:20220512T140506Z
UID:2477-1652558400-1652572740@dejungle.events
SUMMARY:Cabo Verde - Tropical Party
DESCRIPTION:Gratis entree in de Jungle tuin en het restaurant. \nde Jungle Cabo Verde – Tropical Party is in de Jungle zaal (a.k.a. gymzaal a.k.a. grote zaal) \nGenre: \nFunana\, Kizomba\, Zouk\, Coladeira\, Afro-House\, Tropical House and more… \n  \nWanneer? Zaterdag 14 mei van 20:00 tot 01:45 uur. \n  \nEntree: €12\,50 (inclusief Kaapverdische hapjes)
URL:https://dejungle.events/event/cabo-verde-tropical-party/
LOCATION:de Jungle\, Wandelweg 12\, Wormerveer\, Noord-Holland\, 1521 HK\, Nederland
END:VEVENT
END:VCALENDAR