BEGIN:VCALENDAR
VERSION:2.0
PRODID:-//De Jungle - ECPv6.15.20//NONSGML v1.0//EN
CALSCALE:GREGORIAN
METHOD:PUBLISH
X-WR-CALNAME:De Jungle
X-ORIGINAL-URL:https://dejungle.events
X-WR-CALDESC:Evenementen voor De Jungle
REFRESH-INTERVAL;VALUE=DURATION:PT1H
X-Robots-Tag:noindex
X-PUBLISHED-TTL:PT1H
BEGIN:VTIMEZONE
TZID:Europe/Amsterdam
BEGIN:DAYLIGHT
TZOFFSETFROM:+0100
TZOFFSETTO:+0200
TZNAME:CEST
DTSTART:20210328T010000
END:DAYLIGHT
BEGIN:STANDARD
TZOFFSETFROM:+0200
TZOFFSETTO:+0100
TZNAME:CET
DTSTART:20211031T010000
END:STANDARD
BEGIN:DAYLIGHT
TZOFFSETFROM:+0100
TZOFFSETTO:+0200
TZNAME:CEST
DTSTART:20220327T010000
END:DAYLIGHT
BEGIN:STANDARD
TZOFFSETFROM:+0200
TZOFFSETTO:+0100
TZNAME:CET
DTSTART:20221030T010000
END:STANDARD
BEGIN:DAYLIGHT
TZOFFSETFROM:+0100
TZOFFSETTO:+0200
TZNAME:CEST
DTSTART:20230326T010000
END:DAYLIGHT
BEGIN:STANDARD
TZOFFSETFROM:+0200
TZOFFSETTO:+0100
TZNAME:CET
DTSTART:20231029T010000
END:STANDARD
END:VTIMEZONE
BEGIN:VEVENT
DTSTART;TZID=Europe/Amsterdam:20220522T130000
DTEND;TZID=Europe/Amsterdam:20220522T140000
DTSTAMP:20260421T053926
CREATED:20220512T151909Z
LAST-MODIFIED:20220512T151909Z
UID:2505-1653224400-1653228000@dejungle.events
SUMMARY:Bachata Beginners 1 Tryout
DESCRIPTION:Ramiro & Claudia \nMeld je nu aan!
URL:https://dejungle.events/event/bachata-beginners-1-tryout-2/
LOCATION:de Jungle\, Wandelweg 12\, Wormerveer\, Noord-Holland\, 1521 HK\, Nederland
END:VEVENT
BEGIN:VEVENT
DTSTART;TZID=Europe/Amsterdam:20220522T140000
DTEND;TZID=Europe/Amsterdam:20220522T150000
DTSTAMP:20260421T053926
CREATED:20220512T152237Z
LAST-MODIFIED:20220512T152607Z
UID:2507-1653228000-1653231600@dejungle.events
SUMMARY:Kizomba Beginners 1 Try out
DESCRIPTION:Kevin Vidjai \nDe Salsa Jungle \nMeld je nu aan!
URL:https://dejungle.events/event/bachata-beginners-2-try-out/
LOCATION:de Jungle\, Wandelweg 12\, Wormerveer\, Noord-Holland\, 1521 HK\, Nederland
END:VEVENT
BEGIN:VEVENT
DTSTART;TZID=Europe/Amsterdam:20220522T150000
DTEND;TZID=Europe/Amsterdam:20220522T160000
DTSTAMP:20260421T053926
CREATED:20220512T153058Z
LAST-MODIFIED:20220512T153058Z
UID:2511-1653231600-1653235200@dejungle.events
SUMMARY:Kizomba beginners 2 Try out
DESCRIPTION:Zondag 22 May 2022 \n15:00 – 16:00 \nDe Salsa Jungle \nWandelweg 12A – Wormerveer
URL:https://dejungle.events/event/kizomba-beginners-2-try-out/
LOCATION:de Jungle\, Wandelweg 12\, Wormerveer\, Noord-Holland\, 1521 HK\, Nederland
END:VEVENT
BEGIN:VEVENT
DTSTART;TZID=Europe/Amsterdam:20220522T150000
DTEND;TZID=Europe/Amsterdam:20220522T235900
DTSTAMP:20260421T053926
CREATED:20220512T153829Z
LAST-MODIFIED:20220512T153829Z
UID:2515-1653231600-1653263940@dejungle.events
SUMMARY:Latin Sunday
DESCRIPTION:Ben jij er klaar voor? Deze zondag vanaf 15:00 heb je gratis entree tot de Latin Sunday in De Salsa Jungle. (zomer actie)  \nKom je na 17:00? Geen probleem. Koop dan je kaartje met cash of pin aan de deur. \nOnze fraaie buitenruimte en de twee zalen wachten je op met diverse Latin muziek stijlen en verschillende DJ’s. \nEen Mexicaanse maaltijd en verfrissende cocktail staan op je te wachten bij de bar. \nParkeren is gratis en we zitten vlakbij het treinstation. Tot dans!
URL:https://dejungle.events/event/latin-sunday-19/
LOCATION:de Jungle\, Wandelweg 12\, Wormerveer\, Noord-Holland\, 1521 HK\, Nederland
ATTACH;FMTTYPE=image/png:https://dejungle.events/wp-content/uploads/2021/09/Zondag-Algemeen-1024x536-1.png
END:VEVENT
BEGIN:VEVENT
DTSTART;TZID=Europe/Amsterdam:20220522T160000
DTEND;TZID=Europe/Amsterdam:20220522T170000
DTSTAMP:20260421T053926
CREATED:20220512T153415Z
LAST-MODIFIED:20220512T153415Z
UID:2513-1653235200-1653238800@dejungle.events
SUMMARY:Salsa Beginners 1 Try out
DESCRIPTION:Ramiro & Claudia \nDe Salsa Jungle \nMeld je nu aan!
URL:https://dejungle.events/event/salsa-beginners-1-try-out-2/
LOCATION:de Jungle\, Wandelweg 12\, Wormerveer\, Noord-Holland\, 1521 HK\, Nederland
END:VEVENT
END:VCALENDAR