BEGIN:VCALENDAR
VERSION:2.0
PRODID:-//De Jungle - ECPv6.15.20//NONSGML v1.0//EN
CALSCALE:GREGORIAN
METHOD:PUBLISH
X-WR-CALNAME:De Jungle
X-ORIGINAL-URL:https://dejungle.events
X-WR-CALDESC:Evenementen voor De Jungle
REFRESH-INTERVAL;VALUE=DURATION:PT1H
X-Robots-Tag:noindex
X-PUBLISHED-TTL:PT1H
BEGIN:VTIMEZONE
TZID:Europe/Amsterdam
BEGIN:DAYLIGHT
TZOFFSETFROM:+0100
TZOFFSETTO:+0200
TZNAME:CEST
DTSTART:20210328T010000
END:DAYLIGHT
BEGIN:STANDARD
TZOFFSETFROM:+0200
TZOFFSETTO:+0100
TZNAME:CET
DTSTART:20211031T010000
END:STANDARD
BEGIN:DAYLIGHT
TZOFFSETFROM:+0100
TZOFFSETTO:+0200
TZNAME:CEST
DTSTART:20220327T010000
END:DAYLIGHT
BEGIN:STANDARD
TZOFFSETFROM:+0200
TZOFFSETTO:+0100
TZNAME:CET
DTSTART:20221030T010000
END:STANDARD
BEGIN:DAYLIGHT
TZOFFSETFROM:+0100
TZOFFSETTO:+0200
TZNAME:CEST
DTSTART:20230326T010000
END:DAYLIGHT
BEGIN:STANDARD
TZOFFSETFROM:+0200
TZOFFSETTO:+0100
TZNAME:CET
DTSTART:20231029T010000
END:STANDARD
END:VTIMEZONE
BEGIN:VEVENT
DTSTART;TZID=Europe/Amsterdam:20220609T170000
DTEND;TZID=Europe/Amsterdam:20220609T230000
DTSTAMP:20260421T034433
CREATED:20220527T100552Z
LAST-MODIFIED:20220527T100552Z
UID:2566-1654794000-1654815600@dejungle.events
SUMMARY:Latin Crossover Party
DESCRIPTION:Gratis toegang \nWe starten om 17:00 uur. \nYep\, er zijn DJs:\nDJ El Che\nDJ Maurito\nand friends too. \nDaarvan gesproken: Neem je vrienden mee en kom dansen !
URL:https://dejungle.events/event/latin-crossover-party-3/
LOCATION:de Jungle\, Wandelweg 12\, Wormerveer\, Noord-Holland\, 1521 HK\, Nederland
END:VEVENT
BEGIN:VEVENT
DTSTART;TZID=Europe/Amsterdam:20220609T180000
DTEND;TZID=Europe/Amsterdam:20220609T190000
DTSTAMP:20260421T034433
CREATED:20220607T114806Z
LAST-MODIFIED:20220607T114806Z
UID:2603-1654797600-1654801200@dejungle.events
SUMMARY:Salsa Beginners 2
DESCRIPTION:Ramiro & Femke \nDe Salsa Jungle
URL:https://dejungle.events/event/salsa-beginners-2-19/
LOCATION:de Jungle\, Wandelweg 12\, Wormerveer\, Noord-Holland\, 1521 HK\, Nederland
END:VEVENT
BEGIN:VEVENT
DTSTART;TZID=Europe/Amsterdam:20220609T190000
DTEND;TZID=Europe/Amsterdam:20220609T200000
DTSTAMP:20260421T034433
CREATED:20220607T115139Z
LAST-MODIFIED:20220607T115139Z
UID:2605-1654801200-1654804800@dejungle.events
SUMMARY:Salsa Beginners 3
DESCRIPTION:Ramiro & Femke \nDe Salsa Jungle
URL:https://dejungle.events/event/salsa-beginners-3-14/
LOCATION:de Jungle\, Wandelweg 12\, Wormerveer\, Noord-Holland\, 1521 HK\, Nederland
END:VEVENT
BEGIN:VEVENT
DTSTART;TZID=Europe/Amsterdam:20220609T200000
DTEND;TZID=Europe/Amsterdam:20220609T210000
DTSTAMP:20260421T034433
CREATED:20220607T120319Z
LAST-MODIFIED:20220607T120319Z
UID:2607-1654804800-1654808400@dejungle.events
SUMMARY:Salsa Intermediate 1
DESCRIPTION:Ramiro & Femke \nDe Salsa Jungle
URL:https://dejungle.events/event/salsa-intermediate-1-11/
LOCATION:de Jungle\, Wandelweg 12\, Wormerveer\, Noord-Holland\, 1521 HK\, Nederland
END:VEVENT
BEGIN:VEVENT
DTSTART;TZID=Europe/Amsterdam:20220609T210000
DTEND;TZID=Europe/Amsterdam:20220609T220000
DTSTAMP:20260421T034433
CREATED:20220607T120608Z
LAST-MODIFIED:20220607T120608Z
UID:2609-1654808400-1654812000@dejungle.events
SUMMARY:Salsa Intermediate 2
DESCRIPTION:Ramiro & Carla \nMeld je aan!
URL:https://dejungle.events/event/salsa-intermediate-2/
LOCATION:de Jungle\, Wandelweg 12\, Wormerveer\, Noord-Holland\, 1521 HK\, Nederland
END:VEVENT
END:VCALENDAR