BEGIN:VCALENDAR
VERSION:2.0
PRODID:-//De Jungle - ECPv6.15.20//NONSGML v1.0//EN
CALSCALE:GREGORIAN
METHOD:PUBLISH
X-ORIGINAL-URL:https://dejungle.events
X-WR-CALDESC:Evenementen voor De Jungle
REFRESH-INTERVAL;VALUE=DURATION:PT1H
X-Robots-Tag:noindex
X-PUBLISHED-TTL:PT1H
BEGIN:VTIMEZONE
TZID:Europe/Amsterdam
BEGIN:DAYLIGHT
TZOFFSETFROM:+0100
TZOFFSETTO:+0200
TZNAME:CEST
DTSTART:20210328T010000
END:DAYLIGHT
BEGIN:STANDARD
TZOFFSETFROM:+0200
TZOFFSETTO:+0100
TZNAME:CET
DTSTART:20211031T010000
END:STANDARD
BEGIN:DAYLIGHT
TZOFFSETFROM:+0100
TZOFFSETTO:+0200
TZNAME:CEST
DTSTART:20220327T010000
END:DAYLIGHT
BEGIN:STANDARD
TZOFFSETFROM:+0200
TZOFFSETTO:+0100
TZNAME:CET
DTSTART:20221030T010000
END:STANDARD
BEGIN:DAYLIGHT
TZOFFSETFROM:+0100
TZOFFSETTO:+0200
TZNAME:CEST
DTSTART:20230326T010000
END:DAYLIGHT
BEGIN:STANDARD
TZOFFSETFROM:+0200
TZOFFSETTO:+0100
TZNAME:CET
DTSTART:20231029T010000
END:STANDARD
END:VTIMEZONE
BEGIN:VEVENT
DTSTART;TZID=Europe/Amsterdam:20220617T120000
DTEND;TZID=Europe/Amsterdam:20220617T233000
DTSTAMP:20260421T035302
CREATED:20220615T194118Z
LAST-MODIFIED:20220615T194427Z
UID:2644-1655467200-1655508600@dejungle.events
SUMMARY:VrijMiBo met Greg van Bueren
DESCRIPTION:Dans de week van je af en kom gezellig met vrienden een hapje en drankje doen op de Jungle VrijMiBo\, ofwel onze supergezellige Vrijdag Middag Borrel.\nVanaf 12:00 kan het weekend beginnen. \nLine-up:\nGreg van Bueren \nDe Jungle tuin is geopend vanaf 12:00 \nEntree : Gratis\nToilet : € 0\,50 (contant) \nDe Jungle heeft twee binnen ruimtes en een tuin. Er is en bar en foodcorner aanwezig waar je kunt betalen met pin of contant. \nDe locatie is 400 meter gelegen van het NS Station Wormerveer hier is een ruime gratis parkeergelegenheid. Bij het NS Station neem je het voetgangers tunneltje richting de sportvelden. Aan je rechterhand zie je als eerste De Jungle.\nDe Laatste trein vanaf NS Wormerveer vertrekt om 23:57 en 00:47 naar Amsterdam Centraal.
URL:https://dejungle.events/event/vrijmibo-met-greg-van-bueren/
LOCATION:de Jungle\, Wandelweg 12\, Wormerveer\, Noord-Holland\, 1521 HK\, Nederland
ATTACH;FMTTYPE=image/jpeg:https://dejungle.events/wp-content/uploads/2022/06/INSTA-17-EN-24.jpg
END:VEVENT
END:VCALENDAR