BEGIN:VCALENDAR
VERSION:2.0
PRODID:-//De Jungle - ECPv6.15.20//NONSGML v1.0//EN
CALSCALE:GREGORIAN
METHOD:PUBLISH
X-ORIGINAL-URL:https://dejungle.events
X-WR-CALDESC:Evenementen voor De Jungle
REFRESH-INTERVAL;VALUE=DURATION:PT1H
X-Robots-Tag:noindex
X-PUBLISHED-TTL:PT1H
BEGIN:VTIMEZONE
TZID:Europe/Amsterdam
BEGIN:DAYLIGHT
TZOFFSETFROM:+0100
TZOFFSETTO:+0200
TZNAME:CEST
DTSTART:20210328T010000
END:DAYLIGHT
BEGIN:STANDARD
TZOFFSETFROM:+0200
TZOFFSETTO:+0100
TZNAME:CET
DTSTART:20211031T010000
END:STANDARD
BEGIN:DAYLIGHT
TZOFFSETFROM:+0100
TZOFFSETTO:+0200
TZNAME:CEST
DTSTART:20220327T010000
END:DAYLIGHT
BEGIN:STANDARD
TZOFFSETFROM:+0200
TZOFFSETTO:+0100
TZNAME:CET
DTSTART:20221030T010000
END:STANDARD
BEGIN:DAYLIGHT
TZOFFSETFROM:+0100
TZOFFSETTO:+0200
TZNAME:CEST
DTSTART:20230326T010000
END:DAYLIGHT
BEGIN:STANDARD
TZOFFSETFROM:+0200
TZOFFSETTO:+0100
TZNAME:CET
DTSTART:20231029T010000
END:STANDARD
END:VTIMEZONE
BEGIN:VEVENT
DTSTART;TZID=Europe/Amsterdam:20220717T160000
DTEND;TZID=Europe/Amsterdam:20220717T235900
DTSTAMP:20260421T014945
CREATED:20220715T133224Z
LAST-MODIFIED:20220715T133922Z
UID:2699-1658073600-1658102340@dejungle.events
SUMMARY:Latin Sunday gaat door!
DESCRIPTION:DE LATIN SUNDAY GAAT DOOR !\nLaat er geen Misverstanden zijn !\nDe Latin Sunday was\, is en blijft een INITIATIEF van de Jungle !\nEN WE GAAN DOOR !\nWe laten onze vaste bezoekers niet in de steek. Nieuwe & vaste TOP DJ’s blijven heerlijke LATIN muziek draaien binnen & buiten op verschillende AREA’s en er zijn TOP Workshops voor beginner & gevorderden.\nInmiddels ontstaan er nieuwe samenwerkingen en ook de lessen gaan weer snel plaatsvinden met een nieuwe dansschool !\n \nVrij dansen & workshops\n \n3 areas – 6 DJs – binnen en buiten!\n \nSalsa – Bachata – Kizomba en meer!\n \nWorkshops: RUEDA CASINO & SALSA\n \nArea 1: 100% Salsa\nArea 2: Bachata – Meringue\nArea 3: 100% Kizomba\n 
URL:https://dejungle.events/event/latin-sunday-gaat-door/
LOCATION:de Jungle\, Wandelweg 12\, Wormerveer\, Noord-Holland\, 1521 HK\, Nederland
ATTACH;FMTTYPE=image/jpeg:https://dejungle.events/wp-content/uploads/2022/07/golatin.jpeg
END:VEVENT
END:VCALENDAR