BEGIN:VCALENDAR
VERSION:2.0
PRODID:-//De Jungle - ECPv6.15.20//NONSGML v1.0//EN
CALSCALE:GREGORIAN
METHOD:PUBLISH
X-ORIGINAL-URL:https://dejungle.events
X-WR-CALDESC:Evenementen voor De Jungle
REFRESH-INTERVAL;VALUE=DURATION:PT1H
X-Robots-Tag:noindex
X-PUBLISHED-TTL:PT1H
BEGIN:VTIMEZONE
TZID:Europe/Amsterdam
BEGIN:DAYLIGHT
TZOFFSETFROM:+0100
TZOFFSETTO:+0200
TZNAME:CEST
DTSTART:20210328T010000
END:DAYLIGHT
BEGIN:STANDARD
TZOFFSETFROM:+0200
TZOFFSETTO:+0100
TZNAME:CET
DTSTART:20211031T010000
END:STANDARD
BEGIN:DAYLIGHT
TZOFFSETFROM:+0100
TZOFFSETTO:+0200
TZNAME:CEST
DTSTART:20220327T010000
END:DAYLIGHT
BEGIN:STANDARD
TZOFFSETFROM:+0200
TZOFFSETTO:+0100
TZNAME:CET
DTSTART:20221030T010000
END:STANDARD
BEGIN:DAYLIGHT
TZOFFSETFROM:+0100
TZOFFSETTO:+0200
TZNAME:CEST
DTSTART:20230326T010000
END:DAYLIGHT
BEGIN:STANDARD
TZOFFSETFROM:+0200
TZOFFSETTO:+0100
TZNAME:CET
DTSTART:20231029T010000
END:STANDARD
END:VTIMEZONE
BEGIN:VEVENT
DTSTART;TZID=Europe/Amsterdam:20220814T150000
DTEND;TZID=Europe/Amsterdam:20220814T233000
DTSTAMP:20260420T235324
CREATED:20220808T083851Z
LAST-MODIFIED:20220808T083851Z
UID:2747-1660489200-1660519800@dejungle.events
SUMMARY:Latin Sunday Salsa Special
DESCRIPTION:Ben jij er klaar voor? Ook deze zondag vanaf 15:00 heb je gratis entree tot de Latin Sunday in De Jungle. (zomer actie) \nOnze fraaie buitenruimte en de twee zalen wachten je. Deze zondag komt de entertainment van de \nCaracas Latin Band + 5 DJ’s !\nEen Mexicaanse maaltijd en verfrissende cocktail staan op je te wachten bij de bar. \nParkeren is gratis en we zitten vlakbij het treinstation. Tot dans!
URL:https://dejungle.events/event/latin-sunday-salsa-special/
LOCATION:de Jungle\, Wandelweg 12\, Wormerveer\, Noord-Holland\, 1521 HK\, Nederland
ATTACH;FMTTYPE=image/jpeg:https://dejungle.events/wp-content/uploads/2022/08/20220814.jpg
END:VEVENT
END:VCALENDAR