BEGIN:VCALENDAR
VERSION:2.0
PRODID:-//De Jungle - ECPv6.15.20//NONSGML v1.0//EN
CALSCALE:GREGORIAN
METHOD:PUBLISH
X-ORIGINAL-URL:https://dejungle.events
X-WR-CALDESC:Evenementen voor De Jungle
REFRESH-INTERVAL;VALUE=DURATION:PT1H
X-Robots-Tag:noindex
X-PUBLISHED-TTL:PT1H
BEGIN:VTIMEZONE
TZID:Europe/Amsterdam
BEGIN:DAYLIGHT
TZOFFSETFROM:+0100
TZOFFSETTO:+0200
TZNAME:CEST
DTSTART:20210328T010000
END:DAYLIGHT
BEGIN:STANDARD
TZOFFSETFROM:+0200
TZOFFSETTO:+0100
TZNAME:CET
DTSTART:20211031T010000
END:STANDARD
BEGIN:DAYLIGHT
TZOFFSETFROM:+0100
TZOFFSETTO:+0200
TZNAME:CEST
DTSTART:20220327T010000
END:DAYLIGHT
BEGIN:STANDARD
TZOFFSETFROM:+0200
TZOFFSETTO:+0100
TZNAME:CET
DTSTART:20221030T010000
END:STANDARD
BEGIN:DAYLIGHT
TZOFFSETFROM:+0100
TZOFFSETTO:+0200
TZNAME:CEST
DTSTART:20230326T010000
END:DAYLIGHT
BEGIN:STANDARD
TZOFFSETFROM:+0200
TZOFFSETTO:+0100
TZNAME:CET
DTSTART:20231029T010000
END:STANDARD
END:VTIMEZONE
BEGIN:VEVENT
DTSTART;TZID=Europe/Amsterdam:20221211T180000
DTEND;TZID=Europe/Amsterdam:20221211T235900
DTSTAMP:20260420T161333
CREATED:20221206T104300Z
LAST-MODIFIED:20221206T104300Z
UID:3129-1670781600-1670803140@dejungle.events
SUMMARY:Latin Sunday in de Jungle Kizomba Special
DESCRIPTION:Boek de Latin Sunday in de Jungle Kizomba Special hier\nIn de Kizomba/Bachata Cantina:\ngast DJ I.am.Reggie de Kizomba Specialist & de Koningin van de Kizomba Eliza Sala uit Angola met een fantastische Ladies Freestyle Kizomba Workshop\nIn de Salsa Zaal:\nEen super leuke Salsa LA Style workshop voor koppels van Harrie & Michelle van dansschool U Can Dance\nin de Cantina\ntussen 18.00uur & 21.00uur lekker eten met een SURINAAMS BUFFET van de Jungle.\nLINE UP & PROGRAMMA :\nCANTINA:\n18.00u. – 21.00u. surinaams BUFFET MENU\n18.00u. – 19.00u. kizomba party\n19.00u. – 20.00u. Kizomba Workshop door Eliza Sala\n20.00u. – 22.00u. Kizomba & Bachata\n22.00u. – 24.00u. Latin Cross Over Party\nKizomba\, Bachata\, Reggaeton\, Afro House\nDJ I.am.Reggie\, DJ El Che\, DJ Tommy Tequila\nSALSA ZAAL:\n18.00u. – 19.00u. Salsa Party\n19.00u. – 20.00u. Salsa LA Workshop\ndoor Harrie & Michelle\n20.00u. – 22.00u. SALSA AROUND THE WORLD\n22.00u – 24.00u. Latin Mix Party\nDJ Michael\, DJ Billy\,\nENTREE:\nEARLY BIRD 7\,50\nNORMAL 10\,00\nDEUR 12\,50\n* Gratis Parkeren\n* Garderobe aanwezig\n* Ticketprijs is incl. Workshop en\nandersom\n* Kerst decoraties\n* Catering\n* Cocktail Bar\n* Vuurkorven en verwarmd terras\n* Kerst stal Photobooth\nIN DE MAAND DECEMBER ALLEEN OP 11 & 18 DECEMBER EEN LATIN SUNDAY\nIVM SINTERKLAAS & KERST\n\nDe Jungle\nWandelweg 12 A\nWormerveer\n(direct achter het station)\nINFO & RESERVEREN 0654636922
URL:https://dejungle.events/event/latin-sunday-in-de-jungle-kizomba-special/
LOCATION:de Jungle\, Wandelweg 12\, Wormerveer\, Noord-Holland\, 1521 HK\, Nederland
ATTACH;FMTTYPE=image/jpeg:https://dejungle.events/wp-content/uploads/2022/12/11dec2022.jpeg
END:VEVENT
END:VCALENDAR