BEGIN:VCALENDAR
VERSION:2.0
PRODID:-//De Jungle - ECPv6.15.20//NONSGML v1.0//EN
CALSCALE:GREGORIAN
METHOD:PUBLISH
X-ORIGINAL-URL:https://dejungle.events
X-WR-CALDESC:Evenementen voor De Jungle
REFRESH-INTERVAL;VALUE=DURATION:PT1H
X-Robots-Tag:noindex
X-PUBLISHED-TTL:PT1H
BEGIN:VTIMEZONE
TZID:Europe/Amsterdam
BEGIN:DAYLIGHT
TZOFFSETFROM:+0100
TZOFFSETTO:+0200
TZNAME:CEST
DTSTART:20220327T010000
END:DAYLIGHT
BEGIN:STANDARD
TZOFFSETFROM:+0200
TZOFFSETTO:+0100
TZNAME:CET
DTSTART:20221030T010000
END:STANDARD
BEGIN:DAYLIGHT
TZOFFSETFROM:+0100
TZOFFSETTO:+0200
TZNAME:CEST
DTSTART:20230326T010000
END:DAYLIGHT
BEGIN:STANDARD
TZOFFSETFROM:+0200
TZOFFSETTO:+0100
TZNAME:CET
DTSTART:20231029T010000
END:STANDARD
BEGIN:DAYLIGHT
TZOFFSETFROM:+0100
TZOFFSETTO:+0200
TZNAME:CEST
DTSTART:20240331T010000
END:DAYLIGHT
BEGIN:STANDARD
TZOFFSETFROM:+0200
TZOFFSETTO:+0100
TZNAME:CET
DTSTART:20241027T010000
END:STANDARD
END:VTIMEZONE
BEGIN:VEVENT
DTSTART;TZID=Europe/Amsterdam:20230212T170000
DTEND;TZID=Europe/Amsterdam:20230212T230000
DTSTAMP:20260420T125326
CREATED:20230207T142130Z
LAST-MODIFIED:20230207T142130Z
UID:3328-1676221200-1676242800@dejungle.events
SUMMARY:Latin Sunday Valentine Edition
DESCRIPTION:Romantic dinner\nArea 1: \nBachata\, Sensual & Dominican + Kizomba \n  \nArea 2: \nSalsa\, Cuban & L.A. + Mambo \n  \nGezelligheid\, Lekker eten & drinken en alles geheel in de Valentijn sfeer\nIn de Cantina:\nGedekte tafels om a la carte te tafelen met z’n 2 of meer.\n(reserveren is raadzaam ivm beperkt plek)\nEr is een aangepast Valentijns Menu\nVanaf 18.00 gezellig eten & drinken en een Mix van Bachata & Kizomba muziek met genoeg ruimte voor een dansje.\nIn de Loop van de avond wisselen de DJ’s en de Latin muziek stijlen.\nIn de Salsa Zaal:\nvan af 18.00 zijn er danslessen van La Esquina Cubana en vanaf 20.00 is er vrij dansen met onze Top DJ’s die afwisselende Salsa Cuban & LA draait met tussendoor een Merengue of Mambo.\n\nLINE UP & PROGRAMMA :\nCANTINA:\n18.00u. – 20.00u. Jungle A la Carte diner\n18.00u. – 21.00u. Bachata – Kizomba Party\n21.00u. – 24.00u. Latin Mix party\nSALSA ZAAL:\n18.00u. – 20.00u. Danslessen\n20.00u. – 23.00u. Salsa Mix Party\n\nENTREE:\nGratis entree tussen 17.00u. & 17.45u.\nOnline Ticket 7\,50pp\nAan de deur 10\,00pp\nGRATIS entree voor Cursisten ( Uitsluitend via GASTEN LIJST)\n* Gratis Parkeren\n* Garderobe verplicht (ivm. vrijhouden tafels & stoelen enz.)\n* Valentijn decoraties\n* Love Tunnel\n* Catering\n* Cocktail Bar\n* Vuurkorven en verwarmd terras\n* Valentijn Photobooth & Fotograaf aanwezig\nIN DE MAAND FEBRUARI ALLEEN TWEE LATIN SUNDAY’S OP DE 12de & 26ste\nIVM WINTER PERIODE\n\nDe Jungle\nWandelweg 12 A\nWormerveer\n(direct achter het station)\nINFO & RESERVEREN 0654636922\n 
URL:https://dejungle.events/event/latin-sunday-valentine-edition/
LOCATION:de Jungle\, Wandelweg 12\, Wormerveer\, Noord-Holland\, 1521 HK\, Nederland
ATTACH;FMTTYPE=image/jpeg:https://dejungle.events/wp-content/uploads/2023/02/12feb.jpg
END:VEVENT
END:VCALENDAR