BEGIN:VCALENDAR
VERSION:2.0
PRODID:-//De Jungle - ECPv6.15.20//NONSGML v1.0//EN
CALSCALE:GREGORIAN
METHOD:PUBLISH
X-WR-CALNAME:De Jungle
X-ORIGINAL-URL:https://dejungle.events
X-WR-CALDESC:Evenementen voor De Jungle
REFRESH-INTERVAL;VALUE=DURATION:PT1H
X-Robots-Tag:noindex
X-PUBLISHED-TTL:PT1H
BEGIN:VTIMEZONE
TZID:Europe/Amsterdam
BEGIN:DAYLIGHT
TZOFFSETFROM:+0100
TZOFFSETTO:+0200
TZNAME:CEST
DTSTART:20220327T010000
END:DAYLIGHT
BEGIN:STANDARD
TZOFFSETFROM:+0200
TZOFFSETTO:+0100
TZNAME:CET
DTSTART:20221030T010000
END:STANDARD
BEGIN:DAYLIGHT
TZOFFSETFROM:+0100
TZOFFSETTO:+0200
TZNAME:CEST
DTSTART:20230326T010000
END:DAYLIGHT
BEGIN:STANDARD
TZOFFSETFROM:+0200
TZOFFSETTO:+0100
TZNAME:CET
DTSTART:20231029T010000
END:STANDARD
BEGIN:DAYLIGHT
TZOFFSETFROM:+0100
TZOFFSETTO:+0200
TZNAME:CEST
DTSTART:20240331T010000
END:DAYLIGHT
BEGIN:STANDARD
TZOFFSETFROM:+0200
TZOFFSETTO:+0100
TZNAME:CET
DTSTART:20241027T010000
END:STANDARD
END:VTIMEZONE
BEGIN:VEVENT
DTSTART;TZID=Europe/Amsterdam:20230226T180000
DTEND;TZID=Europe/Amsterdam:20230226T234500
DTSTAMP:20260420T112127
CREATED:20230218T160635Z
LAST-MODIFIED:20230218T160635Z
UID:3381-1677434400-1677455100@dejungle.events
SUMMARY:Latin Sunday Rob's Birthday Edition
DESCRIPTION:Latin Sunday in de Jungle: ROBS BIRTHDAY PARTY\nDeze wordt net even anders dan anders !\nGezelligheid\, Lekker eten & drinken en heerlijk dansen ; Deze Editie een mix van Latin in de grote zaal met Salsa\, Bachata\, Merenque\, Kizomba en meer\nen in de Cantina een MIX van: Soul\, Funk\, R&B\, Disco en meer\nIn de Cantina:\nGedekte tafels om a la carte te tafelen met z’n 2 of meer.\n(reserveren is raadzaam ivm beperkt plek)\nEr is een heerlijk SOULFOOD menu van ZINA’S KITCHEN\nVanaf 18.00 BEGINNEN DE DJ’S IN DE CANTINA\nIn de Salsa Zaal:\nvan af 19.00 LEKKER vrij dansen met onze Top LATIN DJ’s die afwisselende LATIN STIJLEN DRAAIEN\nLINE UP & PROGRAMMA:\nCANTINA:\n18.00u. – 20.00u. SOULFOOD van ZINA’S Kitchen\n18.00u. – 21.00u. R&B\, Soul & Funk Party\n21.00u. – 24.00u. Disco\, Club & House Party\nMET:\nDJ T-Gray\n& Friends\nSALSA ZAAL:\n19.00u. – 23.00u. Salsa Mix Party\nMET:\nDJ MULATO\nDJ EL CHE\nENTREE:\nGRATIS ENTREE !\n* Gratis Parkeren\n* Garderobe verplicht (ivm. vrijhouden tafels & stoelen enz.)\n* decoraties\n* Love Tunnel\n* Catering\n* Cocktail Bar\n* Vuurkorven en verwarmd terras\n* Photobooth & Fotograaf aanwezig\nIN DE MAAND FEBRUARI ALLEEN TWEE LATIN SUNDAY’S OP DE 12de & 26ste\nIVM WINTER PERIODE\nDe Jungle\nWandelweg 12 A\nWormerveer\n(direct achter het station)\nINFO & RESERVEREN 0654636922
URL:https://dejungle.events/event/latin-sunday-robs-birthday-edition/
LOCATION:de Jungle\, Wandelweg 12\, Wormerveer\, Noord-Holland\, 1521 HK\, Nederland
ATTACH;FMTTYPE=image/jpeg:https://dejungle.events/wp-content/uploads/2023/02/robsbday.jpg
END:VEVENT
END:VCALENDAR