BEGIN:VCALENDAR
VERSION:2.0
PRODID:-//De Jungle - ECPv6.15.20//NONSGML v1.0//EN
CALSCALE:GREGORIAN
METHOD:PUBLISH
X-ORIGINAL-URL:https://dejungle.events
X-WR-CALDESC:Evenementen voor De Jungle
REFRESH-INTERVAL;VALUE=DURATION:PT1H
X-Robots-Tag:noindex
X-PUBLISHED-TTL:PT1H
BEGIN:VTIMEZONE
TZID:Europe/Amsterdam
BEGIN:DAYLIGHT
TZOFFSETFROM:+0100
TZOFFSETTO:+0200
TZNAME:CEST
DTSTART:20230326T010000
END:DAYLIGHT
BEGIN:STANDARD
TZOFFSETFROM:+0200
TZOFFSETTO:+0100
TZNAME:CET
DTSTART:20231029T010000
END:STANDARD
BEGIN:DAYLIGHT
TZOFFSETFROM:+0100
TZOFFSETTO:+0200
TZNAME:CEST
DTSTART:20240331T010000
END:DAYLIGHT
BEGIN:STANDARD
TZOFFSETFROM:+0200
TZOFFSETTO:+0100
TZNAME:CET
DTSTART:20241027T010000
END:STANDARD
BEGIN:DAYLIGHT
TZOFFSETFROM:+0100
TZOFFSETTO:+0200
TZNAME:CEST
DTSTART:20250330T010000
END:DAYLIGHT
BEGIN:STANDARD
TZOFFSETFROM:+0200
TZOFFSETTO:+0100
TZNAME:CET
DTSTART:20251026T010000
END:STANDARD
END:VTIMEZONE
BEGIN:VEVENT
DTSTART;TZID=Europe/Amsterdam:20240428T163000
DTEND;TZID=Europe/Amsterdam:20240428T233000
DTSTAMP:20260421T111149
CREATED:20240423T102415Z
LAST-MODIFIED:20240423T102415Z
UID:4510-1714321800-1714347000@dejungle.events
SUMMARY:Nieuwe proefles Bachata & Salsa
DESCRIPTION:Voorafgaan aan elke nieuwe cursus houden we altijd een open middag. Hier kun je kennismaken met dansschool Latin Jungle en de bachata dansstijl(en). De locatie zien\, de sfeer proeven en waar het ook mogelijk is jezelf te trakteren op één van de lekkernijen uit het restaurant.\nTijdens de open dag organiseren we verschillende workshops/proeflessen van 45 minuten. Deelname is gratis\, reserveren verplicht (om aan de man / vrouw verhouding te kunnen voldoen)!\nProgramma Bachata Authentica\n16.30 – 17.00 Inloop / Aanwezig zijn17.00 – 18.00 Bachata Proefles (Zaal 1)18.00 – 19.00 Bachata intermediate/advanced\n19.00 – Vrijdansen tijdens Latin Café met DJ El Che & Billy\nProgramma Salsa\n16.00 – 17.00 Salsa Les (Zaal 1)17.00 – 18.00 Salsa Proefles (Zaal 2)\n19.00 – Vrijdansen tijdens Latin Café met DJ El Che & Billy\n#DansFeest #OpenDag #DansschoolLatinJunglegeef je op via dit nr ;App: 06-21174228\nDe JungleWandelweg 12AWormerveer (direct achter het station)
URL:https://dejungle.events/event/nieuwe-proefles-bachata-salsa/
LOCATION:de Jungle\, Wandelweg 12\, Wormerveer\, Noord-Holland\, 1521 HK\, Nederland
ATTACH;FMTTYPE=image/jpeg:https://dejungle.events/wp-content/uploads/2024/04/28aprsalsa.jpg
END:VEVENT
BEGIN:VEVENT
DTSTART;TZID=Europe/Amsterdam:20240428T190000
DTEND;TZID=Europe/Amsterdam:20240428T235900
DTSTAMP:20260421T111150
CREATED:20240417T211104Z
LAST-MODIFIED:20240417T211104Z
UID:4489-1714330800-1714348740@dejungle.events
SUMMARY:Latin Café in de Jungle - Sunday
DESCRIPTION:Latin Café in de Jungle – SundayJUNGLE CANTINA: Bachata\, JUNGLE ROOM: SalsaDJ El Che – DJ Billy ———————————————\nEerder op de dag zijn er lessen van Dansschool Latin Jungle meer info op www.latinjungle.nl\nBachata / Salsa Proefles door dansschool Latin Jungle.More info soon…\nKeuken is open v.a. 17.00 met heerlijke Plate service via onze QR codes op de tafels te bestellen.\nENTREE GRATIS\nDe JungleWandelweg 12AWormerveer (direct achter het station)meer INFO of Tafeltje reserveren: 0654636922
URL:https://dejungle.events/event/latin-cafe-in-de-jungle-sunday/
LOCATION:de Jungle\, Wandelweg 12\, Wormerveer\, Noord-Holland\, 1521 HK\, Nederland
ATTACH;FMTTYPE=image/jpeg:https://dejungle.events/wp-content/uploads/2024/04/28apr24ls.jpg
END:VEVENT
END:VCALENDAR