BEGIN:VCALENDAR
VERSION:2.0
PRODID:-//De Jungle - ECPv6.15.20//NONSGML v1.0//EN
CALSCALE:GREGORIAN
METHOD:PUBLISH
X-WR-CALNAME:De Jungle
X-ORIGINAL-URL:https://dejungle.events
X-WR-CALDESC:Evenementen voor De Jungle
REFRESH-INTERVAL;VALUE=DURATION:PT1H
X-Robots-Tag:noindex
X-PUBLISHED-TTL:PT1H
BEGIN:VTIMEZONE
TZID:Europe/Amsterdam
BEGIN:DAYLIGHT
TZOFFSETFROM:+0100
TZOFFSETTO:+0200
TZNAME:CEST
DTSTART:20230326T010000
END:DAYLIGHT
BEGIN:STANDARD
TZOFFSETFROM:+0200
TZOFFSETTO:+0100
TZNAME:CET
DTSTART:20231029T010000
END:STANDARD
BEGIN:DAYLIGHT
TZOFFSETFROM:+0100
TZOFFSETTO:+0200
TZNAME:CEST
DTSTART:20240331T010000
END:DAYLIGHT
BEGIN:STANDARD
TZOFFSETFROM:+0200
TZOFFSETTO:+0100
TZNAME:CET
DTSTART:20241027T010000
END:STANDARD
BEGIN:DAYLIGHT
TZOFFSETFROM:+0100
TZOFFSETTO:+0200
TZNAME:CEST
DTSTART:20250330T010000
END:DAYLIGHT
BEGIN:STANDARD
TZOFFSETFROM:+0200
TZOFFSETTO:+0100
TZNAME:CET
DTSTART:20251026T010000
END:STANDARD
END:VTIMEZONE
BEGIN:VEVENT
DTSTART;TZID=Europe/Amsterdam:20240728T110000
DTEND;TZID=Europe/Amsterdam:20240728T230000
DTSTAMP:20260421T215121
CREATED:20240604T141045Z
LAST-MODIFIED:20240604T141045Z
UID:4598-1722164400-1722207600@dejungle.events
SUMMARY:Fiesta de la Independencia Colombia
DESCRIPTION:Fiesta de la Independencia ColombiaHorario: 14.00 – 23.00+ (Domingo 28 Julio 2024)\nV.V.K. € 10\,-Si entras a las 14.00 “Un consumo gratis”\nEnlace de entradas:https://eventix.shop/mswqa8q3\nDescripción: Una celebración Colombiana para niños y adultos y para todas las nacionalidades. Son todos bienvenidos\, amigos\, familiares\, conocidos y amantes de la música y la cultura latina.\nGastronomia Tipica Colombiana y LatinoActividades para NiñosShows y DeejaysTorneo Beach fútbol (3 vs 3)Muchas sorpresas\nInformation Torneo Beach Fútbol:\nTorneo: 3 vs 3Inicio Torneo: 15.00Duración: 20 Min (Un partido) 16 equipos máximo“Si hay mas equipos vamos a reducir el tiempo de un partido”\nA. Piensa en un nombre de equipo;B. Si no tienes uniforme\, recibirás un chaleco amarillo o naranja.\nReglas del juego:\n1. Zapatillas deportivas sin tapones2. Jugadores de reserva: 2 Permitidos3. “No barrida permitido “No sliding tackle permited”4. Mujeres y Hombres “juegan juntos” 5. Jovenes y Adultos desde 15+6. Hay otras actividades para niños menores de 15 años7. Música de fondo latina y asientos para ver disponibles8. Campo de arena9. Porterías de aproximadamente 2.5 ancho por 1\,5 metros alto10. El campo de fútbol tiene una valla baja.11. Se parece más al fútbol sala que al fútbol de campo\n(Fotos del campo disponibles pronto)+ Árbitro presente\nPremios: Copas y Medallas\nRegístrate para el torneo de fútbol:WhatsApp: 06 194 39 821\nMás información pronto………………………………………….\n\n\nNL ——————————————————-\n“Onafhankelijkheidsdag viering/feest van Colombia”\nOnafhankelijkheidsdag van ColombiaOpeningstijden: 14.00 uur – 23.00 uur+ (zondag 28 juli 2024)\nBeschrijving: Een Colombiaans feest voor kinderen en volwassenen en voor alle nationaliteiten. Iedereen is welkom: vrienden\, familie\, kennissen en liefhebbers van Latin-Amerikaanse muziek en cultuur.\nColombiaans cultuur\, latin eten\, muziekActiviteiten voor kinderenShows en DJ’sVoetbaltoernooi op het strandveld (3 tegen 3)Veel verrassingen\nInformatie over het voetbaltoernooi 3vs3:\nToernooi: 3 tegen 3Toernooi start: 15.00 uurDuur: 20 min (één wedstrijd) Maximaal 16 teams“Als er meer teams zijn\, zullen we de tijd van een wedstrijd verkorten”\nA. Bedenk een teamnaam;B. Indien u geen uniform heeft\, ontvangt u een geel of oranje hesje.\nSpelregels:\n1. Sportschoenen zonder noppen2. Reservespelers: 2 toegestaan of geen3. “Geen slide-tackle toegestaan”4. Vrouwen en mannen “spelen samen” 5. Jeugd en volwassenen vanaf 15+6. Er zijn andere activiteiten voor kinderen onder de 15 jaar7. Latin achtergrondmuziek en zitplaatsen beschikbaar8. Zandveld (Beach voetbal)9. Doelen ongeveer 2\,5 breed bij 1\,5 meter hoog10. Het voetbalveld heeft een laag hekwerk.11. Het lijkt meer op zaalvoetbal dan op veldvoetbal.\nPrijzen:Medailles & Bekers voor plek 1\,2\,3\n(Foto’s van het veld binnenkort beschikbaar)+ Scheidsrechter aanwezig\nSchrijf je in voor het voetbaltoernooi:WhatsApp: 06 194 39 821\nMeer informatie volgt:Colombiaanse eten\, foodtrucksColombiaanse shows———————————————\nV.V.K. € 10\,-\nTicketlink:https://eventix.shop/mswqa8q3\nDe JungleWandelweg 12AWormerveer (direct achter het station)meer INFO of Tafeltje reserveren: 0654636922
URL:https://dejungle.events/event/fiesta-de-la-independencia-colombia/
LOCATION:de Jungle\, Wandelweg 12\, Wormerveer\, Noord-Holland\, 1521 HK\, Nederland
ATTACH;FMTTYPE=image/jpeg:https://dejungle.events/wp-content/uploads/2024/06/28jul.jpg
END:VEVENT
END:VCALENDAR