BEGIN:VCALENDAR
VERSION:2.0
PRODID:-//De Jungle - ECPv6.15.20//NONSGML v1.0//EN
CALSCALE:GREGORIAN
METHOD:PUBLISH
X-WR-CALNAME:De Jungle
X-ORIGINAL-URL:https://dejungle.events
X-WR-CALDESC:Evenementen voor De Jungle
REFRESH-INTERVAL;VALUE=DURATION:PT1H
X-Robots-Tag:noindex
X-PUBLISHED-TTL:PT1H
BEGIN:VTIMEZONE
TZID:Europe/Amsterdam
BEGIN:DAYLIGHT
TZOFFSETFROM:+0100
TZOFFSETTO:+0200
TZNAME:CEST
DTSTART:20230326T010000
END:DAYLIGHT
BEGIN:STANDARD
TZOFFSETFROM:+0200
TZOFFSETTO:+0100
TZNAME:CET
DTSTART:20231029T010000
END:STANDARD
BEGIN:DAYLIGHT
TZOFFSETFROM:+0100
TZOFFSETTO:+0200
TZNAME:CEST
DTSTART:20240331T010000
END:DAYLIGHT
BEGIN:STANDARD
TZOFFSETFROM:+0200
TZOFFSETTO:+0100
TZNAME:CET
DTSTART:20241027T010000
END:STANDARD
BEGIN:DAYLIGHT
TZOFFSETFROM:+0100
TZOFFSETTO:+0200
TZNAME:CEST
DTSTART:20250330T010000
END:DAYLIGHT
BEGIN:STANDARD
TZOFFSETFROM:+0200
TZOFFSETTO:+0100
TZNAME:CET
DTSTART:20251026T010000
END:STANDARD
END:VTIMEZONE
BEGIN:VEVENT
DTSTART;TZID=Europe/Amsterdam:20241207T130000
DTEND;TZID=Europe/Amsterdam:20241208T010000
DTSTAMP:20260422T044721
CREATED:20241112T162732Z
LAST-MODIFIED:20241112T163155Z
UID:5047-1733576400-1733619600@dejungle.events
SUMMARY:PsyBolic's - Pakjesavond
DESCRIPTION:On December 7th\, get ready for the 3rd edition of PsyBolics at De Jungle in Wormerveer! This unique event combines the pulsating beats of psytrance and house music\, creating an immersive musical experience in a truly alternative setting. Just a short trip from Amsterdam\, De Jungle is a creatively reimagined venue located behind Wormerveer train station\, in the Zaanstad area.\nOriginally an amateur soccer club\, *De Jungle* now serves as a dynamic artistic space with a spacious dance area and a cozy café that offers both vegetarian and non-vegetarian options\, making it perfect for a night of dancing\, food\, and drinks. With its welcoming\, offbeat vibe\, *De Jungle* is a special location for fans of electronic music looking to experience something out of the ordinary.\n\n MAIN- PSYCHEDELIC \n CIN-D b2b PSYDIE  https://www.mixcloud.com/djpsydie/psydie-psybolics/\n ELECTRIC SAMURAI  https://www.mixcloud.com/…/psychedelic-trance-mix-ii-2024/\n FITT-X  https://on.soundcloud.com/ESAvkB8WwJyS5Fse8\n J***** \n LEGION  https://www.mixcloud.com/…/legion-live-forbidden…/\n MART FADER  https://www.mixcloud.com/…/mart-fader-at-psybolics…/\n POLO  https://on.soundcloud.com/Uh39PKMwNzFFBmoL8\n\n GARDEN – HOUSE \n AROUND US  https://on.soundcloud.com/HyqEgACUFCiqqeQU7\n BAS-F  https://on.soundcloud.com/nHRqf3urK9FRK3T59\n INSTA PAULUZZ \n JELLE RICHARDS  https://on.soundcloud.com/9fY9HDqFzov5Fcgp9\n MILLA LA NOISE  https://on.soundcloud.com/1a4nriWeSkc9GXZs5\n Early bird 15\,- (16\,21 incl. fee) Regular 20\,- (21\,21 incl. fee)
URL:https://dejungle.events/event/psybolics-pakjesavond/
LOCATION:de Jungle\, Wandelweg 12\, Wormerveer\, Noord-Holland\, 1521 HK\, Nederland
ATTACH;FMTTYPE=image/jpeg:https://dejungle.events/wp-content/uploads/2024/11/7dec.jpg
END:VEVENT
END:VCALENDAR