BEGIN:VCALENDAR
VERSION:2.0
PRODID:-//De Jungle - ECPv6.15.20//NONSGML v1.0//EN
CALSCALE:GREGORIAN
METHOD:PUBLISH
X-WR-CALNAME:De Jungle
X-ORIGINAL-URL:https://dejungle.events
X-WR-CALDESC:Evenementen voor De Jungle
REFRESH-INTERVAL;VALUE=DURATION:PT1H
X-Robots-Tag:noindex
X-PUBLISHED-TTL:PT1H
BEGIN:VTIMEZONE
TZID:Europe/Amsterdam
BEGIN:DAYLIGHT
TZOFFSETFROM:+0100
TZOFFSETTO:+0200
TZNAME:CEST
DTSTART:20250330T010000
END:DAYLIGHT
BEGIN:STANDARD
TZOFFSETFROM:+0200
TZOFFSETTO:+0100
TZNAME:CET
DTSTART:20251026T010000
END:STANDARD
BEGIN:DAYLIGHT
TZOFFSETFROM:+0100
TZOFFSETTO:+0200
TZNAME:CEST
DTSTART:20260329T010000
END:DAYLIGHT
BEGIN:STANDARD
TZOFFSETFROM:+0200
TZOFFSETTO:+0100
TZNAME:CET
DTSTART:20261025T010000
END:STANDARD
BEGIN:DAYLIGHT
TZOFFSETFROM:+0100
TZOFFSETTO:+0200
TZNAME:CEST
DTSTART:20270328T010000
END:DAYLIGHT
BEGIN:STANDARD
TZOFFSETFROM:+0200
TZOFFSETTO:+0100
TZNAME:CET
DTSTART:20271031T010000
END:STANDARD
END:VTIMEZONE
BEGIN:VEVENT
DTSTART;TZID=Europe/Amsterdam:20260307T160000
DTEND;TZID=Europe/Amsterdam:20260308T010000
DTSTAMP:20260420T112001
CREATED:20260124T192918Z
LAST-MODIFIED:20260124T192918Z
UID:6069-1772899200-1772931600@dejungle.events
SUMMARY:PsyRave ps Fractalized
DESCRIPTION:Fractalized returns to De Jungle\n Longer days\, warmer vibes… Spring is coming and we’re heading back to De Jungle in Wormerveer\, near Amsterdam\, for another edition of Fractalized.\nAfter the last two editions\, many of you asked for more —so here we go again.Another journey in this magical playground for adults \n Daytime eventDoors open: 4 PMEnd time: 1 AM\nLine up :Psytrance floor :RichesSemanticsSannergyMart FaderJimmaginationSephiroth\nProgressive House:PsydieKath FlowerpowerHentaliaLuminous NovaValnazra\n Extra cosy atmosphereOutside you’ll find an open fire on the terrace — perfect to relax and connect.And yes… the location comes with a wonderful kitchen serving great food \nTickets available at www.fractalized.nl/fractalized1st phase €14\,40 +fee2nd phase €16\,40+fee3rd phase €18\,40+fee\nLocation :De JungleWandelweg 12 Wormerveer (behind the trainstation)
URL:https://dejungle.events/event/psyrave-ps-fractalized/
LOCATION:de Jungle\, Wandelweg 12\, Wormerveer\, Noord-Holland\, 1521 HK\, Nederland
ATTACH;FMTTYPE=image/jpeg:https://dejungle.events/wp-content/uploads/2026/01/fractal.jpg
END:VEVENT
END:VCALENDAR