BEGIN:VCALENDAR
VERSION:2.0
PRODID:-//De Jungle - ECPv6.15.20//NONSGML v1.0//EN
CALSCALE:GREGORIAN
METHOD:PUBLISH
X-WR-CALNAME:De Jungle
X-ORIGINAL-URL:https://dejungle.events
X-WR-CALDESC:Evenementen voor De Jungle
REFRESH-INTERVAL;VALUE=DURATION:PT1H
X-Robots-Tag:noindex
X-PUBLISHED-TTL:PT1H
BEGIN:VTIMEZONE
TZID:UTC
BEGIN:STANDARD
TZOFFSETFROM:+0000
TZOFFSETTO:+0000
TZNAME:UTC
DTSTART:20190101T000000
END:STANDARD
END:VTIMEZONE
BEGIN:VEVENT
DTSTART;TZID=UTC:20200601T120000
DTEND;TZID=UTC:20200601T230000
DTSTAMP:20260423T001358
CREATED:20200609T062656Z
LAST-MODIFIED:20200610T023143Z
UID:169-1591012800-1591052400@dejungle.events
SUMMARY:Opening De Jungle Tuinen
DESCRIPTION:Kom naar de opening van de Jungle tuinen. Maandag 1 juni opent de Jungle haar tuin voor het publiek. Kom langs om te ontspannen in onze oase van vibes\, rust en gezelligheid.\nAlles uiteraard volgens de RIVM richtlijnen!\nWe hebben een dj booth neergezet waar we top dj’s een set laten draaien die je vanuit je terrasstoel\, loungebed of picknicktafel kan luisteren!\nKom je drankjes afhalen aan de bar!! Bestel ook vooral iets lekkers te eten\, binnen ons assortiment is er voor ieder wat wils. \nLine Up :\nGreen Tree\nGreg N Grandi\nHeaken\nMark Ploeger\nGoos\nand more \nDus kom naar de opening van de Jungle tuinen.\nReserveren is mogelijk via Facebook of Per telefoon of via Whatsapp : +31654636922
URL:https://dejungle.events/event/opening-de-jungle-tuinen/
LOCATION:de Jungle\, Wandelweg 12\, Wormerveer\, Noord-Holland\, 1521 HK\, Nederland
ATTACH;FMTTYPE=image/jpeg:https://dejungle.events/wp-content/uploads/2020/06/opening-de-jungle-tuinen.jpg
ORGANIZER;CN="Rob van Zweeden":MAILTO:info@dejungle.events
END:VEVENT
END:VCALENDAR