BEGIN:VCALENDAR
VERSION:2.0
PRODID:-//De Jungle - ECPv6.15.20//NONSGML v1.0//EN
CALSCALE:GREGORIAN
METHOD:PUBLISH
X-ORIGINAL-URL:https://dejungle.events
X-WR-CALDESC:Evenementen voor De Jungle
REFRESH-INTERVAL;VALUE=DURATION:PT1H
X-Robots-Tag:noindex
X-PUBLISHED-TTL:PT1H
BEGIN:VTIMEZONE
TZID:Europe/Amsterdam
BEGIN:DAYLIGHT
TZOFFSETFROM:+0100
TZOFFSETTO:+0200
TZNAME:CEST
DTSTART:20190331T010000
END:DAYLIGHT
BEGIN:STANDARD
TZOFFSETFROM:+0200
TZOFFSETTO:+0100
TZNAME:CET
DTSTART:20191027T010000
END:STANDARD
BEGIN:DAYLIGHT
TZOFFSETFROM:+0100
TZOFFSETTO:+0200
TZNAME:CEST
DTSTART:20200329T010000
END:DAYLIGHT
BEGIN:STANDARD
TZOFFSETFROM:+0200
TZOFFSETTO:+0100
TZNAME:CET
DTSTART:20201025T010000
END:STANDARD
BEGIN:DAYLIGHT
TZOFFSETFROM:+0100
TZOFFSETTO:+0200
TZNAME:CEST
DTSTART:20210328T010000
END:DAYLIGHT
BEGIN:STANDARD
TZOFFSETFROM:+0200
TZOFFSETTO:+0100
TZNAME:CET
DTSTART:20211031T010000
END:STANDARD
END:VTIMEZONE
BEGIN:VEVENT
DTSTART;TZID=Europe/Amsterdam:20200704T120000
DTEND;TZID=Europe/Amsterdam:20200704T230000
DTSTAMP:20260423T113240
CREATED:20200626T131236Z
LAST-MODIFIED:20200626T131651Z
UID:772-1593864000-1593903600@dejungle.events
SUMMARY:de Jungle Tuin Rodeo
DESCRIPTION:Het weekend van 4 en 5 juli is er eentje waar wij hier bij de Jungletuin ENORM naar uitkijken. \nWe hebben namelijk een heuse Rodeostier (rustig maar\, hij is mechanisch) voor jullie geregeld om aan ons én je vrienden te laten zien wie er het langst op kan blijven zitten. Dus kom in ons kleine Wilde Westen de proef op de som nemen! \nDaarnaast hebben we om in het Amerikaanse thema te blijven ook meerdere Beerpong sets geregeld. \nDus of je nu gaat draaien van de Beerpong of de Rodeostier\, kom lekker chillen bij ons in de Jungletuin! \nDj’s: \n????GRANDI????\n????GREEN TREE????\n????SHARDA???? \n& more t.b.c.
URL:https://dejungle.events/event/de-jungle-tuin-rodeo/
LOCATION:de Jungle\, Wandelweg 12\, Wormerveer\, Noord-Holland\, 1521 HK\, Nederland
ORGANIZER;CN="Rob van Zweeden":MAILTO:info@dejungle.events
END:VEVENT
BEGIN:VEVENT
DTSTART;TZID=Europe/Amsterdam:20200705T120000
DTEND;TZID=Europe/Amsterdam:20200705T230000
DTSTAMP:20260423T113240
CREATED:20200626T131610Z
LAST-MODIFIED:20200626T131610Z
UID:775-1593950400-1593990000@dejungle.events
SUMMARY:de Jungle Tuin Rodeo
DESCRIPTION:Het weekend van 4 en 5 juli is er eentje waar wij hier bij de Jungletuin ENORM naar uitkijken. \nWe hebben namelijk een heuse Rodeostier (rustig maar\, hij is mechanisch) voor jullie geregeld om aan ons én je vrienden te laten zien wie er het langst op kan blijven zitten. Dus kom in ons kleine Wilde Westen de proef op de som nemen! \nDaarnaast hebben we om in het Amerikaanse thema te blijven ook meerdere Beerpong sets geregeld. \nDus of je nu gaat draaien van de Beerpong of de Rodeostier\, kom lekker chillen bij ons in de Jungletuin! \nDj’s: \n????GRANDI????\n????GREEN TREE????\n????SHARDA???? \n& more t.b.c.
URL:https://dejungle.events/event/de-jungle-tuin-rodeo-2/
LOCATION:de Jungle\, Wandelweg 12\, Wormerveer\, Noord-Holland\, 1521 HK\, Nederland
ORGANIZER;CN="Rob van Zweeden":MAILTO:info@dejungle.events
END:VEVENT
BEGIN:VEVENT
DTSTART;TZID=Europe/Amsterdam:20200711T120000
DTEND;TZID=Europe/Amsterdam:20200711T220000
DTSTAMP:20260423T113240
CREATED:20200626T132641Z
LAST-MODIFIED:20200626T132641Z
UID:778-1594468800-1594504800@dejungle.events
SUMMARY:de Jungle Tuin Grill & Chill
DESCRIPTION:Wie zegt dat je niet goed kan bbq’en in de Zaanstreek? Wie zegt dat je niet heerlijk kunt chillen met het gevoel alsof je in het buitenland bent in Wormerveer? \nWij beloven je dat na het weekend van 11 & 12 juli bijna niemand dat meer zal zeggen…we gaan namelijk een weekend lang GRILLEN & CHILLEN in de mooiste Jungletuin van Nederland. \nEen carefully selected BBQ assortiment voor zowel de Carnivoor als de Vegetarier.\nHeerlijke burgers\, de sappigste Saté\, Vegaburgers om je vingers bij af te likken & uiteraard alle heerlijke drankjes van onze kaart. \nNaast dit alles zetten we ook nog eens onze lekkerste dj’s neer én geven we je de kans om aan je vrienden te laten zien dat je een echte grillmeister bent! \nWant hoe leuk is het om met een groepje je eigen bbq pakket te bestellen? Wij zetten de bbq bij jullie neer en zo bouw je je eigen Grill & Chill feestje!
URL:https://dejungle.events/event/de-jungle-tuin-grill-chill/
LOCATION:de Jungle\, Wandelweg 12\, Wormerveer\, Noord-Holland\, 1521 HK\, Nederland
ORGANIZER;CN="Rob van Zweeden":MAILTO:info@dejungle.events
END:VEVENT
BEGIN:VEVENT
DTSTART;TZID=Europe/Amsterdam:20200712T120000
DTEND;TZID=Europe/Amsterdam:20200712T220000
DTSTAMP:20260423T113240
CREATED:20200626T132953Z
LAST-MODIFIED:20200626T132953Z
UID:781-1594555200-1594591200@dejungle.events
SUMMARY:de Jungle Tuin Grill & Chill
DESCRIPTION:Wie zegt dat je niet goed kan bbq’en in de Zaanstreek? Wie zegt dat je niet heerlijk kunt chillen met het gevoel alsof je in het buitenland bent in Wormerveer? \nWij beloven je dat na het weekend van 11 & 12 juli bijna niemand dat meer zal zeggen…we gaan namelijk een weekend lang GRILLEN & CHILLEN in de mooiste Jungletuin van Nederland. \nEen carefully selected BBQ assortiment voor zowel de Carnivoor als de Vegetarier.\nHeerlijke burgers\, de sappigste Saté\, Vegaburgers om je vingers bij af te likken & uiteraard alle heerlijke drankjes van onze kaart. \nNaast dit alles zetten we ook nog eens onze lekkerste dj’s neer én geven we je de kans om aan je vrienden te laten zien dat je een echte grillmeister bent! \nWant hoe leuk is het om met een groepje je eigen bbq pakket te bestellen? Wij zetten de bbq bij jullie neer en zo bouw je je eigen Grill & Chill feestje!
URL:https://dejungle.events/event/de-jungle-tuin-grill-chill-2/
LOCATION:de Jungle\, Wandelweg 12\, Wormerveer\, Noord-Holland\, 1521 HK\, Nederland
ORGANIZER;CN="Rob van Zweeden":MAILTO:info@dejungle.events
END:VEVENT
BEGIN:VEVENT
DTSTART;TZID=Europe/Amsterdam:20200718T120000
DTEND;TZID=Europe/Amsterdam:20200718T220000
DTSTAMP:20260423T113240
CREATED:20200626T130544Z
LAST-MODIFIED:20200626T130646Z
UID:769-1595073600-1595109600@dejungle.events
SUMMARY:Opening de Jungle Tuin Jeu De Boules baan
DESCRIPTION:Een Werpspel met ballen? Precisiesport? Jeu de Boulle? Petanque?  \nHoe je het ook wilt noemen\, op 18 juli aanstaande is er de opening van onze eigen Jeu de Boules baan op ons prachtige Jungle Tuin terrein. Kom lekker een potje spelen met je vrienden en geniet van onze dj’s en onze heerlijke kaart.  \nDe opening zal 2 bijzondere mensen tegen elkaar laten spelen voor de openingspot! Als je zelf een gooi wilt doen naar eeuwige roem op de baan\, nodigen we je uit om snel met je vrienden een baan te reserveren bij ons! Dat kan gewoon ter plekke aan de bar! we maken het natuurlijk niet te moeiijk voor je…
URL:https://dejungle.events/event/opening-de-jungle-tuin-jeu-de-boules-baan/
LOCATION:de Jungle\, Wandelweg 12\, Wormerveer\, Noord-Holland\, 1521 HK\, Nederland
ATTACH;FMTTYPE=image/jpeg:https://dejungle.events/wp-content/uploads/2020/06/jeudeb.jpg
ORGANIZER;CN="Rob van Zweeden":MAILTO:info@dejungle.events
END:VEVENT
BEGIN:VEVENT
DTSTART;TZID=Europe/Amsterdam:20200719T170000
DTEND;TZID=Europe/Amsterdam:20200719T210000
DTSTAMP:20260423T113240
CREATED:20200717T085354Z
LAST-MODIFIED:20200717T085627Z
UID:929-1595178000-1595192400@dejungle.events
SUMMARY:Robs lazy sunday BBQ
DESCRIPTION:Soms onstaat er gewoon spontaan iets.\nHet wordt mooi weer dus deze zondag steek ik persoonlijk de BBQ aan voor iedereen die lekker wil komen chillen en eten.\nEen heerlijk buffet met Stokbrood\, kruidenboter\, verse frietjes\, heerlijke salade’s en 4 x keuze uit een stukje vlees of vega vd houtskool BBQ.\nMaak een dansje (denk aan de 1\,5m.) op de Soul-volle beats van onze huis DJ’s en als je zin hebt speel je een potje Jeu de Boule\, vollybal of knots hockey op de activiteiten weide.\nNa het eten een kleine siesta op de loungebanken in het zonnetje.\nDeelname aan de BBQ kost slechts 20\,00.\n(een menu delen met de kids mag ! )\nLaat even weten of je komt via de reserverings knop  \nDit weekend ook heerlijke nieuwe speciaal biertjes op de kaart
URL:https://dejungle.events/event/robs-lazy-sunday-bbq/
LOCATION:de Jungle\, Wandelweg 12\, Wormerveer\, Noord-Holland\, 1521 HK\, Nederland
ATTACH;FMTTYPE=image/jpeg:https://dejungle.events/wp-content/uploads/2020/07/robslazybbq.jpg
ORGANIZER;CN="Rob van Zweeden":MAILTO:info@dejungle.events
END:VEVENT
BEGIN:VEVENT
DTSTART;TZID=Europe/Amsterdam:20200726T120000
DTEND;TZID=Europe/Amsterdam:20200726T230000
DTSTAMP:20260423T113240
CREATED:20200714T123855Z
LAST-MODIFIED:20200714T140327Z
UID:901-1595764800-1595804400@dejungle.events
SUMMARY:Sound of Love
DESCRIPTION:Sound Of Love in De Jungle \nDe jungle ligt op een unieke lokatie in Wormerveer. Een groot en mooi terrein waar kunstenaars een jungle decor hebben neergezet. Relaxte zitplaatsen\, twee binnenlocaties en een kleurrijke en sfeervolle omgeving. Mooi bij veel zon\, maar ook bewolkt een top lokatie.\nCombineer dit met de vrolijke en vocale house van Miss Sugaware\, Robert Feelgood en Greg N Grandi en je hebt de perfecte plek om eens lekker van het einde van het weekend te genieten. \nWe werken niet met reserveringen\, maar met een maximum aantal bezoekers op het terrein. \nline-up:\nMiss Sugaware\nRobert Feelgood\nGreg N Grandi \nlocatie: The Jungle\nadres: Wandelweg 12A\, Wormerveer (nabij het station)\nTijden: 12:00-23:00\nToegang is gratis.
URL:https://dejungle.events/event/sound-of-love/
LOCATION:de Jungle\, Wandelweg 12\, Wormerveer\, Noord-Holland\, 1521 HK\, Nederland
ATTACH;FMTTYPE=image/jpeg:https://dejungle.events/wp-content/uploads/2020/07/pbjSoL.jpg
ORGANIZER;CN="Rob van Zweeden":MAILTO:info@dejungle.events
END:VEVENT
END:VCALENDAR