BEGIN:VCALENDAR
VERSION:2.0
PRODID:-//De Jungle - ECPv6.15.20//NONSGML v1.0//EN
CALSCALE:GREGORIAN
METHOD:PUBLISH
X-ORIGINAL-URL:https://dejungle.events
X-WR-CALDESC:Evenementen voor De Jungle
REFRESH-INTERVAL;VALUE=DURATION:PT1H
X-Robots-Tag:noindex
X-PUBLISHED-TTL:PT1H
BEGIN:VTIMEZONE
TZID:Europe/Amsterdam
BEGIN:DAYLIGHT
TZOFFSETFROM:+0100
TZOFFSETTO:+0200
TZNAME:CEST
DTSTART:20190331T010000
END:DAYLIGHT
BEGIN:STANDARD
TZOFFSETFROM:+0200
TZOFFSETTO:+0100
TZNAME:CET
DTSTART:20191027T010000
END:STANDARD
BEGIN:DAYLIGHT
TZOFFSETFROM:+0100
TZOFFSETTO:+0200
TZNAME:CEST
DTSTART:20200329T010000
END:DAYLIGHT
BEGIN:STANDARD
TZOFFSETFROM:+0200
TZOFFSETTO:+0100
TZNAME:CET
DTSTART:20201025T010000
END:STANDARD
BEGIN:DAYLIGHT
TZOFFSETFROM:+0100
TZOFFSETTO:+0200
TZNAME:CEST
DTSTART:20210328T010000
END:DAYLIGHT
BEGIN:STANDARD
TZOFFSETFROM:+0200
TZOFFSETTO:+0100
TZNAME:CET
DTSTART:20211031T010000
END:STANDARD
END:VTIMEZONE
BEGIN:VEVENT
DTSTART;TZID=Europe/Amsterdam:20200801T150000
DTEND;TZID=Europe/Amsterdam:20200802T010000
DTSTAMP:20260423T044214
CREATED:20200714T142141Z
LAST-MODIFIED:20200714T143804Z
UID:907-1596294000-1596330000@dejungle.events
SUMMARY:Jungle Fever Tropical Party & BBQ
DESCRIPTION:Zaterdag 1 Augustus bestaan JammFM Radio & MasterMixers@Work 2 jaar en dat gaan we vieren!\nVan 15:00 tot in de late uurtjes brengen we de Summer Vibes naar Nederland. Dance Avenue & MasterMixers@Work live vanaf de De Jungle in Wormerveer. Kom gezellig langs. \n*** Entree is gratis*** \nSpeciaal voor deze gelegenheid wordt er een BBQ georganiseerd a € 22\,50 p.p.\nIndien u dit wilt kunt u hiervoor apart reserveren : info@paintballjungle.nl\nTel : 020-6131129 \nLine Up: *** Lounge Garden ***\nDJ Laudd | VanTonLos | DJ Eut | P.H.S.| DJ Marrekie | DJ JeanN \nLine Up: *** Jungle Fever Room ***\nDJ Laudd & Miss Believe (B2B)\nRDM & Jeronic (B2B)\nSean Hendrix & SweaterXL (B2B)\nFrenz Cook & Barry Deejay (B2B)\nMiss Believe \nKijk voor meer informatie over de lineup op JammFmRadio \nNeem je vrienden mee en kom genieten op dit spectaculaire terrein !\n*** Reserveer snel je plaats via de button in het Facebook evenement *** free entry ** vol =vol ! \nDe Jungle Fever Room heeft ruimte voor 120 personen\nDe Lounge Garden heeft ruimte voor 350 personen \n* Vanzelfsprekend voldoen wij aan de\nbenodigde hygiëne vereisten en worden de richtlijnen van het RVIM in acht genomen *
URL:https://dejungle.events/event/jungle-fever-tropical-party-bbq/
LOCATION:de Jungle\, Wandelweg 12\, Wormerveer\, Noord-Holland\, 1521 HK\, Nederland
ATTACH;FMTTYPE=image/jpeg:https://dejungle.events/wp-content/uploads/2020/07/POSTER-ONTWERP-copy.jpg
ORGANIZER;CN="Rob van Zweeden":MAILTO:info@dejungle.events
END:VEVENT
BEGIN:VEVENT
DTSTART;TZID=Europe/Amsterdam:20200802T180000
DTEND;TZID=Europe/Amsterdam:20200802T210000
DTSTAMP:20260423T044214
CREATED:20200728T133446Z
LAST-MODIFIED:20200729T114840Z
UID:982-1596391200-1596402000@dejungle.events
SUMMARY:Lazy sunday family BBQ buffet
DESCRIPTION:Augustus is onze BBQ maand ! \nNaast de DIY BBQ diner voor 2 nu ook elke zondag een heerlijk BBQ Buffet voor de hele familie.\nDeelname : 20\,00pp. \nReserveer op tijd een tafel voor 2\, 4\, 6\, 8 of 10 en maak gebruik van  heerlijk vlees of vega opties van de houtskool grill.\nOnbeperkt stokbrood\, & kruidenboter\, verse frietjes\, en diverse salades & sausjes die je zelf naar wens kan opscheppen. Voor elke deelnemer 4 x keuze van de Grill.\ni.v.m. de voorbereidingen is reserveren is een must\, en laat dan ook even weten of je een voorkeur hebt voor vega\, vlees of een combi. \nDe BBQ begint om 18.00uur maar kom gezellig op tijd zodat je een mooi plekje kan uitzoeken in de tuin en neem de tijd om te genieten van de DJ’s of maak vooraf gebruik van een van de leuke activiteiten zoals:\nGRATIS : Jeu de Boule\, voetbal\, vollybal\, badminton\, knotshockey\, klompengolf & onze bord-spelen.\nOf tegen vergoeding : Paintball\, Escaperoom\, Archery Tag\, Boksbal\, tafel-voetbal\, mechanische stier of andere wisselnde attracties. \nNaast de BBQ mogelijkheden altijd heerlijke gerechten en fingerfood van de kaart. Te bestellen via de Qr code op elke tafel.\nBij minder weer verhuizen we lekker naar binnen naar het Grand Cafe\, Restaurant of multifunctionele grote zaal
URL:https://dejungle.events/event/lazy-sunday-family-bbq-buffet-3/
LOCATION:de Jungle\, Wandelweg 12\, Wormerveer\, Noord-Holland\, 1521 HK\, Nederland
ATTACH;FMTTYPE=image/jpeg:https://dejungle.events/wp-content/uploads/2020/07/BBQ_flyer.jpg
ORGANIZER;CN="Rob van Zweeden":MAILTO:info@dejungle.events
END:VEVENT
BEGIN:VEVENT
DTSTART;TZID=Europe/Amsterdam:20200807T183000
DTEND;TZID=Europe/Amsterdam:20200807T213000
DTSTAMP:20260423T044214
CREATED:20200717T090220Z
LAST-MODIFIED:20200717T093346Z
UID:933-1596825000-1596835800@dejungle.events
SUMMARY:"Freaky Jungle Circus" Dinnershow
DESCRIPTION:Hey tijger!! Zin in heerlijk eten\, te gek entertainment en feest?\nKom dan naar de Dinnershow “Freaky Jungle Circus”\, want we nemen je mee op avontuur in onze indoor Jungle\, waar je kunt genieten van een viergangen diner mèt BBQ!  \nTijdens deze reis zul je je niet vervelen\, want je wordt kostelijk vermaakt met muziek\, zang\, dans en bijzondere acts.\nHet ene moment waan je je in Hawaii\, daarna in Mexico of toch in het midden Oosten? Voor ieder wat wils en natuurlijk ook geschikt voor vegans. \nReserveren is verplicht en alleen per twee mogelijk ivm placeren en de RIVM regels! We hebben maar een beperkte beschikbaarheid! \n*Arrangement*\nTickets €44\,95\nWelkomst drankje\n4 gangen diner\nVolop entertainment \n*Info* \nDe Jungle Tuin Wormerveer\nInloop 18.30 – 19.00\nStart show 19.00\nEinde programma 21.30 \nAfter party: dansjes en drankjes in de prachtige Jungle tuin \nCoronamaatregelen van zijn van kracht! \nDresscode: kleurrijk zomers
URL:https://dejungle.events/event/freaky-jungle-circus-dinnershow/
LOCATION:de Jungle\, Wandelweg 12\, Wormerveer\, Noord-Holland\, 1521 HK\, Nederland
ATTACH;FMTTYPE=image/jpeg:https://dejungle.events/wp-content/uploads/2020/07/jungleCircus.jpg
ORGANIZER;CN="Rob van Zweeden":MAILTO:info@dejungle.events
END:VEVENT
BEGIN:VEVENT
DTSTART;TZID=Europe/Amsterdam:20200809T180000
DTEND;TZID=Europe/Amsterdam:20200809T210000
DTSTAMP:20260423T044214
CREATED:20200728T133358Z
LAST-MODIFIED:20200729T114917Z
UID:980-1596996000-1597006800@dejungle.events
SUMMARY:Lazy sunday family BBQ buffet
DESCRIPTION:Augustus is onze BBQ maand ! \nNaast de DIY BBQ diner voor 2 nu ook elke zondag een heerlijk BBQ Buffet voor de hele familie.\nDeelname : 20\,00pp. \nReserveer op tijd een tafel voor 2\, 4\, 6\, 8 of 10 en maak gebruik van  heerlijk vlees of vega opties van de houtskool grill.\nOnbeperkt stokbrood\, & kruidenboter\, verse frietjes\, en diverse salades & sausjes die je zelf naar wens kan opscheppen. Voor elke deelnemer 4 x keuze van de Grill.\ni.v.m. de voorbereidingen is reserveren is een must\, en laat dan ook even weten of je een voorkeur hebt voor vega\, vlees of een combi. \nDe BBQ begint om 18.00uur maar kom gezellig op tijd zodat je een mooi plekje kan uitzoeken in de tuin en neem de tijd om te genieten van de DJ’s of maak vooraf gebruik van een van de leuke activiteiten zoals:\nGRATIS : Jeu de Boule\, voetbal\, vollybal\, badminton\, knotshockey\, klompengolf & onze bord-spelen.\nOf tegen vergoeding : Paintball\, Escaperoom\, Archery Tag\, Boksbal\, tafel-voetbal\, mechanische stier of andere wisselnde attracties. \nNaast de BBQ mogelijkheden altijd heerlijke gerechten en fingerfood van de kaart. Te bestellen via de Qr code op elke tafel.\nBij minder weer verhuizen we lekker naar binnen naar het Grand Cafe\, Restaurant of multifunctionele grote zaal
URL:https://dejungle.events/event/lazy-sunday-family-bbq-buffet-2/
LOCATION:de Jungle\, Wandelweg 12\, Wormerveer\, Noord-Holland\, 1521 HK\, Nederland
ATTACH;FMTTYPE=image/jpeg:https://dejungle.events/wp-content/uploads/2020/07/BBQ_flyer.jpg
ORGANIZER;CN="Rob van Zweeden":MAILTO:info@dejungle.events
END:VEVENT
BEGIN:VEVENT
DTSTART;TZID=Europe/Amsterdam:20200814T170000
DTEND;TZID=Europe/Amsterdam:20200815T000000
DTSTAMP:20260423T044214
CREATED:20200805T202322Z
LAST-MODIFIED:20200805T204337Z
UID:1070-1597424400-1597449600@dejungle.events
SUMMARY:BIOS in de Jungle: Film onder de sterren!
DESCRIPTION:???????????????? ???????? ???????? ????????????????????????\nWaarom zou je nu binnen een film gaan kijken als dit ook bij ons in de tuin kan? Vrijdag 14 augustus gaan wij een echte buitenbioscoop opzetten met een extra Jungle twist. Van tevoren kunnen jullie namelijk genieten van BBQ bij je eigen tafel. Mocht je alleen voor de film willen komen is dat natuurlijk ook geen probleem. \n????????????????????????? ????????????????????????!\n– Een eigen BBQ bij je tafel met een ruim aanbod aan vlees en vegan opties (later meer info hierover)\n– Film kijken onder de sterren\n– Unieke locatie in onze Jungle tuin\n– Onbeperkte popcorn voor tijdens de film\n– BBQ voor groepen van 2\,4 of 6\n– Geluid via je eigen koptelefoon\n– Na de film knus aan het kampvuur zitten \n???????? ????????????????\nDe film kondigen wij later deze week aan! \n????????????????????????????????????\nInloop: 17.00\nStart BBQ: 17.30 \nStart film: 21.30\nPauze: 22.45\nEinde: 00.00 \n????????????????????????????\nBios: €17\,00 (exclusief servicekosten)\nCombi Bios + BBQ: €34\,00 (exclusief servicekosten) \nVia deze link reserveer je een van onze arrangementen. \n????????????????????????????????????????????????????????\nDe Jungle in Wormerveer is het beste te bereiken per trein. Eenmaal aangekomen is het 1 minuut lopen vanaf station Wormerveer. Je auto kan je gratis parkeren bij de parking naast het station. \nAdres:\nWandelweg 12\n1521 AG Wormerveer \n????????????????????-19 ????????????????????????????????????????????\nWij houden ons ten alle tijden aan de huidige RIVM maatregelen. Bij binnenkomst vindt er een screening plaats.
URL:https://dejungle.events/event/bios-in-de-jungle-film-onder-de-sterren/
LOCATION:de Jungle\, Wandelweg 12\, Wormerveer\, Noord-Holland\, 1521 HK\, Nederland
ATTACH;FMTTYPE=image/jpeg:https://dejungle.events/wp-content/uploads/2020/08/de-jungle-bios-facebook-1920x1080-1.jpg
ORGANIZER;CN="Rob van Zweeden":MAILTO:info@dejungle.events
END:VEVENT
BEGIN:VEVENT
DTSTART;TZID=Europe/Amsterdam:20200816T180000
DTEND;TZID=Europe/Amsterdam:20200816T210000
DTSTAMP:20260423T044214
CREATED:20200728T133308Z
LAST-MODIFIED:20200729T115017Z
UID:978-1597600800-1597611600@dejungle.events
SUMMARY:Lazy sunday family BBQ buffet
DESCRIPTION:Augustus is onze BBQ maand ! \nNaast de DIY BBQ diner voor 2 nu ook elke zondag een heerlijk BBQ Buffet voor de hele familie.\nDeelname : 20\,00pp. \nReserveer op tijd een tafel voor 2\, 4\, 6\, 8 of 10 en maak gebruik van  heerlijk vlees of vega opties van de houtskool grill.\nOnbeperkt stokbrood\, & kruidenboter\, verse frietjes\, en diverse salades & sausjes die je zelf naar wens kan opscheppen. Voor elke deelnemer 4 x keuze van de Grill.\ni.v.m. de voorbereidingen is reserveren is een must\, en laat dan ook even weten of je een voorkeur hebt voor vega\, vlees of een combi. \nDe BBQ begint om 18.00uur maar kom gezellig op tijd zodat je een mooi plekje kan uitzoeken in de tuin en neem de tijd om te genieten van de DJ’s of maak vooraf gebruik van een van de leuke activiteiten zoals:\nGRATIS : Jeu de Boule\, voetbal\, vollybal\, badminton\, knotshockey\, klompengolf & onze bord-spelen.\nOf tegen vergoeding : Paintball\, Escaperoom\, Archery Tag\, Boksbal\, tafel-voetbal\, mechanische stier of andere wisselnde attracties. \nNaast de BBQ mogelijkheden altijd heerlijke gerechten en fingerfood van de kaart. Te bestellen via de Qr code op elke tafel.\nBij minder weer verhuizen we lekker naar binnen naar het Grand Cafe\, Restaurant of multifunctionele grote zaal
URL:https://dejungle.events/event/lazy-sunday-family-bbq-buffet/
LOCATION:de Jungle\, Wandelweg 12\, Wormerveer\, Noord-Holland\, 1521 HK\, Nederland
ATTACH;FMTTYPE=image/jpeg:https://dejungle.events/wp-content/uploads/2020/07/BBQ_flyer.jpg
ORGANIZER;CN="Rob van Zweeden":MAILTO:info@dejungle.events
END:VEVENT
BEGIN:VEVENT
DTSTART;TZID=Europe/Amsterdam:20200823T180000
DTEND;TZID=Europe/Amsterdam:20200823T210000
DTSTAMP:20260423T044214
CREATED:20200818T114532Z
LAST-MODIFIED:20200825T102916Z
UID:1156-1598205600-1598216400@dejungle.events
SUMMARY:Lazy sunday family BBQ buffet
DESCRIPTION:Augustus is onze BBQ maand ! \nNaast de DIY BBQ diner voor 2 nu ook elke zondag een heerlijk BBQ Buffet voor de hele familie.\nDeelname : 20\,00pp. \nReserveer op tijd een tafel voor 2\, 4\, 6\, 8 of 10 en maak gebruik van heerlijk vlees of vega opties van de houtskool grill.\nOnbeperkt stokbrood\, & kruidenboter\, verse frietjes\, en diverse salades & sausjes die je zelf naar wens kan opscheppen. Voor elke deelnemer 4 x keuze van de Grill.\ni.v.m. de voorbereidingen is reserveren is een must\, en laat dan ook even weten of je een voorkeur hebt voor vega\, vlees of een combi. \nDe BBQ begint om 18.00uur maar kom gezellig op tijd zodat je een mooi plekje kan uitzoeken in de tuin en neem de tijd om te genieten van de DJ’s of maak vooraf gebruik van een van de leuke activiteiten zoals:\nGRATIS : Jeu de Boule\, voetbal\, vollybal\, badminton\, knotshockey\, klompengolf & onze bord-spelen.\nOf tegen vergoeding : Paintball\, Escaperoom\, Archery Tag\, Boksbal\, tafel-voetbal\, mechanische stier of andere wisselnde attracties. \nNaast de BBQ mogelijkheden altijd heerlijke gerechten en fingerfood van de kaart. Te bestellen via de Qr code op elke tafel.\nBij minder weer verhuizen we lekker naar binnen naar het Grand Cafe\, Restaurant of multifunctionele grote zaal
URL:https://dejungle.events/event/lazy-sunday-family-bbq-buffet-4/
LOCATION:de Jungle\, Wandelweg 12\, Wormerveer\, Noord-Holland\, 1521 HK\, Nederland
ATTACH;FMTTYPE=image/jpeg:https://dejungle.events/wp-content/uploads/2020/07/BBQ_flyer.jpg
ORGANIZER;CN="Rob van Zweeden":MAILTO:info@dejungle.events
END:VEVENT
BEGIN:VEVENT
DTSTART;TZID=Europe/Amsterdam:20200828T170000
DTEND;TZID=Europe/Amsterdam:20200828T224500
DTSTAMP:20260423T044214
CREATED:20200818T115120Z
LAST-MODIFIED:20200828T122843Z
UID:1158-1598634000-1598654700@dejungle.events
SUMMARY:Bios in De Jungle: Film onder de sterren! | Jumanji
DESCRIPTION:BIOS IN DE JUNGLE\nWaarom zou je nu binnen een film gaan kijken als dit ook bij ons in de tuin kan?\nVrijdag 28 augustus gaan wij een echte buitenbioscoop opzetten met een extra Jungle twist. Van tevoren kunnen jullie namelijk genieten van BBQ bij je eigen tafel.\nMocht je alleen voor de film willen komen is dat natuurlijk ook geen probleem. \n(Met slecht weer\, gaan we binnen door met een beperkt aantal mensen: 50 pers.) \nDE FILM\nVoor deze eerste editie in De Jungle is er natuurlijk maar 1 film echt geschikt\, en dat is Jumanji. Welcome to the Jungle !\nCheck de trailer:\n \nPROGRAMMA\n\n\nInloop: 17.00\nStart BBQ: 17.30\nStart film: 21.30\nPauze: 22.45\nEinde: 00.00\n\n\n  \nTICKETS\n\n\nBios: €10\,00 (exclusief servicekosten)\nCombi Bios + BBQ: €25\,00 (exclusief servicekosten)\n\n\n  \nBEREIKBAARHEID\nDe Jungle in Wormerveer is het beste te bereiken per trein. Eenmaal aangekomen is het 1 minuut lopen vanaf station Wormerveer. Ben je met de auto\, dan kun je die gratis parkeren bij de parking naast het station.\nAdres:\nWandelweg 12\n1521 AG Wormerveer\n  \nCOVID-19 MAATREGELEN\nWij houden ons ten alle tijden aan de huidige RIVM maatregelen. Bij binnenkomst vindt er een screening plaats.\n 
URL:https://dejungle.events/event/bios-in-de-jungle-film-onder-de-sterren-jumanji/
LOCATION:de Jungle\, Wandelweg 12\, Wormerveer\, Noord-Holland\, 1521 HK\, Nederland
ATTACH;FMTTYPE=image/jpeg:https://dejungle.events/wp-content/uploads/2020/08/Jungle-banner.jpeg
ORGANIZER;CN="Rob van Zweeden":MAILTO:info@dejungle.events
END:VEVENT
BEGIN:VEVENT
DTSTART;TZID=Europe/Amsterdam:20200830T140000
DTEND;TZID=Europe/Amsterdam:20200831T000000
DTSTAMP:20260423T044214
CREATED:20200818T121346Z
LAST-MODIFIED:20200818T121346Z
UID:1165-1598796000-1598832000@dejungle.events
SUMMARY:LVHF Presents Jungle Beat
DESCRIPTION:LVHF Presents Jungle Beat\, een mini Urban Outdoor dinner event op de meest toffe locatie vlakbij Amsterdam. \nhttps://dejungle.events/wp-content/uploads/2020/08/30augJungleBeat.mp4\nBIGGI – IRWAN – SAMBLANS\nILIASSOPDEBEAT | MORADZO | DON VIE | NOISY CHAMP | STANGA | MIMI | LATU | LUCKY JONES | EXCLU | MIKE ROCK \n* MYSTERY GUEST *\n 
URL:https://dejungle.events/event/lvhf-presents-jungle-beat/
LOCATION:de Jungle\, Wandelweg 12\, Wormerveer\, Noord-Holland\, 1521 HK\, Nederland
ATTACH;FMTTYPE=image/jpeg:https://dejungle.events/wp-content/uploads/2020/08/junglebeat.jpg
ORGANIZER;CN="Rob van Zweeden":MAILTO:info@dejungle.events
END:VEVENT
BEGIN:VEVENT
DTSTART;TZID=Europe/Amsterdam:20200830T180000
DTEND;TZID=Europe/Amsterdam:20200830T210000
DTSTAMP:20260423T044214
CREATED:20200825T102940Z
LAST-MODIFIED:20200825T102940Z
UID:1200-1598810400-1598821200@dejungle.events
SUMMARY:Lazy sunday family BBQ buffet
DESCRIPTION:Augustus is onze BBQ maand ! \nNaast de DIY BBQ diner voor 2 nu ook elke zondag een heerlijk BBQ Buffet voor de hele familie.\nDeelname : 20\,00pp. \nReserveer op tijd een tafel voor 2\, 4\, 6\, 8 of 10 en maak gebruik van heerlijk vlees of vega opties van de houtskool grill.\nOnbeperkt stokbrood\, & kruidenboter\, verse frietjes\, en diverse salades & sausjes die je zelf naar wens kan opscheppen. Voor elke deelnemer 4 x keuze van de Grill.\ni.v.m. de voorbereidingen is reserveren is een must\, en laat dan ook even weten of je een voorkeur hebt voor vega\, vlees of een combi. \nDe BBQ begint om 18.00uur maar kom gezellig op tijd zodat je een mooi plekje kan uitzoeken in de tuin en neem de tijd om te genieten van de DJ’s of maak vooraf gebruik van een van de leuke activiteiten zoals:\nGRATIS : Jeu de Boule\, voetbal\, vollybal\, badminton\, knotshockey\, klompengolf & onze bord-spelen.\nOf tegen vergoeding : Paintball\, Escaperoom\, Archery Tag\, Boksbal\, tafel-voetbal\, mechanische stier of andere wisselnde attracties. \nNaast de BBQ mogelijkheden altijd heerlijke gerechten en fingerfood van de kaart. Te bestellen via de Qr code op elke tafel.\nBij minder weer verhuizen we lekker naar binnen naar het Grand Cafe\, Restaurant of multifunctionele grote zaal
URL:https://dejungle.events/event/lazy-sunday-family-bbq-buffet-5/
LOCATION:de Jungle\, Wandelweg 12\, Wormerveer\, Noord-Holland\, 1521 HK\, Nederland
ATTACH;FMTTYPE=image/jpeg:https://dejungle.events/wp-content/uploads/2020/07/BBQ_flyer.jpg
ORGANIZER;CN="Rob van Zweeden":MAILTO:info@dejungle.events
END:VEVENT
END:VCALENDAR