BEGIN:VCALENDAR
VERSION:2.0
PRODID:-//De Jungle - ECPv6.15.20//NONSGML v1.0//EN
CALSCALE:GREGORIAN
METHOD:PUBLISH
X-WR-CALNAME:De Jungle
X-ORIGINAL-URL:https://dejungle.events
X-WR-CALDESC:Evenementen voor De Jungle
REFRESH-INTERVAL;VALUE=DURATION:PT1H
X-Robots-Tag:noindex
X-PUBLISHED-TTL:PT1H
BEGIN:VTIMEZONE
TZID:Europe/Amsterdam
BEGIN:DAYLIGHT
TZOFFSETFROM:+0100
TZOFFSETTO:+0200
TZNAME:CEST
DTSTART:20200329T010000
END:DAYLIGHT
BEGIN:STANDARD
TZOFFSETFROM:+0200
TZOFFSETTO:+0100
TZNAME:CET
DTSTART:20201025T010000
END:STANDARD
BEGIN:DAYLIGHT
TZOFFSETFROM:+0100
TZOFFSETTO:+0200
TZNAME:CEST
DTSTART:20210328T010000
END:DAYLIGHT
BEGIN:STANDARD
TZOFFSETFROM:+0200
TZOFFSETTO:+0100
TZNAME:CET
DTSTART:20211031T010000
END:STANDARD
BEGIN:DAYLIGHT
TZOFFSETFROM:+0100
TZOFFSETTO:+0200
TZNAME:CEST
DTSTART:20220327T010000
END:DAYLIGHT
BEGIN:STANDARD
TZOFFSETFROM:+0200
TZOFFSETTO:+0100
TZNAME:CET
DTSTART:20221030T010000
END:STANDARD
END:VTIMEZONE
BEGIN:VEVENT
DTSTART;TZID=Europe/Amsterdam:20210703T100000
DTEND;TZID=Europe/Amsterdam:20210703T104500
DTSTAMP:20260422T025833
CREATED:20210608T132823Z
LAST-MODIFIED:20210629T132644Z
UID:1601-1625306400-1625309100@dejungle.events
SUMMARY:Sportclinics in de Jungle Tuin: Zumba in de Bamboe Tuin op 3 juli
DESCRIPTION:We organiseren in samenwerking met de Persoonlijke trainers van “MJack” van 10:00 tot 10:45 een fantastische Zumba clinic. Zumba is een fitness programma dat Latin en internationale muziek combineert met dance moves. Zumba routines gebruikt interval training — wisselend tussen snelle en langzame rithmes — om cardiovasculaire fitheid te verbeteren. Goed voor hart en bloedvaten dus. Voel je jong en gezond. Doe mee en meld je aan voor De Jungle Zumba Workout!\nAfhankelijk van de Corona maatregelen en aanmeldingen zijn er mogelijkheden voor kleine groepjes om op onze sportweide en tussen het bamboe in de Bamboe tuin voor Yoga een Zumba clinic\, of een  Kickboxtraining.\nKom deze Zaterdag gezellig meedoen met de Zumba les van Minerva midden in de Bamboe tuin ! \nDe kosten voor deze training is slechts €10\,- p.p.\nWil je extra korting? Er is een 10-rittenkaart verkrijgbaar. Vraag Minerva de details. \nOm je aan te melden bel je met 020 – 613 11 29 of vul het formulier in: \n\n\n                \n                        \n                            Sport clinics\n                            Meld je aan voor de sport clinics van De Jungle \n                        \n                        Kies je sport clinic*Kies je sport clinic.\nGeorganiseerd door De Jungle i.s.m. MJack.Kies je sport clinicdo 25 november Zumba workout ( € 10\,- )zo 28 november Zumba workout ( € 10\,- )do 2 december Zumba workout ( € 10\,- )zo 5 december Zumba workout ( € 10\,- )do 9 december Zumba workout ( € 10\,- )zo 12 december Zumba workout ( € 10\,- )Naam*\n                            \n                            \n                                                    Voornaam\n                                                    \n                                                \n                            \n                            \n                                                            Achternaam\n                                                            \n                                                        \n                            \n                        Adres    \n                    \n                         \n                                        Straat + huisnummer\n                                        \n                                   \n                                    Plaats\n                                    \n                                 \n                                    Postcode\n                                    \n                                \n                    \n                E-mailadres*\n                            \n                        TelefoonCAPTCHA
URL:https://dejungle.events/event/sportclinics-in-de-jungle-tuin-zumba-in-de-bamboe-tuin-op-3-juli/
LOCATION:de Jungle\, Wandelweg 12\, Wormerveer\, Noord-Holland\, 1521 HK\, Nederland
ORGANIZER;CN="Rob van Zweeden":MAILTO:info@dejungle.events
END:VEVENT
BEGIN:VEVENT
DTSTART;TZID=Europe/Amsterdam:20210704T170000
DTEND;TZID=Europe/Amsterdam:20210704T220000
DTSTAMP:20260422T025833
CREATED:20210623T152209Z
LAST-MODIFIED:20210623T155543Z
UID:1651-1625418000-1625436000@dejungle.events
SUMMARY:Latin Sunday met DJ Tommy Tequila en Gratis Salsa les van Ramiro
DESCRIPTION:Wat je kunt verwachten :\nVanaf 4 juli elke zondag heerlijke Latin muziek\, Live DJ’s\, Mexicaanse keuken\, cocktails en meer. \nBinnen en buiten kan gedanst worden op de heerlijke klanken van bv. Latin DJ Tommy Tequila. \nOp 4 juli is de proefles van Ramiro Salsa gratis.\nVoor de salsa les graag aanmelden bij Ramiro via 06 42855631 of feugomiro@gmail.com \nEen tafeltje\, binnen of buiten reserveren of andere vragen via de Jungle\n06 54636922
URL:https://dejungle.events/event/latin-sunday-met-dj-tommy-tequila-en-gratis-salsa-les-van-ramiro/
LOCATION:de Jungle\, Wandelweg 12\, Wormerveer\, Noord-Holland\, 1521 HK\, Nederland
ORGANIZER;CN="Rob van Zweeden":MAILTO:info@dejungle.events
END:VEVENT
BEGIN:VEVENT
DTSTART;TZID=Europe/Amsterdam:20210710T100000
DTEND;TZID=Europe/Amsterdam:20210710T104500
DTSTAMP:20260422T025833
CREATED:20210608T133105Z
LAST-MODIFIED:20210629T132625Z
UID:1603-1625911200-1625913900@dejungle.events
SUMMARY:Sportclinics in de Jungle Tuin: Zumba in de Bamboe Tuin op 10 juli
DESCRIPTION:We organiseren in samenwerking met de Persoonlijke trainers van “MJack” van 10:00 tot 10:45 een fantastische Zumba clinic. Zumba is een fitness programma dat Latin en internationale muziek combineert met dance moves. Zumba routines gebruikt interval training — wisselend tussen snelle en langzame rithmes — om cardiovasculaire fitheid te verbeteren. Goed voor hart en bloedvaten dus. Voel je jong en gezond. Doe mee en meld je aan voor De Jungle Zumba Workout!\nAfhankelijk van de Corona maatregelen en aanmeldingen zijn er mogelijkheden voor kleine groepjes om op onze sportweide en tussen het bamboe in de Bamboe tuin voor Yoga een Zumba clinic\, of een  Kickboxtraining.\nKom deze Zaterdag gezellig meedoen met de Zumba les van Minerva midden in de Bamboe tuin ! \nDe kosten voor deze training is slechts €10\,- p.p.\nWil je extra korting? Er is een 10-rittenkaart verkrijgbaar. Vraag Minerva de details. \nOm je aan te melden bel je met 020 – 613 11 29 of vul het formulier in: \n\n                \n                        \n                            Sport clinics\n                            Meld je aan voor de sport clinics van De Jungle \n                        \n                        Kies je sport clinic*Kies je sport clinic.\nGeorganiseerd door De Jungle i.s.m. MJack.Kies je sport clinicdo 25 november Zumba workout ( € 10\,- )zo 28 november Zumba workout ( € 10\,- )do 2 december Zumba workout ( € 10\,- )zo 5 december Zumba workout ( € 10\,- )do 9 december Zumba workout ( € 10\,- )zo 12 december Zumba workout ( € 10\,- )Naam*\n                            \n                            \n                                                    Voornaam\n                                                    \n                                                \n                            \n                            \n                                                            Achternaam\n                                                            \n                                                        \n                            \n                        Adres    \n                    \n                         \n                                        Straat + huisnummer\n                                        \n                                   \n                                    Plaats\n                                    \n                                 \n                                    Postcode\n                                    \n                                \n                    \n                E-mailadres*\n                            \n                        TelefoonCAPTCHA
URL:https://dejungle.events/event/sportclinics-in-de-jungle-tuin-zumba-in-de-bamboe-tuin-op-10-juli/
LOCATION:de Jungle\, Wandelweg 12\, Wormerveer\, Noord-Holland\, 1521 HK\, Nederland
ORGANIZER;CN="Rob van Zweeden":MAILTO:info@dejungle.events
END:VEVENT
BEGIN:VEVENT
DTSTART;TZID=Europe/Amsterdam:20210717T100000
DTEND;TZID=Europe/Amsterdam:20210717T104500
DTSTAMP:20260422T025833
CREATED:20210608T133242Z
LAST-MODIFIED:20210629T132746Z
UID:1605-1626516000-1626518700@dejungle.events
SUMMARY:Sportclinics in de Jungle Tuin: Zumba in de Bamboe Tuin op 17 juli
DESCRIPTION:We organiseren in samenwerking met de Persoonlijke trainers van “MJack” van 10:00 tot 10:45 een fantastische Zumba clinic. Zumba is een fitness programma dat Latin en internationale muziek combineert met dance moves. Zumba routines gebruikt interval training — wisselend tussen snelle en langzame rithmes — om cardiovasculaire fitheid te verbeteren. Goed voor hart en bloedvaten dus. Voel je jong en gezond. Doe mee en meld je aan voor De Jungle Zumba Workout!\nAfhankelijk van de Corona maatregelen en aanmeldingen zijn er mogelijkheden voor kleine groepjes om op onze sportweide en tussen het bamboe in de Bamboe tuin voor Yoga een Zumba clinic\, of een  Kickboxtraining.\nKom deze Zaterdag gezellig meedoen met de Zumba les van Minerva midden in de Bamboe tuin ! \nDe kosten voor deze training is slechts €10\,- p.p.\nWil je extra korting? Er is een 10-rittenkaart verkrijgbaar. Vraag Minerva de details. \nOm je aan te melden bel je met 020 – 613 11 29 of vul het formulier in: \n\n                \n                        \n                            Sport clinics\n                            Meld je aan voor de sport clinics van De Jungle \n                        \n                        Kies je sport clinic*Kies je sport clinic.\nGeorganiseerd door De Jungle i.s.m. MJack.Kies je sport clinicdo 25 november Zumba workout ( € 10\,- )zo 28 november Zumba workout ( € 10\,- )do 2 december Zumba workout ( € 10\,- )zo 5 december Zumba workout ( € 10\,- )do 9 december Zumba workout ( € 10\,- )zo 12 december Zumba workout ( € 10\,- )Naam*\n                            \n                            \n                                                    Voornaam\n                                                    \n                                                \n                            \n                            \n                                                            Achternaam\n                                                            \n                                                        \n                            \n                        Adres    \n                    \n                         \n                                        Straat + huisnummer\n                                        \n                                   \n                                    Plaats\n                                    \n                                 \n                                    Postcode\n                                    \n                                \n                    \n                E-mailadres*\n                            \n                        TelefoonCAPTCHA
URL:https://dejungle.events/event/sportclinics-in-de-jungle-tuin-zumba-in-de-bamboe-tuin-op-17-juli/
LOCATION:de Jungle\, Wandelweg 12\, Wormerveer\, Noord-Holland\, 1521 HK\, Nederland
ORGANIZER;CN="Rob van Zweeden":MAILTO:info@dejungle.events
END:VEVENT
BEGIN:VEVENT
DTSTART;TZID=Europe/Amsterdam:20210724T100000
DTEND;TZID=Europe/Amsterdam:20210724T104500
DTSTAMP:20260422T025833
CREATED:20210608T133431Z
LAST-MODIFIED:20210608T133431Z
UID:1608-1627120800-1627123500@dejungle.events
SUMMARY:Sportclinics in de Jungle Tuin: Zumba in de Bamboe Tuin op 24 juli
DESCRIPTION:We organiseren in samenwerking met de Persoonlijke trainers van “MJack” van 10:00 tot 10:45 een fantastische Zumba clinic. Zumba is een fitness programma dat Latin en internationale muziek combineert met dance moves. Zumba routines gebruikt interval training — wisselend tussen snelle en langzame rithmes — om cardiovasculaire fitheid te verbeteren. Goed voor hart en bloedvaten dus. Voel je jong en gezond. Doe mee en meld je aan voor De Jungle Zumba Workout!\nAfhankelijk van de Corona maatregelen en aanmeldingen zijn er mogelijkheden voor kleine groepjes om op onze sportweide en tussen het bamboe in de Bamboe tuin voor Yoga een Zumba clinic\, of een  Kickboxtraining.\nKom deze Zaterdag gezellig meedoen met de Zumba les van Minerva midden in de Bamboe tuin ! \nDe kosten voor deze training is slechts €10\,- p.p. (incl. Koffie\, Thee of een sapje na afloop !)\nOm je aan te melden bel je met 020 – 613 11 29 of vul het formulier in: \n\n                \n                        \n                            Sport clinics\n                            Meld je aan voor de sport clinics van De Jungle \n                        \n                        Kies je sport clinic*Kies je sport clinic.\nGeorganiseerd door De Jungle i.s.m. MJack.Kies je sport clinicdo 25 november Zumba workout ( € 10\,- )zo 28 november Zumba workout ( € 10\,- )do 2 december Zumba workout ( € 10\,- )zo 5 december Zumba workout ( € 10\,- )do 9 december Zumba workout ( € 10\,- )zo 12 december Zumba workout ( € 10\,- )Naam*\n                            \n                            \n                                                    Voornaam\n                                                    \n                                                \n                            \n                            \n                                                            Achternaam\n                                                            \n                                                        \n                            \n                        Adres    \n                    \n                         \n                                        Straat + huisnummer\n                                        \n                                   \n                                    Plaats\n                                    \n                                 \n                                    Postcode\n                                    \n                                \n                    \n                E-mailadres*\n                            \n                        TelefoonCAPTCHA
URL:https://dejungle.events/event/sportclinics-in-de-jungle-tuin-zumba-in-de-bamboe-tuin-op-24-juli/
LOCATION:de Jungle\, Wandelweg 12\, Wormerveer\, Noord-Holland\, 1521 HK\, Nederland
ORGANIZER;CN="Rob van Zweeden":MAILTO:info@dejungle.events
END:VEVENT
BEGIN:VEVENT
DTSTART;TZID=Europe/Amsterdam:20210731T100000
DTEND;TZID=Europe/Amsterdam:20210731T104500
DTSTAMP:20260422T025833
CREATED:20210608T133600Z
LAST-MODIFIED:20210629T132840Z
UID:1610-1627725600-1627728300@dejungle.events
SUMMARY:Sportclinics in de Jungle Tuin: Zumba in de Bamboe Tuin op 31 juli
DESCRIPTION:We organiseren in samenwerking met de Persoonlijke trainers van “MJack” van 10:00 tot 10:45 een fantastische Zumba clinic. Zumba is een fitness programma dat Latin en internationale muziek combineert met dance moves. Zumba routines gebruikt interval training — wisselend tussen snelle en langzame rithmes — om cardiovasculaire fitheid te verbeteren. Goed voor hart en bloedvaten dus. Voel je jong en gezond. Doe mee en meld je aan voor De Jungle Zumba Workout!\nAfhankelijk van de Corona maatregelen en aanmeldingen zijn er mogelijkheden voor kleine groepjes om op onze sportweide en tussen het bamboe in de Bamboe tuin voor Yoga een Zumba clinic\, of een  Kickboxtraining.\nKom deze Zaterdag gezellig meedoen met de Zumba les van Minerva midden in de Bamboe tuin ! \nDe kosten voor deze training is slechts €10\,- p.p.\nWil je extra korting? Er is een 10-rittenkaart verkrijgbaar. Vraag Minerva de details. \nOm je aan te melden bel je met 020 – 613 11 29 of vul het formulier in: \n\n                \n                        \n                            Sport clinics\n                            Meld je aan voor de sport clinics van De Jungle \n                        \n                        Kies je sport clinic*Kies je sport clinic.\nGeorganiseerd door De Jungle i.s.m. MJack.Kies je sport clinicdo 25 november Zumba workout ( € 10\,- )zo 28 november Zumba workout ( € 10\,- )do 2 december Zumba workout ( € 10\,- )zo 5 december Zumba workout ( € 10\,- )do 9 december Zumba workout ( € 10\,- )zo 12 december Zumba workout ( € 10\,- )Naam*\n                            \n                            \n                                                    Voornaam\n                                                    \n                                                \n                            \n                            \n                                                            Achternaam\n                                                            \n                                                        \n                            \n                        Adres    \n                    \n                         \n                                        Straat + huisnummer\n                                        \n                                   \n                                    Plaats\n                                    \n                                 \n                                    Postcode\n                                    \n                                \n                    \n                E-mailadres*\n                            \n                        TelefoonCAPTCHA
URL:https://dejungle.events/event/sportclinics-in-de-jungle-tuin-zumba-in-de-bamboe-tuin-op-31-juli/
LOCATION:de Jungle\, Wandelweg 12\, Wormerveer\, Noord-Holland\, 1521 HK\, Nederland
ORGANIZER;CN="Rob van Zweeden":MAILTO:info@dejungle.events
END:VEVENT
END:VCALENDAR