BEGIN:VCALENDAR
VERSION:2.0
PRODID:-//De Jungle - ECPv6.15.20//NONSGML v1.0//EN
CALSCALE:GREGORIAN
METHOD:PUBLISH
X-ORIGINAL-URL:https://dejungle.events
X-WR-CALDESC:Evenementen voor De Jungle
REFRESH-INTERVAL;VALUE=DURATION:PT1H
X-Robots-Tag:noindex
X-PUBLISHED-TTL:PT1H
BEGIN:VTIMEZONE
TZID:Europe/Amsterdam
BEGIN:DAYLIGHT
TZOFFSETFROM:+0100
TZOFFSETTO:+0200
TZNAME:CEST
DTSTART:20210328T010000
END:DAYLIGHT
BEGIN:STANDARD
TZOFFSETFROM:+0200
TZOFFSETTO:+0100
TZNAME:CET
DTSTART:20211031T010000
END:STANDARD
BEGIN:DAYLIGHT
TZOFFSETFROM:+0100
TZOFFSETTO:+0200
TZNAME:CEST
DTSTART:20220327T010000
END:DAYLIGHT
BEGIN:STANDARD
TZOFFSETFROM:+0200
TZOFFSETTO:+0100
TZNAME:CET
DTSTART:20221030T010000
END:STANDARD
BEGIN:DAYLIGHT
TZOFFSETFROM:+0100
TZOFFSETTO:+0200
TZNAME:CEST
DTSTART:20230326T010000
END:DAYLIGHT
BEGIN:STANDARD
TZOFFSETFROM:+0200
TZOFFSETTO:+0100
TZNAME:CET
DTSTART:20231029T010000
END:STANDARD
END:VTIMEZONE
BEGIN:VEVENT
DTSTART;TZID=Europe/Amsterdam:20220219T080000
DTEND;TZID=Europe/Amsterdam:20220219T170000
DTSTAMP:20260421T090503
CREATED:20220219T163715Z
LAST-MODIFIED:20220219T163715Z
UID:2251-1645257600-1645290000@dejungle.events
SUMMARY:The Office Collective with Vibez
DESCRIPTION:Vibez will return at the jungle on a monthly base in 2022\nWhat sets us apart is the laid back chilled vibe and the inclusive athmosphere at our parties. Apart from great music we have the most lovely friends to dance and drink with.\nWe will have different guest dj’s alongside our residents every month!\nLast year was great and although we thrive to keep costs low we had to do something with tickets as it was too difficult planning staff when we have no indication how many people will attent.\nDJ’s for the opening:\nCanteen:\nCapricious –\n\nBizar M –\n\nClub:\nRay Levant –\n\nHope to see all of you soon!  \nTickets: https://shop.ikbenaanwezig.nl/tickets/event/vibez
URL:https://dejungle.events/event/the-office-collective-with-vibez/
LOCATION:de Jungle\, Wandelweg 12\, Wormerveer\, Noord-Holland\, 1521 HK\, Nederland
ATTACH;FMTTYPE=image/jpeg:https://dejungle.events/wp-content/uploads/2022/02/30apr2022vibez.jpg
END:VEVENT
BEGIN:VEVENT
DTSTART;TZID=Europe/Amsterdam:20220225T180000
DTEND;TZID=Europe/Amsterdam:20220225T235900
DTSTAMP:20260421T090503
CREATED:20220219T105516Z
LAST-MODIFIED:20220219T105846Z
UID:2157-1645812000-1645833540@dejungle.events
SUMMARY:KARNAVAL LA MUSIC
DESCRIPTION:Het  verkleed feest waar je bij wil zijn in de Jungle metTechno and  Melodic/Progressive \n2 rooms / 9 dj’s/ bar and Plate service  / dress to impress \nKARNAVAL LA MUSIC het meest gekke verkleed feest waar je bij wil zijn. Met het thema “Gekker kunnen we het niet maken” staat deze avond vol van plezier en heerlijke muziek.. \nMelodic/Progressive\nG.A.B.Y – Sylva de luna – Vintology – T-Gray\nTechno\nThalia – Sanne S\, Mr Milano & Paolo – Sieg Munzer \nTijd : 18:00 tot 23:45\nDe Jungle is geopend vanaf 17:00\nEntree : € 15\,- excl. Fee (Ticketlink of contant aan de deur)\nToilet : € 0\,50 (contant) \nTicketlink: https://partyflock.nl/order_ticket/426349 \nDe Jungle heeft twee binnen ruimtes en een tuin. Er is en bar en foodcorner aanwezig waar je kunt betalen met pin of contant. \nDe locatie is 400 meter gelegen van het NS Station Wormerveer hier is een ruime gratis parkeergelegenheid. Bij het NS Station neem je het voetgangers tunneltje richting de sportvelden. Aan je rechterhand zie je als eerste De Jungle. \nDe Laatste trein vanaf NS Wormerveer vertrekt om 00:56 naar Amsterdam Centraal. \nSee you in the Jungle🌴
URL:https://dejungle.events/event/karnaval-la-music/
LOCATION:de Jungle\, Wandelweg 12\, Wormerveer\, Noord-Holland\, 1521 HK\, Nederland
ATTACH;FMTTYPE=image/jpeg:https://dejungle.events/wp-content/uploads/2022/02/karnaval.jpg
END:VEVENT
BEGIN:VEVENT
DTSTART;TZID=Europe/Amsterdam:20220226T170000
DTEND;TZID=Europe/Amsterdam:20220226T235900
DTSTAMP:20260421T090503
CREATED:20220219T123253Z
LAST-MODIFIED:20220220T143625Z
UID:2161-1645894800-1645919940@dejungle.events
SUMMARY:Summervibe in de Jungle
DESCRIPTION:Genre: Melodic/Progressive/Techno\nLine-up volgt \nKom lekker dansen in de Jungle
URL:https://dejungle.events/event/jungle-summervibe-in-la-cantina/
LOCATION:de Jungle\, Wandelweg 12\, Wormerveer\, Noord-Holland\, 1521 HK\, Nederland
ATTACH;FMTTYPE=image/png:https://dejungle.events/wp-content/uploads/2022/02/za26feb-svibes.png
END:VEVENT
BEGIN:VEVENT
DTSTART;TZID=Europe/Amsterdam:20220226T180000
DTEND;TZID=Europe/Amsterdam:20220226T235900
DTSTAMP:20260421T090503
CREATED:20220219T130647Z
LAST-MODIFIED:20220219T130647Z
UID:2186-1645898400-1645919940@dejungle.events
SUMMARY:Private event
DESCRIPTION:Big Hal Private Event
URL:https://dejungle.events/event/private-event/
LOCATION:de Jungle\, Wandelweg 12\, Wormerveer\, Noord-Holland\, 1521 HK\, Nederland
ATTACH;FMTTYPE=image/png:https://dejungle.events/wp-content/uploads/2022/02/private-event2.png
END:VEVENT
BEGIN:VEVENT
DTSTART;TZID=Europe/Amsterdam:20220227T160000
DTEND;TZID=Europe/Amsterdam:20220227T235900
DTSTAMP:20260421T090503
CREATED:20220219T134932Z
LAST-MODIFIED:20220219T134932Z
UID:2212-1645977600-1646006340@dejungle.events
SUMMARY:Latin Sunday
DESCRIPTION:Lieve dansers\, \nOok deze week weer gezelligheid in De Salsa Jungle. Onze DJ’s El Che\, Sigi\, Antonito en Tommy Tequila zullen je verwennen met het beste van salsa\, bachata en kizomba. We beginnen om 12:00 \nTimetable:\nRestaurant\, Terras & buiten (afhankelijk van het weer)
URL:https://dejungle.events/event/latin-sunday-10/
LOCATION:de Jungle\, Wandelweg 12\, Wormerveer\, Noord-Holland\, 1521 HK\, Nederland
ATTACH;FMTTYPE=image/png:https://dejungle.events/wp-content/uploads/2021/09/Zondag-Algemeen-1024x536-1.png
END:VEVENT
END:VCALENDAR