BEGIN:VCALENDAR
VERSION:2.0
PRODID:-//De Jungle - ECPv6.15.20//NONSGML v1.0//EN
CALSCALE:GREGORIAN
METHOD:PUBLISH
X-WR-CALNAME:De Jungle
X-ORIGINAL-URL:https://dejungle.events
X-WR-CALDESC:Evenementen voor De Jungle
REFRESH-INTERVAL;VALUE=DURATION:PT1H
X-Robots-Tag:noindex
X-PUBLISHED-TTL:PT1H
BEGIN:VTIMEZONE
TZID:Europe/Amsterdam
BEGIN:DAYLIGHT
TZOFFSETFROM:+0100
TZOFFSETTO:+0200
TZNAME:CEST
DTSTART:20210328T010000
END:DAYLIGHT
BEGIN:STANDARD
TZOFFSETFROM:+0200
TZOFFSETTO:+0100
TZNAME:CET
DTSTART:20211031T010000
END:STANDARD
BEGIN:DAYLIGHT
TZOFFSETFROM:+0100
TZOFFSETTO:+0200
TZNAME:CEST
DTSTART:20220327T010000
END:DAYLIGHT
BEGIN:STANDARD
TZOFFSETFROM:+0200
TZOFFSETTO:+0100
TZNAME:CET
DTSTART:20221030T010000
END:STANDARD
BEGIN:DAYLIGHT
TZOFFSETFROM:+0100
TZOFFSETTO:+0200
TZNAME:CEST
DTSTART:20230326T010000
END:DAYLIGHT
BEGIN:STANDARD
TZOFFSETFROM:+0200
TZOFFSETTO:+0100
TZNAME:CET
DTSTART:20231029T010000
END:STANDARD
END:VTIMEZONE
BEGIN:VEVENT
DTSTART;TZID=Europe/Amsterdam:20220807T150000
DTEND;TZID=Europe/Amsterdam:20220807T235900
DTSTAMP:20260420T215520
CREATED:20220802T152012Z
LAST-MODIFIED:20220808T083244Z
UID:2743-1659884400-1659916740@dejungle.events
SUMMARY:Latin Sunday
DESCRIPTION:Ben jij er klaar voor? Ook deze zondag vanaf 15:00 heb je gratis entree tot de Latin Sunday in De Jungle. (zomer actie) \nKom je na 17:00? Geen probleem. Koop dan je kaartje met cash of pin aan de deur. \nOnze fraaie buitenruimte en de twee zalen wachten je op met diverse Latin muziek stijlen en verschillende DJ’s. \nEen Mexicaanse maaltijd en verfrissende cocktail staan op je te wachten bij de bar. \nParkeren is gratis en we zitten vlakbij het treinstation. Tot dans! \n 
URL:https://dejungle.events/event/latin-sunday-25/
LOCATION:de Jungle\, Wandelweg 12\, Wormerveer\, Noord-Holland\, 1521 HK\, Nederland
ATTACH;FMTTYPE=image/jpeg:https://dejungle.events/wp-content/uploads/2022/08/20220807.jpg
END:VEVENT
BEGIN:VEVENT
DTSTART;TZID=Europe/Amsterdam:20220814T150000
DTEND;TZID=Europe/Amsterdam:20220814T233000
DTSTAMP:20260420T215520
CREATED:20220808T083851Z
LAST-MODIFIED:20220808T083851Z
UID:2747-1660489200-1660519800@dejungle.events
SUMMARY:Latin Sunday Salsa Special
DESCRIPTION:Ben jij er klaar voor? Ook deze zondag vanaf 15:00 heb je gratis entree tot de Latin Sunday in De Jungle. (zomer actie) \nOnze fraaie buitenruimte en de twee zalen wachten je. Deze zondag komt de entertainment van de \nCaracas Latin Band + 5 DJ’s !\nEen Mexicaanse maaltijd en verfrissende cocktail staan op je te wachten bij de bar. \nParkeren is gratis en we zitten vlakbij het treinstation. Tot dans!
URL:https://dejungle.events/event/latin-sunday-salsa-special/
LOCATION:de Jungle\, Wandelweg 12\, Wormerveer\, Noord-Holland\, 1521 HK\, Nederland
ATTACH;FMTTYPE=image/jpeg:https://dejungle.events/wp-content/uploads/2022/08/20220814.jpg
END:VEVENT
BEGIN:VEVENT
DTSTART;TZID=Europe/Amsterdam:20220821T160000
DTEND;TZID=Europe/Amsterdam:20220821T233000
DTSTAMP:20260420T215520
CREATED:20220808T084349Z
LAST-MODIFIED:20220808T084349Z
UID:2754-1661097600-1661124600@dejungle.events
SUMMARY:Latin Sunday Cubamix Edition
DESCRIPTION:Ben jij er klaar voor? Ook deze zondag vanaf 15:00 heb je gratis entree tot de Latin Sunday in De Jungle. (zomer actie) \nKom je na 17:00? Geen probleem. Koop dan je kaartje met cash of pin aan de deur. \nOnze fraaie buitenruimte en de twee zalen wachten je op met diverse Latin muziek stijlen en verschillende DJ’s. De line-up: \nDJ EL Che\nLa Esquina Cubana\nLa Gozadera Cuban Salsa Party\nEen Mexicaanse maaltijd en verfrissende cocktail staan op je te wachten bij de bar. \nParkeren is gratis en we zitten vlakbij het treinstation. Tot dans!
URL:https://dejungle.events/event/latin-sunday-cubamix-edition/
LOCATION:de Jungle\, Wandelweg 12\, Wormerveer\, Noord-Holland\, 1521 HK\, Nederland
ATTACH;FMTTYPE=image/jpeg:https://dejungle.events/wp-content/uploads/2022/08/20220821.jpg
END:VEVENT
BEGIN:VEVENT
DTSTART;TZID=Europe/Amsterdam:20220827T193000
DTEND;TZID=Europe/Amsterdam:20220827T235900
DTSTAMP:20260420T215520
CREATED:20220809T141122Z
LAST-MODIFIED:20220809T141237Z
UID:2759-1661628600-1661644740@dejungle.events
SUMMARY:The Sound of Amsterdam
DESCRIPTION:Kom vandaag naar onze FUNKY HOUSE PARTY ! \nToegang is GRATIS ! \nDJ BLD AMSTERDAM en\nDJ MARLY MAR a.k.a. MR. MONDAY\ndraaien \nSoulful House \nDeep House \nTech House \nofwel \nMusic straight from the soul ! \nWe beginnen om 19:30 en gaan door tot 01:00 \nNeem je vrienden en vriendinnen mee en kom ook!
URL:https://dejungle.events/event/the-sound-of-amsterdam/
LOCATION:de Jungle\, Wandelweg 12\, Wormerveer\, Noord-Holland\, 1521 HK\, Nederland
ATTACH;FMTTYPE=image/jpeg:https://dejungle.events/wp-content/uploads/2022/08/27augpbj.jpeg
END:VEVENT
BEGIN:VEVENT
DTSTART;TZID=Europe/Amsterdam:20220828T140000
DTEND;TZID=Europe/Amsterdam:20220828T220000
DTSTAMP:20260420T215520
CREATED:20220707T141238Z
LAST-MODIFIED:20220823T135809Z
UID:2690-1661695200-1661724000@dejungle.events
SUMMARY:Latin Sunday Africa Edition
DESCRIPTION:Ben jij er klaar voor? Deze zondag vanaf 14:00 de speciale Latin Sunday Africa Edition in De Jungle! \nOnze fraaie buitenruimte en de twee zalen wachten je op. \nEen Mexicaanse maaltijd en verfrissende cocktail staan op je te wachten bij de bar. \nParkeren is gratis en we zitten vlakbij het treinstation. Tot dans! \nVandaag 5 DJ’s en 4 Area’s binnen en buiten! \nMa-Lamine & Patrick Ngambi\npresenteren \nDE LATIN SUNDAY AFRICA EDITION\nEen dag vol afrikaanse cultuur \nGuest show: \nDjembé band Zamana\n  \nVolg vandaag een toffe workshop \nKizomba Ginga workshop\nby the Ginga Queen: Eliza Sala\n+\nAfrikaanse dans workshop\nWest-afrikaanse Djembé workshop\nmega groot drumcirkel\nmet kampvuur en meer! \nWorkshops prijzen €7\,50 per workshop (inclusief entree) \nInformatie: 06-420 11 093
URL:https://dejungle.events/event/afrika-dag/
LOCATION:de Jungle\, Wandelweg 12\, Wormerveer\, Noord-Holland\, 1521 HK\, Nederland
ATTACH;FMTTYPE=image/jpeg:https://dejungle.events/wp-content/uploads/2022/08/28aug22.jpeg
END:VEVENT
END:VCALENDAR