BEGIN:VCALENDAR
VERSION:2.0
PRODID:-//De Jungle - ECPv6.15.20//NONSGML v1.0//EN
CALSCALE:GREGORIAN
METHOD:PUBLISH
X-ORIGINAL-URL:https://dejungle.events
X-WR-CALDESC:Evenementen voor De Jungle
REFRESH-INTERVAL;VALUE=DURATION:PT1H
X-Robots-Tag:noindex
X-PUBLISHED-TTL:PT1H
BEGIN:VTIMEZONE
TZID:Europe/Amsterdam
BEGIN:DAYLIGHT
TZOFFSETFROM:+0100
TZOFFSETTO:+0200
TZNAME:CEST
DTSTART:20210328T010000
END:DAYLIGHT
BEGIN:STANDARD
TZOFFSETFROM:+0200
TZOFFSETTO:+0100
TZNAME:CET
DTSTART:20211031T010000
END:STANDARD
BEGIN:DAYLIGHT
TZOFFSETFROM:+0100
TZOFFSETTO:+0200
TZNAME:CEST
DTSTART:20220327T010000
END:DAYLIGHT
BEGIN:STANDARD
TZOFFSETFROM:+0200
TZOFFSETTO:+0100
TZNAME:CET
DTSTART:20221030T010000
END:STANDARD
BEGIN:DAYLIGHT
TZOFFSETFROM:+0100
TZOFFSETTO:+0200
TZNAME:CEST
DTSTART:20230326T010000
END:DAYLIGHT
BEGIN:STANDARD
TZOFFSETFROM:+0200
TZOFFSETTO:+0100
TZNAME:CET
DTSTART:20231029T010000
END:STANDARD
END:VTIMEZONE
BEGIN:VEVENT
DTSTART;TZID=Europe/Amsterdam:20221211T180000
DTEND;TZID=Europe/Amsterdam:20221211T235900
DTSTAMP:20260420T143838
CREATED:20221206T104300Z
LAST-MODIFIED:20221206T104300Z
UID:3129-1670781600-1670803140@dejungle.events
SUMMARY:Latin Sunday in de Jungle Kizomba Special
DESCRIPTION:Boek de Latin Sunday in de Jungle Kizomba Special hier\nIn de Kizomba/Bachata Cantina:\ngast DJ I.am.Reggie de Kizomba Specialist & de Koningin van de Kizomba Eliza Sala uit Angola met een fantastische Ladies Freestyle Kizomba Workshop\nIn de Salsa Zaal:\nEen super leuke Salsa LA Style workshop voor koppels van Harrie & Michelle van dansschool U Can Dance\nin de Cantina\ntussen 18.00uur & 21.00uur lekker eten met een SURINAAMS BUFFET van de Jungle.\nLINE UP & PROGRAMMA :\nCANTINA:\n18.00u. – 21.00u. surinaams BUFFET MENU\n18.00u. – 19.00u. kizomba party\n19.00u. – 20.00u. Kizomba Workshop door Eliza Sala\n20.00u. – 22.00u. Kizomba & Bachata\n22.00u. – 24.00u. Latin Cross Over Party\nKizomba\, Bachata\, Reggaeton\, Afro House\nDJ I.am.Reggie\, DJ El Che\, DJ Tommy Tequila\nSALSA ZAAL:\n18.00u. – 19.00u. Salsa Party\n19.00u. – 20.00u. Salsa LA Workshop\ndoor Harrie & Michelle\n20.00u. – 22.00u. SALSA AROUND THE WORLD\n22.00u – 24.00u. Latin Mix Party\nDJ Michael\, DJ Billy\,\nENTREE:\nEARLY BIRD 7\,50\nNORMAL 10\,00\nDEUR 12\,50\n* Gratis Parkeren\n* Garderobe aanwezig\n* Ticketprijs is incl. Workshop en\nandersom\n* Kerst decoraties\n* Catering\n* Cocktail Bar\n* Vuurkorven en verwarmd terras\n* Kerst stal Photobooth\nIN DE MAAND DECEMBER ALLEEN OP 11 & 18 DECEMBER EEN LATIN SUNDAY\nIVM SINTERKLAAS & KERST\n\nDe Jungle\nWandelweg 12 A\nWormerveer\n(direct achter het station)\nINFO & RESERVEREN 0654636922
URL:https://dejungle.events/event/latin-sunday-in-de-jungle-kizomba-special/
LOCATION:de Jungle\, Wandelweg 12\, Wormerveer\, Noord-Holland\, 1521 HK\, Nederland
ATTACH;FMTTYPE=image/jpeg:https://dejungle.events/wp-content/uploads/2022/12/11dec2022.jpeg
END:VEVENT
BEGIN:VEVENT
DTSTART;TZID=Europe/Amsterdam:20221216T180000
DTEND;TZID=Europe/Amsterdam:20221216T235900
DTSTAMP:20260420T143838
CREATED:20221206T110501Z
LAST-MODIFIED:20221206T132424Z
UID:3134-1671213600-1671235140@dejungle.events
SUMMARY:Babalu Aye Grand Fiesta - San Lazaro Feest
DESCRIPTION:San Lazaro Fiesta is een groot Feest in Cuba\nOp verzoek en in samenwerking met de Cubaanse Community en vrienden van de Jungle en mij persoonlijk dit prachtige feest met ;\nHeerlijk Cubaans eten en drinken\nEen prachtige Afro/Cuba dance workshop van Pedro Ricardo\nEen shop met prachtige Cubaanse producten\nMaar liefst 4 Cubaanse TOP DJ’s zorgen voor de Muziek;\nDJ Nando\nDJ Angel\nDJ Eddy Mulato\nDJ El Che\nEn natuurlijk een prachtig Altaar ter ere van San Lazaro\nDress Code is Paars\nSet deze datum maar vast in de Agenda\nVRIJDAG 16 DECEMBER\nTickets online:\nBeperkt Early Bird : 8\,60\nNormaal Online : 11\,60\nAan de deur : 15\,00\nBoek hier je ticket !!
URL:https://dejungle.events/event/babalu-aye-grand-fiesta-san-lazaro-feest/
LOCATION:de Jungle\, Wandelweg 12\, Wormerveer\, Noord-Holland\, 1521 HK\, Nederland
ATTACH;FMTTYPE=image/jpeg:https://dejungle.events/wp-content/uploads/2022/11/2022-12-16CubaParty.jpeg
END:VEVENT
BEGIN:VEVENT
DTSTART;TZID=Europe/Amsterdam:20221218T180000
DTEND;TZID=Europe/Amsterdam:20221218T180000
DTSTAMP:20260420T143838
CREATED:20221206T133125Z
LAST-MODIFIED:20221206T133125Z
UID:3192-1671386400-1671386400@dejungle.events
SUMMARY:Latin Sunday in de Jungle : Christmas diner
DESCRIPTION:Latin Sunday in de Jungle Special ; Christmas Diner & Party\nIn de Romantic Christmas Cantina:\nEen heerlijke welkomst cocktail van Sol en gedekte tafels om romantisch te tafelen met z’n 2 of meer.\nEr is een heerlijk Cubaans 3 gangen Kerst Buffet met voor elk wat wils van af 18.00\nTussen 18.00 & 20.00 uur romantische Latin Dans muziek en een verrassingsoptreden.\nEr zijn beperkt kaarten voor deze optie dus wacht niet te lang en maak gerust gebruik van de kortingsoptie voor 2\nIn de Salsa Zaal:\nvan af 18.00 is er al heerlijke Salsa Muziek van onze TOP DJ’s\nDe gehele zaal is in de kerst sfeer en om 20.00 uur is er een spectaculair optreden van Piet Jan Blauw die niet alleen zijn eigen salsa muziek maakt maar ook zijn muziek instrumenten\nIn de Grote Zaal is er een prachtige foto booth met kerstman en kerstboom en de nodige andere deco en onze fotografe Kitty staat klaar om onvergetelijke plaatjes te schieten\nLINE UP & PROGRAMMA :\nCANTINA:\n18.00u. – 20.00u. Cubaans KerstMENU\n18.00u. – 21.00u. Romantic Latin Party\n21.00u. – 24.00u. Latin Christmas Mix party\nSALSA ZAAL:\n18.00u. – 20.00u. Salsa Party\n20.00u. – 20.45u. Electric Salsa van Piet Jan Blauw\n21.00u. – 23.00u. SALSA AROUND THE WORLD\n23.00u – 24.00u. Latin Mix Party\nENTREE:\nOnline\nDiner & Party 25\,00\nDiner & Party for 2 40\,00\nParty Only 10\,00\nDEUR 15.00\n\n* Gratis Parkeren\n* Garderobe aanwezig\n* Kerst decoraties\n* Catering\n* Cocktail Bar\n* Vuurkorven en verwarmd terras\n* Kerst stal Photobooth\nIN DE MAAND DECEMBER ALLEEN OP 11 & 18 DECEMBER EEN LATIN SUNDAY\nIVM SINTERKLAAS & KERST\nDe Jungle\nWandelweg 12 A\nWormerveer\n(direct achter het station)\nINFO & RESERVEREN 0654636922
URL:https://dejungle.events/event/latin-sunday-in-de-jungle-christmas-diner/
LOCATION:de Jungle\, Wandelweg 12\, Wormerveer\, Noord-Holland\, 1521 HK\, Nederland
ATTACH;FMTTYPE=image/jpeg:https://dejungle.events/wp-content/uploads/2022/12/18dec2022.jpg
END:VEVENT
END:VCALENDAR