BEGIN:VCALENDAR
VERSION:2.0
PRODID:-//De Jungle - ECPv6.15.20//NONSGML v1.0//EN
CALSCALE:GREGORIAN
METHOD:PUBLISH
X-ORIGINAL-URL:https://dejungle.events
X-WR-CALDESC:Evenementen voor De Jungle
REFRESH-INTERVAL;VALUE=DURATION:PT1H
X-Robots-Tag:noindex
X-PUBLISHED-TTL:PT1H
BEGIN:VTIMEZONE
TZID:Europe/Amsterdam
BEGIN:DAYLIGHT
TZOFFSETFROM:+0100
TZOFFSETTO:+0200
TZNAME:CEST
DTSTART:20230326T010000
END:DAYLIGHT
BEGIN:STANDARD
TZOFFSETFROM:+0200
TZOFFSETTO:+0100
TZNAME:CET
DTSTART:20231029T010000
END:STANDARD
BEGIN:DAYLIGHT
TZOFFSETFROM:+0100
TZOFFSETTO:+0200
TZNAME:CEST
DTSTART:20240331T010000
END:DAYLIGHT
BEGIN:STANDARD
TZOFFSETFROM:+0200
TZOFFSETTO:+0100
TZNAME:CET
DTSTART:20241027T010000
END:STANDARD
BEGIN:DAYLIGHT
TZOFFSETFROM:+0100
TZOFFSETTO:+0200
TZNAME:CEST
DTSTART:20250330T010000
END:DAYLIGHT
BEGIN:STANDARD
TZOFFSETFROM:+0200
TZOFFSETTO:+0100
TZNAME:CET
DTSTART:20251026T010000
END:STANDARD
END:VTIMEZONE
BEGIN:VEVENT
DTSTART;TZID=Europe/Amsterdam:20240608T140000
DTEND;TZID=Europe/Amsterdam:20240608T235900
DTSTAMP:20260421T163536
CREATED:20240604T134452Z
LAST-MODIFIED:20240604T134452Z
UID:4592-1717855200-1717891140@dejungle.events
SUMMARY:IN DE TUIN `WIJ HEBBEN WAT TE VIEREN`
DESCRIPTION:De derde editie van IN DE TUIN `WIJ HEBBEN WAT TE VIEREN` Zaterdag 8 juni. En wij trakteren jullie op 10 uur lang heerlijke melodic en progressive beats.\nLine up: Miss Dominguez\, Sanne S\, Clay van Dijk\, Bass van Duijn \, Anthony Rhino\, G.A.B.Y.\, Daniel Testas\, T-Gray\nBij mooi goed weer draaien we lekker in de tuin. En als het te koud wordt schuiven we door naar binnen. Er is en bar en foodcorner aanwezig waar je kunt betalen met pin of contant.\nDe locatie is 400 meter gelegen van het NS Station Wormerveer hier is een ruime gratis parkeergelegenheid. Bij het NS Station neem je het voetgangers tunneltje richting de sportvelden. Aan je rechterhand zie je als eerste De Jungle.\nDe Laatste trein vanaf NS Wormerveer vertrekt om 23:57 en 00:47 naar Amsterdam Centraal.
URL:https://dejungle.events/event/in-de-tuin-wij-hebben-wat-te-vieren/
LOCATION:de Jungle\, Wandelweg 12\, Wormerveer\, Noord-Holland\, 1521 HK\, Nederland
ATTACH;FMTTYPE=image/jpeg:https://dejungle.events/wp-content/uploads/2024/06/8jun.jpg
END:VEVENT
BEGIN:VEVENT
DTSTART;TZID=Europe/Amsterdam:20240609T190000
DTEND;TZID=Europe/Amsterdam:20240609T230000
DTSTAMP:20260421T163536
CREATED:20240604T140123Z
LAST-MODIFIED:20240604T140123Z
UID:4595-1717959600-1717974000@dejungle.events
SUMMARY:Latin Sunday in de Jungle (3 Area's)
DESCRIPTION:Latin Sunday in de Jungle – Sunday (3 Area’s)\n1. JUNGLE CANTINA: Mix2. JUNGLE ROOM: Bachata3. JUNGLE OUTSIDE: Salsa\n19.00 – 23.00+ DJ El Che – DJ Billy – DJ Mulato ———————————————\nEerder op de dag zijn er lessen van Dansschool Latin Jungle meer info op www.latinjungle.nl\nKeuken is open v.a. 17.00 met heerlijke Plate service via onze QR codes op de tafels te bestellen.\nV.V.K. € 7\,50Deur: € 10\,-Indien er een workshop is: + € 5\,- extra\nTicketlink:\nhttps://eventix.shop/mswqa8q3\nDe JungleWandelweg 12AWormerveer (direct achter het station)meer INFO of Tafeltje reserveren: 0654636922
URL:https://dejungle.events/event/latin-sunday-in-de-jungle-3-areas/
LOCATION:de Jungle\, Wandelweg 12\, Wormerveer\, Noord-Holland\, 1521 HK\, Nederland
ATTACH;FMTTYPE=image/jpeg:https://dejungle.events/wp-content/uploads/2024/06/9jun.jpg
END:VEVENT
BEGIN:VEVENT
DTSTART;TZID=Europe/Amsterdam:20240622T130000
DTEND;TZID=Europe/Amsterdam:20240622T220000
DTSTAMP:20260421T163536
CREATED:20240514T185425Z
LAST-MODIFIED:20240604T140456Z
UID:4551-1719061200-1719093600@dejungle.events
SUMMARY:JAPAN & KOREAN FOOD FESTIVAL
DESCRIPTION:JAPAN & KOREAN FOOD FESTIVAL – Wormerveer >>  AGENDA! Tickets >> https://shops.link2ticket.nl/12QuEm Do we need to say more?? WIN WIN  Klik op ‘Geïnteresseerd’ Japan & Korean Food Festival\nOmgeving Amsterdam en maak maak kans op 4x GRATIS KOREAN BBQ! OUTDOOR event <> Secret locationJapan & Korean Food Festival:What’s new??? K-POP Silent disco !!!!!! Sushi & Ramen creaties  Japanese live acts Korean Food creaties Tijden:13:00 – 22:0013:00 – 22:00———————— More info soon!Participeren ? sponsor\, standhouders:Contact: info@sushi-festival.com
URL:https://dejungle.events/event/japan-korean-food-festival/
LOCATION:de Jungle\, Wandelweg 12\, Wormerveer\, Noord-Holland\, 1521 HK\, Nederland
ATTACH;FMTTYPE=image/jpeg:https://dejungle.events/wp-content/uploads/2024/05/2206.jpg
END:VEVENT
BEGIN:VEVENT
DTSTART;TZID=Europe/Amsterdam:20240623T130000
DTEND;TZID=Europe/Amsterdam:20240623T220000
DTSTAMP:20260421T163536
CREATED:20240618T143754Z
LAST-MODIFIED:20240618T143754Z
UID:4633-1719147600-1719180000@dejungle.events
SUMMARY:JAPAN & KOREAN FOOD FESTIVAL
DESCRIPTION:JAPAN & KOREAN FOOD FESTIVAL – Wormerveer >>  AGENDA! Tickets >> https://shops.link2ticket.nl/12QuEm Do we need to say more?? WIN WIN  Klik op ‘Geïnteresseerd’ Japan & Korean Food Festival\nOmgeving Amsterdam en maak maak kans op 4x GRATIS KOREAN BBQ! OUTDOOR event <> Secret locationJapan & Korean Food Festival:What’s new??? K-POP Silent disco !!!!!! Sushi & Ramen creaties  Japanese live acts Korean Food creaties Tijden:13:00 – 22:0013:00 – 22:00———————— More info soon!Participeren ? sponsor\, standhouders:Contact: info@sushi-festival.com
URL:https://dejungle.events/event/japan-korean-food-festival-2/
LOCATION:de Jungle\, Wandelweg 12\, Wormerveer\, Noord-Holland\, 1521 HK\, Nederland
ATTACH;FMTTYPE=image/jpeg:https://dejungle.events/wp-content/uploads/2024/05/2206.jpg
END:VEVENT
BEGIN:VEVENT
DTSTART;TZID=Europe/Amsterdam:20240623T190000
DTEND;TZID=Europe/Amsterdam:20240623T230000
DTSTAMP:20260421T163536
CREATED:20240618T152232Z
LAST-MODIFIED:20240618T152232Z
UID:4635-1719169200-1719183600@dejungle.events
SUMMARY:Latin Sunday in de Jungle - Sunday (3 Area's)
DESCRIPTION:1. JUNGLE CANTINA: Mix2. JUNGLE ROOM: Bachata3. JUNGLE OUTSIDE: Salsa\nLet op: Latin Sunday is in combinatie met Japan & Korea Food Festival!\n(Aantal area’s wordt bepaald door het weer en aantal mensen)(Bij regen alleen 2 area’s binnen)\n19.00 – 23.00+ ———————————————\nEerder op de dag zijn er lessen van Dansschool Latin Jungle meer info op www.latinjungle.nl\nKeuken is open v.a. 17.00 met heerlijke Plate service via onze QR codes op de tafels te bestellen.\nV.V.K. € 7\,50Deur: € 10\,-Indien er een workshop is: + € 5\,- extra\nTicketlink:\nhttps://eventix.shop/mswqa8q3\nDe JungleWandelweg 12AWormerveer (direct achter het station)meer INFO of Tafeltje reserveren: 0654636922
URL:https://dejungle.events/event/latin-sunday-in-de-jungle-sunday-3-areas/
LOCATION:de Jungle\, Wandelweg 12\, Wormerveer\, Noord-Holland\, 1521 HK\, Nederland
ATTACH;FMTTYPE=image/jpeg:https://dejungle.events/wp-content/uploads/2024/06/23jun24.jpg
END:VEVENT
END:VCALENDAR