BEGIN:VCALENDAR
VERSION:2.0
PRODID:-//De Jungle - ECPv6.15.20//NONSGML v1.0//EN
CALSCALE:GREGORIAN
METHOD:PUBLISH
X-WR-CALNAME:De Jungle
X-ORIGINAL-URL:https://dejungle.events
X-WR-CALDESC:Evenementen voor De Jungle
REFRESH-INTERVAL;VALUE=DURATION:PT1H
X-Robots-Tag:noindex
X-PUBLISHED-TTL:PT1H
BEGIN:VTIMEZONE
TZID:Europe/Amsterdam
BEGIN:DAYLIGHT
TZOFFSETFROM:+0100
TZOFFSETTO:+0200
TZNAME:CEST
DTSTART:20230326T010000
END:DAYLIGHT
BEGIN:STANDARD
TZOFFSETFROM:+0200
TZOFFSETTO:+0100
TZNAME:CET
DTSTART:20231029T010000
END:STANDARD
BEGIN:DAYLIGHT
TZOFFSETFROM:+0100
TZOFFSETTO:+0200
TZNAME:CEST
DTSTART:20240331T010000
END:DAYLIGHT
BEGIN:STANDARD
TZOFFSETFROM:+0200
TZOFFSETTO:+0100
TZNAME:CET
DTSTART:20241027T010000
END:STANDARD
BEGIN:DAYLIGHT
TZOFFSETFROM:+0100
TZOFFSETTO:+0200
TZNAME:CEST
DTSTART:20250330T010000
END:DAYLIGHT
BEGIN:STANDARD
TZOFFSETFROM:+0200
TZOFFSETTO:+0100
TZNAME:CET
DTSTART:20251026T010000
END:STANDARD
END:VTIMEZONE
BEGIN:VEVENT
DTSTART;TZID=Europe/Amsterdam:20240901T170000
DTEND;TZID=Europe/Amsterdam:20240901T234500
DTSTAMP:20260421T215147
CREATED:20240823T154635Z
LAST-MODIFIED:20240823T200625Z
UID:4800-1725210000-1725234300@dejungle.events
SUMMARY:Latin Sunday in de Jungle met Latin Band: Septeto Trio Los Dos
DESCRIPTION:Latin Sunday in de Jungle vanaf 17.00uur.\nLIVE in de grote zaal LATIN BAND : SEPTETO TRIO LOS DOS\nLekker binnen & buiten dansen bij mooi weermet onze huis DJ’s en Gast DJ’s\nAREA 1 : SALSA PARTYAREA 2 : BACHATA PARTYAREA 3 : BUITEN DANSEN MET EEN LATIN MIX17.00 – 23.45\nDe Jungle Tuin is al open vanaf 11.00 om heerlijk te chillen en te lunchen.Er zijn gratis spelletjes en activiteiten en vanaf 17.00 beginnen we met live DJ’s op de buiten dansvloerDJ El Che & Gast Deejays———————————————vanaf 17.00 LEKKER ETEN in de FOODTRUCK op het strand ! Audrey van Moro Swietie maakt heerlijke gerechtjes in de Foodtruck.\nENTREE 10\,00TICKETS AAN DE POORTTOT 18.00 GRATIS ENTREE\nDe JungleWandelweg 12AWormerveer (direct achter het station)meer INFO of Tafeltje reserveren: 0654636922
URL:https://dejungle.events/event/latin-sunday-in-de-jungle-met-latin-band-septeto-trio-los-dos/
LOCATION:de Jungle\, Wandelweg 12\, Wormerveer\, Noord-Holland\, 1521 HK\, Nederland
ATTACH;FMTTYPE=image/jpeg:https://dejungle.events/wp-content/uploads/2024/08/sep01.jpg
END:VEVENT
BEGIN:VEVENT
DTSTART;TZID=Europe/Amsterdam:20240908T160000
DTEND;TZID=Europe/Amsterdam:20240908T230000
DTSTAMP:20260421T215147
CREATED:20240816T182208Z
LAST-MODIFIED:20240816T182208Z
UID:4789-1725811200-1725836400@dejungle.events
SUMMARY:Open dag: Bachata Cursus met Gratis Bachata Workshops
DESCRIPTION:Kom kennis maken met deze gezellige Bachata danscursus\nDe Jungle Tuin is al open van af 12.00uur voor een lunch en leuke spelletjes voor jong & oud.Er zijn springkussens voor de kleintjes.\nVan af 13.00uur zijn er Live DJ’s in de Jungle Tuin en kan er gedanst worden op de Latin hits op gebied van Salsa\, Merenque\, Bachata & more.\nOm 16.30uur geven Melany & Ivan een WORKSHOP Bachata voor beginners & improvers.Om 17.30uur geven Melany & Ivan een WORKSHOP Bachata voor Intermediate & advanced\nDeelname is gratis maar opgeven is een must ivm. beperkte plaatsen. opgeven ; Melany van Steen (06 43880112)vol = vol\nBij mooi weer is de workshop buiten anders in de grote zaal.\nmeer info over de danscursussen : www.latinjungle.nl
URL:https://dejungle.events/event/open-dag-bachata-cursus-met-gratis-bachata-workshops/
LOCATION:de Jungle\, Wandelweg 12\, Wormerveer\, Noord-Holland\, 1521 HK\, Nederland
ATTACH;FMTTYPE=image/jpeg:https://dejungle.events/wp-content/uploads/2024/08/8sep.jpg
END:VEVENT
BEGIN:VEVENT
DTSTART;TZID=Europe/Amsterdam:20240914T130000
DTEND;TZID=Europe/Amsterdam:20240914T210000
DTSTAMP:20260421T215147
CREATED:20240730T154757Z
LAST-MODIFIED:20240730T154757Z
UID:4747-1726318800-1726347600@dejungle.events
SUMMARY:Japan & Korea Food Festival
DESCRIPTION:JAPAN & KOREAN FOOD + BEACH FESTIVAL >>> WIN-WIN-WIN > Deel dit evenement + nodig je vrienden uit & WIN heerlijke HAPJES! ** speciale editie ** >\nEen Japans & Koreaans Beach + Food Festival + K-POP > Met heerlijke terrasjes op een stadsstrand\, leuke activiteiten\, live entertainment\, overdekte ruimtes\, karaoke area\, arcade\, opblaas elementen\, strand voetbal veld\, schmink\, kimono’s en meer!\nWaan je voor even weg in het mooie Japan & Korea met het heerlijke eten en drinken wat daarbij hoort!\nTwee dagen lang wordt er een mooie locatie in Noord-Holland omgetoverd tot exotisch paradijs waar je onder andere weer kunt genieten van Korean Fried Chicken\, Kimchi\, Takoyaki\, Sushi\, Okonomiyaki\, Gyoza en Bubble tea’s.\nEn natuurlijk zijn er behalve al het lekkers ook leuke activiteiten als karaoke\, silent disco en optredens.Wie neem jij mee dit weekend?\nLocatie: De Jungle Adres: Wandelweg 12 – tegenover stationDatum: 14.15 SeptemberOpeningstijd Zaterdag: 13.00 – 21.00Openingstijd Zondag: 13.00 – 21.00 K-POP Silent disco !!!!!! Japanese live acts Korean Food creaties Arcade – Games Karaoke————————Participeren ? sponsor\, standhouders:Contact: info@sushi-festival.com
URL:https://dejungle.events/event/japan-korea-food-festival/
LOCATION:de Jungle\, Wandelweg 12\, Wormerveer\, Noord-Holland\, 1521 HK\, Nederland
ATTACH;FMTTYPE=image/jpeg:https://dejungle.events/wp-content/uploads/2024/05/2206.jpg
END:VEVENT
BEGIN:VEVENT
DTSTART;TZID=Europe/Amsterdam:20240915T130000
DTEND;TZID=Europe/Amsterdam:20240915T210000
DTSTAMP:20260421T215147
CREATED:20240730T154919Z
LAST-MODIFIED:20240730T154919Z
UID:4749-1726405200-1726434000@dejungle.events
SUMMARY:Japan & Korea Food Festival
DESCRIPTION:JAPAN & KOREAN FOOD + BEACH FESTIVAL >>> WIN-WIN-WIN > Deel dit evenement + nodig je vrienden uit & WIN heerlijke HAPJES! ** speciale editie ** >\nEen Japans & Koreaans Beach + Food Festival + K-POP > Met heerlijke terrasjes op een stadsstrand\, leuke activiteiten\, live entertainment\, overdekte ruimtes\, karaoke area\, arcade\, opblaas elementen\, strand voetbal veld\, schmink\, kimono’s en meer!\nWaan je voor even weg in het mooie Japan & Korea met het heerlijke eten en drinken wat daarbij hoort!\nTwee dagen lang wordt er een mooie locatie in Noord-Holland omgetoverd tot exotisch paradijs waar je onder andere weer kunt genieten van Korean Fried Chicken\, Kimchi\, Takoyaki\, Sushi\, Okonomiyaki\, Gyoza en Bubble tea’s.\nEn natuurlijk zijn er behalve al het lekkers ook leuke activiteiten als karaoke\, silent disco en optredens.Wie neem jij mee dit weekend?\nLocatie: De Jungle Adres: Wandelweg 12 – tegenover stationDatum: 14.15 SeptemberOpeningstijd Zaterdag: 13.00 – 21.00Openingstijd Zondag: 13.00 – 21.00 K-POP Silent disco !!!!!! Japanese live acts Korean Food creaties Arcade – Games Karaoke————————Participeren ? sponsor\, standhouders:Contact: info@sushi-festival.com
URL:https://dejungle.events/event/japan-korea-food-festival-2/
LOCATION:de Jungle\, Wandelweg 12\, Wormerveer\, Noord-Holland\, 1521 HK\, Nederland
ATTACH;FMTTYPE=image/jpeg:https://dejungle.events/wp-content/uploads/2024/05/2206.jpg
END:VEVENT
BEGIN:VEVENT
DTSTART;TZID=Europe/Amsterdam:20240921T130000
DTEND;TZID=Europe/Amsterdam:20240922T010000
DTSTAMP:20260421T215147
CREATED:20240813T134233Z
LAST-MODIFIED:20240813T134233Z
UID:4778-1726923600-1726966800@dejungle.events
SUMMARY:PSY 2 BOLIC'S
DESCRIPTION:After the resounding success of the first edition of Psybolics\, there MUST be a second edition. On Saturday\, September 21\, we will dance together again to the delightful sounds of Psy-Trance and House music.\nThe concept remains the same with The Jungle in Wormerveer as location that offers a creative\, safe environment where you can fully enjoy the music and the community in the moment.\nWhere Psytrance meets House music!\nMore information will follow soon! —————————————————————————Na het daverende succes van de eerste editie van Psybolics MOET er een tweede editie komen. Op zaterdag 21 september dansen we weer samen op de heerlijke klanken van Psy-Trance en Housemuziek.\nHet concept blijft hetzelfde met The Jungle in Wormerveer als locatie die een creatieve\, veilige omgeving biedt waar je volop kunt genieten van de muziek en de community van het moment.\nWhere Psytrance meets House music!\nMeer informatie volgt binnenkort!
URL:https://dejungle.events/event/psy-2-bolics/
LOCATION:de Jungle\, Wandelweg 12\, Wormerveer\, Noord-Holland\, 1521 HK\, Nederland
ATTACH;FMTTYPE=image/jpeg:https://dejungle.events/wp-content/uploads/2024/08/21sep.jpg
END:VEVENT
BEGIN:VEVENT
DTSTART;TZID=Europe/Amsterdam:20240922T170000
DTEND;TZID=Europe/Amsterdam:20240922T234500
DTSTAMP:20260421T215147
CREATED:20240824T164948Z
LAST-MODIFIED:20240824T164948Z
UID:4806-1727024400-1727048700@dejungle.events
SUMMARY:Latin Sunday in de Jungle : Caribbean Edition
DESCRIPTION:Latin Sunday in de Jungle : Caribbean Edition\nGast DJ : DJ CLIFFHANGERDJ Cliffhanger draait de beste en mooiste Caribbean Party Mix\nLekker binnen & buiten dansen bij mooi weermet onze huis DJ’s en Gast DJ’s\nSalsa & Bachata & meer Buiten en Binnen(Bij regen 2 area’s binnen)AREA 1 : LATIN PARTYAREA 2 : CARIBBEAN PARTY17.00 – 23.45\nDe Jungle Tuin is al open vanaf 11.00 om heerlijk te chillen en te lunchen.VANAF 13.00 EEN HEERLIJKE LATIN PARTY MET DJ BILLY & CHE IN DE JUNGLE TUINlekker buiten dansen\nEr zijn gratis spelletjes en activiteiten en vanaf 17.00 beginnen we met live DJ’s op de buiten dansvloerDJ El Che & Gast Deejays———————————————vanaf 17.00 LEKKER ETEN in de FOODTRUCK op het strand ! Heerlijke Surinaamse gerechtjes van Moro Swietie\nDe JungleWandelweg 12AWormerveer (direct achter het station)meer INFO of Tafeltje reserveren: 0654636922
URL:https://dejungle.events/event/latin-sunday-in-de-jungle-caribbean-edition/
LOCATION:de Jungle\, Wandelweg 12\, Wormerveer\, Noord-Holland\, 1521 HK\, Nederland
ATTACH;FMTTYPE=image/jpeg:https://dejungle.events/wp-content/uploads/2024/08/22sep.jpg
END:VEVENT
BEGIN:VEVENT
DTSTART;TZID=Europe/Amsterdam:20240927T190000
DTEND;TZID=Europe/Amsterdam:20240928T010000
DTSTAMP:20260421T215147
CREATED:20240919T184452Z
LAST-MODIFIED:20240919T192354Z
UID:4848-1727463600-1727485200@dejungle.events
SUMMARY:De Latin Club Cumbia Edition
DESCRIPTION:Koop hier uw ticket!\nLekker eten\, drinken & dansen in Latin sferen met de nieuwe Latin Club !\n2 Area’s* Anahi Salas. Eerbetoon aan Selena* Nelson Salsa Mania.* Uberney Olaya. Colombiaanse Muziek.* Ivan Marin Workshop Cumbia.\nDJ’s: El Che\, Coste & BillySALSA*BACHATA*MERENQUE*CUMBIA*REGGAETON & meer\nCatering: PAISABOR\nvoorverkoop online 8\,0019.00 – 21.00 : 10\,00na 21.00 : 15\,00\n\nVenue : de Jungle Wandelweg 12A1521AG Wormerveer(direct achter het station)Gratis Parkeren
URL:https://dejungle.events/event/de-latin-club-cumbia-edition/
LOCATION:de Jungle\, Wandelweg 12\, Wormerveer\, Noord-Holland\, 1521 HK\, Nederland
ATTACH;FMTTYPE=image/jpeg:https://dejungle.events/wp-content/uploads/2024/09/cumbia.jpg
END:VEVENT
END:VCALENDAR