BEGIN:VCALENDAR
VERSION:2.0
PRODID:-//De Jungle - ECPv6.15.20//NONSGML v1.0//EN
CALSCALE:GREGORIAN
METHOD:PUBLISH
X-WR-CALNAME:De Jungle
X-ORIGINAL-URL:https://dejungle.events
X-WR-CALDESC:Evenementen voor De Jungle
REFRESH-INTERVAL;VALUE=DURATION:PT1H
X-Robots-Tag:noindex
X-PUBLISHED-TTL:PT1H
BEGIN:VTIMEZONE
TZID:Europe/Amsterdam
BEGIN:DAYLIGHT
TZOFFSETFROM:+0100
TZOFFSETTO:+0200
TZNAME:CEST
DTSTART:20230326T010000
END:DAYLIGHT
BEGIN:STANDARD
TZOFFSETFROM:+0200
TZOFFSETTO:+0100
TZNAME:CET
DTSTART:20231029T010000
END:STANDARD
BEGIN:DAYLIGHT
TZOFFSETFROM:+0100
TZOFFSETTO:+0200
TZNAME:CEST
DTSTART:20240331T010000
END:DAYLIGHT
BEGIN:STANDARD
TZOFFSETFROM:+0200
TZOFFSETTO:+0100
TZNAME:CET
DTSTART:20241027T010000
END:STANDARD
BEGIN:DAYLIGHT
TZOFFSETFROM:+0100
TZOFFSETTO:+0200
TZNAME:CEST
DTSTART:20250330T010000
END:DAYLIGHT
BEGIN:STANDARD
TZOFFSETFROM:+0200
TZOFFSETTO:+0100
TZNAME:CET
DTSTART:20251026T010000
END:STANDARD
END:VTIMEZONE
BEGIN:VEVENT
DTSTART;TZID=Europe/Amsterdam:20241006T170000
DTEND;TZID=Europe/Amsterdam:20241006T235900
DTSTAMP:20260421T232556
CREATED:20241003T132015Z
LAST-MODIFIED:20241003T132015Z
UID:4916-1728234000-1728259140@dejungle.events
SUMMARY:Latin Cafe met DJ Billy & DJ El Che
DESCRIPTION:Een heerlijke Latin Mix met DJ Billy & DJ El Che\nWe beginnen lekker vroeg om 17.00 uur met veel Salsa & Bachata In de Cantina waar ook de lekkerste gerechten verkrijgbaar zijn.Kom proeven en genieten van onze vernieuwde kaart.\nWe blijven in principe in de Cantina met een mix van Salsa\, Bachata & Merenque maar bij voldoende animo kan ook de grote zaal open.\nIn de grote zaal wordt van 16.00 tot 19.00 bachata les gegeven.\nGratis parkerenArcade GamesKaraoke RuimteLekker eten & DrinkenDe beste Salsa & Bachata hitsGratis Entree\nde JungleWandelweg 12 A (direct achter het station)Wormerveer06 54636922
URL:https://dejungle.events/event/latin-cafe-met-dj-billy-dj-el-che/
LOCATION:de Jungle\, Wandelweg 12\, Wormerveer\, Noord-Holland\, 1521 HK\, Nederland
ATTACH;FMTTYPE=image/jpeg:https://dejungle.events/wp-content/uploads/2024/10/elche6okt.jpg
END:VEVENT
BEGIN:VEVENT
DTSTART;TZID=Europe/Amsterdam:20241020T170000
DTEND;TZID=Europe/Amsterdam:20241020T235900
DTSTAMP:20260421T232556
CREATED:20241003T132445Z
LAST-MODIFIED:20241003T132715Z
UID:4919-1729443600-1729468740@dejungle.events
SUMMARY:Latin Cafe met DJ Billy & DJ El Che
DESCRIPTION:Een heerlijke Latin Mix met DJ Billy & DJ El Che\nWe beginnen lekker vroeg om 17.00 uur met veel Salsa & Bachata In de Cantina waar ook de lekkerste gerechten verkrijgbaar zijn.Kom proeven en genieten van onze vernieuwde kaart.\nWe blijven in principe in de Cantina met een mix van Salsa\, Bachata & Merenque maar bij voldoende animo kan ook de grote zaal open.\nIn de grote zaal wordt van 16.00 tot 19.00 bachata les gegeven.\nGratis parkerenArcade GamesKaraoke RuimteLekker eten & DrinkenDe beste Salsa & Bachata hitsGratis Entree\nde JungleWandelweg 12 A (direct achter het station)Wormerveer06 54636922
URL:https://dejungle.events/event/latin-cafe-met-dj-billy-dj-el-che-2/
LOCATION:de Jungle\, Wandelweg 12\, Wormerveer\, Noord-Holland\, 1521 HK\, Nederland
ATTACH;FMTTYPE=image/jpeg:https://dejungle.events/wp-content/uploads/2024/10/elche20okt.jpg
END:VEVENT
BEGIN:VEVENT
DTSTART;TZID=Europe/Amsterdam:20241025T160000
DTEND;TZID=Europe/Amsterdam:20241026T010000
DTSTAMP:20260421T232556
CREATED:20240919T185031Z
LAST-MODIFIED:20240919T185031Z
UID:4854-1729872000-1729904400@dejungle.events
SUMMARY:Mengelmoes
DESCRIPTION:Zet deze spectaculaire Kick off van het eerste MENGELMOES feestje in jou agenda.\nWij gaan op vrijdag 25 Oktober in Halloween stijl dansen op de beats van de meest toffe House Dj’sDe line up word nog bekend gemaaktwe houden dit nog even als verrassing\nDeze happening vind plaats op de mooiste locatie van de Zaanstreek de JungleWandelweg 12A\, Wormerveer\, Netherlands\, 1521AG\nEr zijn 2 binnen Area’s met wisselende DJ’s en House stijlen.1 Buiten Area met Halloween decoraties\, Scare Zone\, Foodtrucks\, Vuur plaatsen\, en meer.\nKom verkleed of zoals je bent\, alles mag niets moet.\nvan 16.00 – 18.00 GRATIS ENTREE voor alle vroege vogelsna 18.00 tickets aan de poort : 15\,00\nmeer info & line up volgt binnenkort\nWij beloven jullie een onvergetelijk mooi feestje met Good Vibes Only
URL:https://dejungle.events/event/mengelmoes/
LOCATION:de Jungle\, Wandelweg 12\, Wormerveer\, Noord-Holland\, 1521 HK\, Nederland
ATTACH;FMTTYPE=image/jpeg:https://dejungle.events/wp-content/uploads/2024/09/mengelmoes.jpg
END:VEVENT
BEGIN:VEVENT
DTSTART;TZID=Europe/Amsterdam:20241026T150000
DTEND;TZID=Europe/Amsterdam:20241027T010000
DTSTAMP:20260421T232556
CREATED:20241003T133143Z
LAST-MODIFIED:20241003T133143Z
UID:4922-1729954800-1729990800@dejungle.events
SUMMARY:Halloween Rock'n'Roll Party!
DESCRIPTION:Zet ZATERDAG 26 Oktober maar alvast in de Agenda want met Halloween wordt het feest in de Jungle\nVanaf 15.00 uur barst het los in de Jungle !Zowel buiten als binnen diverse LIVE optredens en veel te zien en te doen !\nBands in de Dancehall:* MISS BEHAVE & THE NAUGHTY BOYS* VANDERVENS* THE EIGHTBALL BOPPERS\nDJs in het Rockabilly Café:DJ HOT JUMPERDJ RONALD\nDe nodige Halloween decoraties binnen en buiten\, met de vuurkorven en de Foodtrucks zorgen voor de juiste sfeer.In de Bamboe Tuin en de Jungle Tuin wordt een spannende scare zone ingericht compleet met kerkhof\, griezels en licht en rook effecten.Doe mee met de pompoensnij wedstrijd en vergeet natuurlijk niet je engste outfit want ook daar zijn leuke prijzen mee te winnen.\nHotdog & Hamburger FoodtruckSpareribs van de BBQCocktail & Moonshine BarScary Candy ShopGriezel Zone ; The Graveyard Workshop ; Rock & Roll Basics Pompoen snijdenKleding Wedstrijd\nProgramma:15.00 – 17.00 Rock’n’Roll Café & Jungle Tuin17.00 – 19.00 Pompoen snij wedstrijd17.30 – 19.00 Food & Drinks \, Fun & Freaks19.00 – 21.45 Eightball Boppers22.15 – 01.00 Vandervens\n\nDeelname kosten aan de POORT:15.00 – 16.00 GRATIS INLOOP16.00 – 18.00 5\,00pp.v.a. 18.05 10\,00pp.\nHappy Halloween !\nde JungleWandelweg 12A1521 AG Wormerveer (direct achter het station)8ha. Buiten sport & spel activiteiten\, Restaurant\, Grand Café en festival terrein.Gratis Parkeren
URL:https://dejungle.events/event/halloween-rocknroll-party/
LOCATION:de Jungle\, Wandelweg 12\, Wormerveer\, Noord-Holland\, 1521 HK\, Nederland
ATTACH;FMTTYPE=image/jpeg:https://dejungle.events/wp-content/uploads/2024/10/halloween26okt.jpg
END:VEVENT
BEGIN:VEVENT
DTSTART;TZID=Europe/Amsterdam:20241027T170000
DTEND;TZID=Europe/Amsterdam:20241027T235900
DTSTAMP:20260421T232556
CREATED:20241003T133458Z
LAST-MODIFIED:20241003T133620Z
UID:4925-1730048400-1730073540@dejungle.events
SUMMARY:Latin Sunday - Halloween Edition
DESCRIPTION:Dit Halloween weekend veel te zien en te beleven in de Jungle.\n* Lekker eten & drinken\nHalloween Caribbean Area:DJ CliffhangerHalloween Latin Area:DJ El Che & Billy\nV.V.K. € 7\,50Deur: € 10\,-Tijd: 17.00 tot 00.00\nhttps://eventix.shop/mswqa8q3\nINDOOR:– Karaoke Gratis in Augustus– Arcade Games (gratis & munt inworp games)– Halloween thema\nVRIJ TOEGANKELIJK:– Bamboo Halloween Maze– Halloween Speelweide– Halloween terrassen\, Jungle Tuin enz\nMeer info of reserveren:de Jungle Events 06 54636922
URL:https://dejungle.events/event/latin-sunday-halloween-edition-2/
LOCATION:de Jungle\, Wandelweg 12\, Wormerveer\, Noord-Holland\, 1521 HK\, Nederland
ATTACH;FMTTYPE=image/jpeg:https://dejungle.events/wp-content/uploads/2024/10/latsun27okt.jpg
END:VEVENT
END:VCALENDAR