BEGIN:VCALENDAR
VERSION:2.0
PRODID:-//De Jungle - ECPv6.15.20//NONSGML v1.0//EN
CALSCALE:GREGORIAN
METHOD:PUBLISH
X-WR-CALNAME:De Jungle
X-ORIGINAL-URL:https://dejungle.events
X-WR-CALDESC:Evenementen voor De Jungle
REFRESH-INTERVAL;VALUE=DURATION:PT1H
X-Robots-Tag:noindex
X-PUBLISHED-TTL:PT1H
BEGIN:VTIMEZONE
TZID:Europe/Amsterdam
BEGIN:DAYLIGHT
TZOFFSETFROM:+0100
TZOFFSETTO:+0200
TZNAME:CEST
DTSTART:20230326T010000
END:DAYLIGHT
BEGIN:STANDARD
TZOFFSETFROM:+0200
TZOFFSETTO:+0100
TZNAME:CET
DTSTART:20231029T010000
END:STANDARD
BEGIN:DAYLIGHT
TZOFFSETFROM:+0100
TZOFFSETTO:+0200
TZNAME:CEST
DTSTART:20240331T010000
END:DAYLIGHT
BEGIN:STANDARD
TZOFFSETFROM:+0200
TZOFFSETTO:+0100
TZNAME:CET
DTSTART:20241027T010000
END:STANDARD
BEGIN:DAYLIGHT
TZOFFSETFROM:+0100
TZOFFSETTO:+0200
TZNAME:CEST
DTSTART:20250330T010000
END:DAYLIGHT
BEGIN:STANDARD
TZOFFSETFROM:+0200
TZOFFSETTO:+0100
TZNAME:CET
DTSTART:20251026T010000
END:STANDARD
END:VTIMEZONE
BEGIN:VEVENT
DTSTART;TZID=Europe/Amsterdam:20241116T200000
DTEND;TZID=Europe/Amsterdam:20241117T020000
DTSTAMP:20260422T011408
CREATED:20241015T132122Z
LAST-MODIFIED:20241015T132122Z
UID:4934-1731787200-1731808800@dejungle.events
SUMMARY:Caribbean Party in de Jungle - Saturday Edition
DESCRIPTION:Caribbean Party in de Jungle – Saturday Editie\nOuderwets genieten met deze Chique 25+ dynamic tropical party met de lekkerste Hits uit de Jaren 80 & 90 zoals ze vroeger werden gedraaid in ALLE BEKENDE CLUBS uit de Zaanstreek en Amsterdam\nAREA 1: 90’s classicsDJ MARCIANO\nAREA 2: Oldskool Caribbean Mix R&B Swingbeats\, Soul\, Funk\, Dance Classics\, Ballads\, enz.DJ CLIFFHANGER\nTicketlink: https://eventix.shop/mswqa8q3\n———————————————De Jungle Tuin is al open vanaf 17.00uur.De Keuken is open van 17.00 tot 24.00u met diverse heerlijke gerechten en snacks en heerlijke Plate service en een Menu vd Dag met Sate rijst\, atjar & kroepoek voor slechts 9\,50 via onze QR codes op de tafels te bestellen.\nV.V.K. € 10\,- Online € 15\,- AAN DE DEUR\n\nJungle Tuin & keuken is al open vanaf 17.00u.Start: FEEST 20.00 tot 02.00Keuken is open tot 24.00u.\nGRATIS PARKEREN BIJ STATION WORMERVEERGEMAKKELIJK TE BEREIKEN MET DE TREIN10min. van Zaandam15min. van Amsterdam Sloterdijk\nONLINE VVK 10\,00 Tickets aan de poort € 15\,00\nDe JungleWandelweg 12AWormerveer (direct achter het station)meer INFO of Tafeltje reserveren: 0654636922
URL:https://dejungle.events/event/caribbean-party-in-de-jungle-saturday-edition/
LOCATION:de Jungle\, Wandelweg 12\, Wormerveer\, Noord-Holland\, 1521 HK\, Nederland
ATTACH;FMTTYPE=image/jpeg:https://dejungle.events/wp-content/uploads/2024/10/16nov.jpg
END:VEVENT
BEGIN:VEVENT
DTSTART;TZID=Europe/Amsterdam:20241122T180000
DTEND;TZID=Europe/Amsterdam:20241122T210000
DTSTAMP:20260422T011408
CREATED:20241105T140206Z
LAST-MODIFIED:20241119T131158Z
UID:5012-1732298400-1732309200@dejungle.events
SUMMARY:Neon Jungle: Schilderen met drankjes en muziek in het donker
DESCRIPTION:Neon Jungle is een unieke schilderbeleving in een neonverlichte sfeer.Betreed een glow-in-the-dark omgeving.In het donker maak je met je kwast in de ene hand en een glas in de andere allerlei soorten kunstwerken.\nNeon Jungle verzorgt alles om je creativiteit uit te laten komen ! restaurant geopend dus lekker eten voor of na het schilderen !\n Maak je mooiste schilderij onder begeleiding  Geniet van een heerlijk drankje (bier\, wijn\, of frisdrank) terwijl je schildert. Raak geïnspireerd door het waanzinnige glow-in-the-dark-decor Swing op de muziek met je vrienden of familie.\nAlgemene informatie Duur: 60 minuten. Zorg ervoor dat je 15 min voor aanvang van je tijdslot aanwezig bent. Toegang na aanvang wordt niet toegestaan Locatie: De Jungle  Tijden: 17:00 – 18:00 uur of 19:00 – 20:00 uur Minimumleeftijd: 18+ We raden je aan om kleren aan te doen die vies mogen worden\nPrijs arrangement: Neon Jungle Introductie prijs van 39\,50 voor 32\,50Bestel nu je tickets voor Neon Jungle: Schilderen en drankjes in de Zaanstreek!
URL:https://dejungle.events/event/neon-jungle-schilderen-met-drankjes-en-muziek-in-het-donker/
LOCATION:de Jungle\, Wandelweg 12\, Wormerveer\, Noord-Holland\, 1521 HK\, Nederland
ATTACH;FMTTYPE=image/jpeg:https://dejungle.events/wp-content/uploads/2024/11/neon.jpg
END:VEVENT
BEGIN:VEVENT
DTSTART;TZID=Europe/Amsterdam:20241123T150000
DTEND;TZID=Europe/Amsterdam:20241124T010000
DTSTAMP:20260422T011408
CREATED:20240723T100027Z
LAST-MODIFIED:20240723T100219Z
UID:4730-1732374000-1732410000@dejungle.events
SUMMARY:Candyshop - Colours of Asia
DESCRIPTION:Tune-events presenteert met trots: Candyshop – Colours of Asia Hardstyle Classics Festival!\nOp 23 november transformeert De Jungle in Wormerveer tot een magische wereld vol kleur\, geluid en energie. Dit festival brengt je de beste hardstyle classics in een exotische Aziatische sfeer. Bereid je voor op een onvergetelijke nacht met spectaculaire decoraties\, verrassende acts en natuurlijk de vetste beats.\nMis deze unieke ervaring niet en laat je meeslepen door de kleurrijke vibes van Candyshop! Zorg dat je erbij bent\, want dit wordt een knalfeest dat je niet wilt missen. Tot dan in De Jungle!\nHardstyle classics\nThe colours of Asia\nTickets  nu te koop via onderstaande link\nhttps://shop.eventix.io/69ed17a0-2d32-11ed…/tickets…\nMeer info volgt later!
URL:https://dejungle.events/event/candyshop-colours-of-asia/
LOCATION:de Jungle\, Wandelweg 12\, Wormerveer\, Noord-Holland\, 1521 HK\, Nederland
ATTACH;FMTTYPE=image/jpeg:https://dejungle.events/wp-content/uploads/2024/07/candyshop.jpg
END:VEVENT
BEGIN:VEVENT
DTSTART;TZID=Europe/Amsterdam:20241124T170000
DTEND;TZID=Europe/Amsterdam:20241124T234500
DTSTAMP:20260422T011408
CREATED:20241105T141554Z
LAST-MODIFIED:20241105T141703Z
UID:5014-1732467600-1732491900@dejungle.events
SUMMARY:Latin Sunday in de Jungle Gratis Entree
DESCRIPTION:Latin Sunday in de Jungle : Latin Party\nLekker binnen dansen in 2 Area’smet onze huis DJ’s en Gast DJ’sSalsa & Bachata & meer\nAREA 1 : Bachata AREA 2 : Salsa17.00 – 23.45\nDe Jungle is al open vanaf 12.00 om heerlijk te chillen en te lunchen.vanaf 17.00 beginnen we met live DJ’s in de Cantina metDJ El Che & Billy vanaf 19.00 Gast Deejays in de grote zaal———————————————vanaf 17.00 Plate service in het restaurant met verschillende complete gerechten voor slechts 15\,00pp\nDe JungleWandelweg 12AWormerveer (direct achter het station)meer INFO of Tafeltje reserveren: 0654636922
URL:https://dejungle.events/event/latin-sunday-in-de-jungle-gratis-entree/
LOCATION:Noord-Holland
ATTACH;FMTTYPE=image/jpeg:https://dejungle.events/wp-content/uploads/2024/11/24nov.jpg
END:VEVENT
BEGIN:VEVENT
DTSTART;TZID=Europe/Amsterdam:20241129T170000
DTEND;TZID=Europe/Amsterdam:20241129T200000
DTSTAMP:20260422T011408
CREATED:20241105T142354Z
LAST-MODIFIED:20241126T125905Z
UID:5017-1732899600-1732910400@dejungle.events
SUMMARY:Neon Jungle: Schilderen met drankjes en muziek in het donker
DESCRIPTION:Koop hier je ticket\n\nNeon Jungle is een unieke schilderbeleving in een neonverlichte sfeer.Betreed een glow-in-the-dark omgeving.In het donker maak je met je kwast in de ene hand en een glas in de andere allerlei soorten kunstwerken.\nNeon Jungle verzorgt alles om je creativiteit uit te laten komen ! restaurant geopend dus lekker eten voor of na het schilderen !\n Maak je mooiste schilderij onder begeleiding  Geniet van een heerlijk drankje (bier\, wijn\, of frisdrank) terwijl je schildert. Raak geïnspireerd door het waanzinnige glow-in-the-dark-decor Swing op de muziek met je vrienden of familie.\n  \n\nAlgemene informatie Duur: 60 minuten. Zorg ervoor dat je 15 min voor aanvang van je tijdslot aanwezig bent. Toegang na aanvang wordt niet toegestaan Locatie: De Jungle  Tijden: 17:00 – 18:00 uur of 19:00 – 20:00 uur Minimumleeftijd: 18+ We raden je aan om kleren aan te doen die vies mogen worden\nPrijs arrangement: Neon Jungle Introductie prijs van 39\,50 voor 32\,50Bestel nu je tickets voor Neon Jungle: Schilderen en drankjes in de Zaanstreek!
URL:https://dejungle.events/event/neon-jungle-schilderen-met-drankjes-en-muziek-in-het-donker-2/
LOCATION:de Jungle\, Wandelweg 12\, Wormerveer\, Noord-Holland\, 1521 HK\, Nederland
ATTACH;FMTTYPE=image/jpeg:https://dejungle.events/wp-content/uploads/2024/11/neon.jpg
END:VEVENT
BEGIN:VEVENT
DTSTART;TZID=Europe/Amsterdam:20241129T190000
DTEND;TZID=Europe/Amsterdam:20241130T010000
DTSTAMP:20260422T011408
CREATED:20241112T141256Z
LAST-MODIFIED:20241112T165150Z
UID:5041-1732906800-1732928400@dejungle.events
SUMMARY:Jurk (SOS Sfeerbeheer) in de Jungle
DESCRIPTION:Jurk in de Jungle:\nA story of music\, love and Woodstock Vibes\nMet een episch muzikaal verhaal neemt JURK ons mee op reis langs de ritmes van de mooiste Jungles van de wereld.Met beats uit midden Amerika\, Zuid Amerika\, Azië\, Indonesië en Afrika tot aan de Jungle van ………… Wormerveer !Een avond vol avontuur\, opzwepende ritmes\, good food & good vibes.\nLuister & Dans op de beats van:Ruud (Jurk) SOS Sfeerbeheer (Woodstock69)Edwin (Bongo’s) Residents Woodstock69\nVisuals ; Piet Jan Blauw (Blue Zone)Sound Engineering ; Frank Pietersen (Nanaonoize)Artwork ; RobZ originals (Leipekunst)Sound System ; DJ Shop Zaandam\nDeur Open vanaf 17.00Entree aan de deur 15\,00 pp.INCLUSIEF 50% Korting voucher voor snacks of diner in het Restaurant/CaféKeuken is open tot 22.00Tafel reserveren kan via nr. : 0654636922\nChill out Music met onze huis DJ’s tot 20.00uur\nGratis parkeren
URL:https://dejungle.events/event/jurk-sos-sfeerbeheer-in-de-jungle/
LOCATION:de Jungle\, Wandelweg 12\, Wormerveer\, Noord-Holland\, 1521 HK\, Nederland
ATTACH;FMTTYPE=image/jpeg:https://dejungle.events/wp-content/uploads/2024/11/jurkdec.jpg
END:VEVENT
BEGIN:VEVENT
DTSTART;TZID=Europe/Amsterdam:20241130T150000
DTEND;TZID=Europe/Amsterdam:20241130T235900
DTSTAMP:20260422T011408
CREATED:20241022T114834Z
LAST-MODIFIED:20241105T142947Z
UID:4948-1732978800-1733011140@dejungle.events
SUMMARY:Parranda Columbiana
DESCRIPTION:Dit is een Colombiaans feest voor het hele gezin en alle nationaliteiten.* Typische Colombiaanse shows van de LATINOS UNIDOS-groep.* DJ’s: Billy – El Coste – El Che. * Er zullen veel activiteiten voor kinderen zijn\, zowel buiten als binnen het pand.* Bingo & Domino’s tot middernacht.* Colombiaans eten * Verrassingen.***Kinderen t/m 12 jaar GRATIS!!!* Voorverkoopkaarten € 10\,- https://eventix.shop/u2da7jj3* Kaarten aan de deur € 15\,-.Mis dit Latin-feest met decembermuziek en de gebruikelijke klassiekers niet.Natuurlijk zal er geen tekort zijn aan de geneugten van Colombiaans eten.\n\nhttps://www.facebook.com/share/v/9yfaEHRsvYc6wPnb/?mibextid=WC7FNe\n Esta es una fiesta Colombiana para toda la Familia y todas las NACIONALIDADES .* Shows Típicos Colombiano del Grupo LATINOS UNIDOS .* Djs: Billy – El Coste – El Che. Musica de Diciembre y Más.* Habrá muchas actividades para los niños tanto afuera como adentro del local.* Bingo & Dominó hasta las veinte horas.* Comida Colombiana * Sorpresas.*** Niños hasta doce años GRATIS !!!\n* Entradas Anticipadas € 10.-https://eventix.shop/u2da7jj3\n* Entradas en la Puerta € 15.-.No te pierdas de disfrutar esta fiesta latina con la música de diciembre y las delicias de las comidas colombianas.
URL:https://dejungle.events/event/parranda-columbiana/
LOCATION:de Jungle\, Wandelweg 12\, Wormerveer\, Noord-Holland\, 1521 HK\, Nederland
ATTACH;FMTTYPE=image/jpeg:https://dejungle.events/wp-content/uploads/2024/10/30nov24.jpg
END:VEVENT
END:VCALENDAR