BEGIN:VCALENDAR
VERSION:2.0
PRODID:-//De Jungle - ECPv6.15.20//NONSGML v1.0//EN
CALSCALE:GREGORIAN
METHOD:PUBLISH
X-ORIGINAL-URL:https://dejungle.events
X-WR-CALDESC:Evenementen voor De Jungle
REFRESH-INTERVAL;VALUE=DURATION:PT1H
X-Robots-Tag:noindex
X-PUBLISHED-TTL:PT1H
BEGIN:VTIMEZONE
TZID:Europe/Amsterdam
BEGIN:DAYLIGHT
TZOFFSETFROM:+0100
TZOFFSETTO:+0200
TZNAME:CEST
DTSTART:20230326T010000
END:DAYLIGHT
BEGIN:STANDARD
TZOFFSETFROM:+0200
TZOFFSETTO:+0100
TZNAME:CET
DTSTART:20231029T010000
END:STANDARD
BEGIN:DAYLIGHT
TZOFFSETFROM:+0100
TZOFFSETTO:+0200
TZNAME:CEST
DTSTART:20240331T010000
END:DAYLIGHT
BEGIN:STANDARD
TZOFFSETFROM:+0200
TZOFFSETTO:+0100
TZNAME:CET
DTSTART:20241027T010000
END:STANDARD
BEGIN:DAYLIGHT
TZOFFSETFROM:+0100
TZOFFSETTO:+0200
TZNAME:CEST
DTSTART:20250330T010000
END:DAYLIGHT
BEGIN:STANDARD
TZOFFSETFROM:+0200
TZOFFSETTO:+0100
TZNAME:CET
DTSTART:20251026T010000
END:STANDARD
END:VTIMEZONE
BEGIN:VEVENT
DTSTART;TZID=Europe/Amsterdam:20241201T160000
DTEND;TZID=Europe/Amsterdam:20241201T230000
DTSTAMP:20260422T025901
CREATED:20241112T135745Z
LAST-MODIFIED:20241112T135745Z
UID:5038-1733068800-1733094000@dejungle.events
SUMMARY:Rock'n'Roll Party with Wild May West on stage
DESCRIPTION:Rock’n’Roll in de Jungle 2e Editie !\nZondag 1 December is het weer tijd voor een heerlijke Rock’n’Roll middag & Avond. Samen met danscluppie VET organiseren we weer een spectaculaire show met 2 top bands en de nodige aanvullende DJs\nVanaf 16.00 uur barst het los in de Jungle !TOT 17.00UUR GRATIS ENTREE(vanaf 17.00uur 10\,00 entree aan de poort)\nBuiten branden de vuurkorven en de BBQ staat klaar voor onze heerlijke spareribs en kippen bouten.(Compleet Menu voor slechts 15\,00)Angus BurgerSpareribsKippenboutof Satémet friet & salade(andere lekkernijen via de QR codes verkrijgbaar in het restaurant/café.\nLIVE in de Dancehall:* THE LEGENDARY WILDMEN* WILD MAY WEST* DJ ROCKIN JIRI\nCocktails en Doc Collins Moonshine verkrijbaar aan de bar.tevens diverse speciaal bieren en wijnen.\nProgramma:16.00 – 17.00 Rock’n’Roll Café & Jungle Tuin17.00 – 19.00 The Legendary Wildmen19.00 – 20.00 DJ Rockin Jiry 20.00 – 22.00 Wild May West22.00 – 23.00 DJ Rockin Jiri\nTickets aan de POORT:tot 17.00 GRATIS INLOOPv.a. 17.00 10\,00pp.\nde JungleWandelweg 12A1521 AG Wormerveer (direct achter het station)8ha. Buiten sport & spel activiteiten\, Restaurant\, Grand Café en festival terrein.Gratis Parkeren
URL:https://dejungle.events/event/rocknroll-party-with-wild-may-west-on-stage/
LOCATION:de Jungle\, Wandelweg 12\, Wormerveer\, Noord-Holland\, 1521 HK\, Nederland
ATTACH;FMTTYPE=image/jpeg:https://dejungle.events/wp-content/uploads/2024/11/1dec.jpg
END:VEVENT
BEGIN:VEVENT
DTSTART;TZID=Europe/Amsterdam:20241201T170000
DTEND;TZID=Europe/Amsterdam:20241201T200000
DTSTAMP:20260422T025901
CREATED:20241112T142126Z
LAST-MODIFIED:20241112T142231Z
UID:5044-1733072400-1733083200@dejungle.events
SUMMARY:Winter Wonderland Arrangement
DESCRIPTION:Een winter wonderland arrangement in de Jungle is een unieke ervaring vol avontuur en gezelligheid.\nOmringd door het groen van de Jungle\, bedekt met een lichte winterse kou\, verandert het terrein in een sfeervolle locatie voor uw evenement met de warmte van een winterfeest.\nUw gasten ontvangen een warm welkom met een knapperend vuur.Warme dranken zoals glühwein\, warme chocolademelk en stevige winterse hapjes zorgen voor een knusse sfeer. Denk aan stoere houten tafels\, dekens om je warm te houden en sfeerverlichting die door de bomen schittert.\nDe combinatie van actie en ontspanning zorgt ervoor dat iedereen samenkomt om te genieten van het beste van de winter. De Jungle – Winter Wonderland biedt u een onvergetelijke ervaring in een avontuurlijke setting.\nWinter Wonderland Arrangement is een compleet verzorgd uitje van 3\,5 uur met onbeperkt drankarrangement\, hapjes en een Winter barbeque\nGeniet van het heerlijke malse (vegetarische) vlees en een knisperend vuurtje! Jullie drankjes zijn inbegrepen vanaf aankomst tot aan het einde van de BBQ: wijn\, bier\, fris\, koffie & thee (exclusief speciaal biertjes/sterke drank en niet tijdens de activiteiten).DIT PROGRAMMA IS INCLUSIEF:Welkomst drankjeKaraokeArcade GamesWinter BBQ deluxeOnbeperkt drankarrangement
URL:https://dejungle.events/event/winter-wonderland-arrangement/
LOCATION:de Jungle\, Wandelweg 12\, Wormerveer\, Noord-Holland\, 1521 HK\, Nederland
ATTACH;FMTTYPE=image/jpeg:https://dejungle.events/wp-content/uploads/2024/11/winterwonder.jpg
END:VEVENT
BEGIN:VEVENT
DTSTART;TZID=Europe/Amsterdam:20241207T130000
DTEND;TZID=Europe/Amsterdam:20241208T010000
DTSTAMP:20260422T025901
CREATED:20241112T162732Z
LAST-MODIFIED:20241112T163155Z
UID:5047-1733576400-1733619600@dejungle.events
SUMMARY:PsyBolic's - Pakjesavond
DESCRIPTION:On December 7th\, get ready for the 3rd edition of PsyBolics at De Jungle in Wormerveer! This unique event combines the pulsating beats of psytrance and house music\, creating an immersive musical experience in a truly alternative setting. Just a short trip from Amsterdam\, De Jungle is a creatively reimagined venue located behind Wormerveer train station\, in the Zaanstad area.\nOriginally an amateur soccer club\, *De Jungle* now serves as a dynamic artistic space with a spacious dance area and a cozy café that offers both vegetarian and non-vegetarian options\, making it perfect for a night of dancing\, food\, and drinks. With its welcoming\, offbeat vibe\, *De Jungle* is a special location for fans of electronic music looking to experience something out of the ordinary.\n\n MAIN- PSYCHEDELIC \n CIN-D b2b PSYDIE  https://www.mixcloud.com/djpsydie/psydie-psybolics/\n ELECTRIC SAMURAI  https://www.mixcloud.com/…/psychedelic-trance-mix-ii-2024/\n FITT-X  https://on.soundcloud.com/ESAvkB8WwJyS5Fse8\n J***** \n LEGION  https://www.mixcloud.com/…/legion-live-forbidden…/\n MART FADER  https://www.mixcloud.com/…/mart-fader-at-psybolics…/\n POLO  https://on.soundcloud.com/Uh39PKMwNzFFBmoL8\n\n GARDEN – HOUSE \n AROUND US  https://on.soundcloud.com/HyqEgACUFCiqqeQU7\n BAS-F  https://on.soundcloud.com/nHRqf3urK9FRK3T59\n INSTA PAULUZZ \n JELLE RICHARDS  https://on.soundcloud.com/9fY9HDqFzov5Fcgp9\n MILLA LA NOISE  https://on.soundcloud.com/1a4nriWeSkc9GXZs5\n Early bird 15\,- (16\,21 incl. fee) Regular 20\,- (21\,21 incl. fee)
URL:https://dejungle.events/event/psybolics-pakjesavond/
LOCATION:de Jungle\, Wandelweg 12\, Wormerveer\, Noord-Holland\, 1521 HK\, Nederland
ATTACH;FMTTYPE=image/jpeg:https://dejungle.events/wp-content/uploads/2024/11/7dec.jpg
END:VEVENT
BEGIN:VEVENT
DTSTART;TZID=Europe/Amsterdam:20241222T170000
DTEND;TZID=Europe/Amsterdam:20241223T010000
DTSTAMP:20260422T025901
CREATED:20241203T124828Z
LAST-MODIFIED:20241217T110442Z
UID:5090-1734886800-1734915600@dejungle.events
SUMMARY:Latin Sunday in de Jungle Special: Christmas Diner & Party
DESCRIPTION:Latin Sunday in de Jungle Special ; Christmas Diner & Party\nvanaf 17.00uur2 Area’s * Top DJ’s* Kerst Diner* Workshops* Optredens* Photobooth\n\nENTREE:OnlineDiner & Party 29\,00ppParty Only 12\,50DEUR 15\,00\n* Gratis Parkeren* Garderobe aanwezig* Kerst decoraties* Catering* Cocktail Bar* Vuurkorven en verwarmd terras* Kerst stal Photobooth\n\nIN DE MAAND DECEMBER ALLEEN OP 22 DECEMBER EEN LATIN SUNDAY\nDe JungleWandelweg 12 AWormerveer(direct achter het station)INFO & RESERVEREN 0654636922
URL:https://dejungle.events/event/latin-sunday-in-de-jungle-special-christmas-diner-party/
LOCATION:de Jungle\, Wandelweg 12\, Wormerveer\, Noord-Holland\, 1521 HK\, Nederland
ATTACH;FMTTYPE=image/jpeg:https://dejungle.events/wp-content/uploads/2024/12/kerstindejungle.jpg
END:VEVENT
BEGIN:VEVENT
DTSTART;TZID=Europe/Amsterdam:20241227T180000
DTEND;TZID=Europe/Amsterdam:20241227T230000
DTSTAMP:20260422T025901
CREATED:20241217T110952Z
LAST-MODIFIED:20241217T110952Z
UID:5122-1735322400-1735340400@dejungle.events
SUMMARY:Karaoke Dinner Night
DESCRIPTION:Lekker eten & drinken\, gezelligheid met vrienden\, collega’s of familie en ondertussen lekker zingen of mee zingen !\nVrijdag 27 december a.s. willen wij graag een compleet nieuw KARAOKE systeem testen.Onder het genot van lekker eten en drinken kan er met onze host en huis DJ gezongen worden.\nMet de QR code op elke diner tafel kies je uit 23000 karaoke nummers verdeeld in meer dan 25 categorieën jouw favoriete meezingers.Terwijl er gezongen wordt geef jij d.m.v. de verschillende emoticons aan wat je er van vindt en ondertussen klik je op het nummer wat je zelf graag wilt laten horen.\nOndertussen wordt je lekker aan tafel bedient met een drankje en een compleet 3 gangen menu.Er zijn tafeltjes voor 2\, 4\, 6\, of groepen van meer personen.Midden in het restaurant een klein podium met microfoons en onze host die het geheel vlekkeloos laat verlopen.\nTenminste dat hopen we ….Het systeem is inmiddels getest maar nu willen we graag uitpakken om ook promo materiaal te kunnen maken.\nBij genoeg animo kunnen we de Karaoke Dinner Night in het nieuwe jaar regelmatig organiseren maar we willen het concept ook graag aanbieden in de toekomst als extra activiteit voor bedrijven\, verjaardagen\, feesten en andere groepen.\nWe denken aan een toekomstige prijs van 35\,00 pp maar omdat we natuurlijk even willen testen : alleen op vrijdag 27 dec. slechts 20 pp (3 gangen keuze menu +Karaoke en feest) excl. drankjes\nReserveren kan telefonisch via Rob nr. 0621174228
URL:https://dejungle.events/event/karaoke-dinner-night/
LOCATION:de Jungle\, Wandelweg 12\, Wormerveer\, Noord-Holland\, 1521 HK\, Nederland
ATTACH;FMTTYPE=image/jpeg:https://dejungle.events/wp-content/uploads/2024/12/27dec.jpg
END:VEVENT
BEGIN:VEVENT
DTSTART;TZID=Europe/Amsterdam:20241228T180000
DTEND;TZID=Europe/Amsterdam:20241229T010000
DTSTAMP:20260422T025901
CREATED:20241217T111605Z
LAST-MODIFIED:20241217T111605Z
UID:5125-1735408800-1735434000@dejungle.events
SUMMARY:PARTY LOVERS - DISCO DANCE - GLITTER & GLAMOUR - BEST OF 80's 90's 00's
DESCRIPTION:PARTY LOVERS – Glitter & Glamour Edition ! Let’s celebrate together and have fun on 28 December 2024 in 2 artistically decorated\, joyful and colorful ambiance areas @ De Jungle.\nDress to impress code: choose one or a combination of Glitter & Glamour\, Retro\, VIP-celebrity\, 80’s & 90’s\, bright colors\, bling-bling\, hot & sexy.\nAt mid-night we offer a nice surprise gift for the best dressed person or couple!\nBig area: Disco Dance Hits of 80’s 90’s 00’s. Feel the rhythms of the lovely melodies of the golden times.\nGrand Cafe Restaurant – Dinner Arrangement\, chill-out\, enjoy a large variety of delicious drinks\, make new friends\, hugs & romantic dancing on heart-warming blues music.\n28 December 202418.00 – 01.00Entrance party 15\,- euroDinner & party 30\,- euroFree parkingBig dance hall\, Grand Restaurant & Bar500 party people capacityWarm TerracePhoto boothProfessional party picturesGarderobe with party clothing & dress-code decorationsChristmas & New Year decorationsDe Jungle\, Wandelweg 12A Wormerveer\, NL
URL:https://dejungle.events/event/party-lovers-disco-dance-glitter-glamour-best-of-80s-90s-00s/
LOCATION:de Jungle\, Wandelweg 12\, Wormerveer\, Noord-Holland\, 1521 HK\, Nederland
ATTACH;FMTTYPE=image/jpeg:https://dejungle.events/wp-content/uploads/2024/12/28dec.jpg
END:VEVENT
END:VCALENDAR